BEGIN:VCALENDAR
VERSION:2.0
PRODID:-//Gold Ranch Casino Dayton - ECPv6.15.18//NONSGML v1.0//EN
CALSCALE:GREGORIAN
METHOD:PUBLISH
X-WR-CALNAME:Gold Ranch Casino Dayton
X-ORIGINAL-URL:https://goldranchdayton.com
X-WR-CALDESC:Events for Gold Ranch Casino Dayton
REFRESH-INTERVAL;VALUE=DURATION:PT1H
X-Robots-Tag:noindex
X-PUBLISHED-TTL:PT1H
BEGIN:VTIMEZONE
TZID:America/Los_Angeles
BEGIN:DAYLIGHT
TZOFFSETFROM:-0800
TZOFFSETTO:-0700
TZNAME:PDT
DTSTART:20230312T100000
END:DAYLIGHT
BEGIN:STANDARD
TZOFFSETFROM:-0700
TZOFFSETTO:-0800
TZNAME:PST
DTSTART:20231105T090000
END:STANDARD
BEGIN:DAYLIGHT
TZOFFSETFROM:-0800
TZOFFSETTO:-0700
TZNAME:PDT
DTSTART:20240310T100000
END:DAYLIGHT
BEGIN:STANDARD
TZOFFSETFROM:-0700
TZOFFSETTO:-0800
TZNAME:PST
DTSTART:20241103T090000
END:STANDARD
BEGIN:DAYLIGHT
TZOFFSETFROM:-0800
TZOFFSETTO:-0700
TZNAME:PDT
DTSTART:20250309T100000
END:DAYLIGHT
BEGIN:STANDARD
TZOFFSETFROM:-0700
TZOFFSETTO:-0800
TZNAME:PST
DTSTART:20251102T090000
END:STANDARD
END:VTIMEZONE
BEGIN:VEVENT
DTSTART;TZID=America/Los_Angeles:20241101T080000
DTEND;TZID=America/Los_Angeles:20241101T200000
DTSTAMP:20260421T112126
CREATED:20241029T185148Z
LAST-MODIFIED:20241029T185148Z
UID:21098-1730448000-1730491200@goldranchdayton.com
SUMMARY:Pumpkin Pie
DESCRIPTION:Served daily for only $5.99!
URL:https://goldranchdayton.com/event/pumpkin-pie-2/
CATEGORIES:Dining
ATTACH;FMTTYPE=image/jpeg:https://goldranchdayton.com/wp-content/uploads/2024/10/2024-11-GRD-Pumpkin-Pie-600x402-1.jpg
END:VEVENT
BEGIN:VEVENT
DTSTART;TZID=America/Los_Angeles:20241101T080000
DTEND;TZID=America/Los_Angeles:20241101T200000
DTSTAMP:20260421T112126
CREATED:20241029T185249Z
LAST-MODIFIED:20241029T185249Z
UID:21102-1730448000-1730491200@goldranchdayton.com
SUMMARY:Alfredo Pasta
DESCRIPTION:Served daily for only $12.99!
URL:https://goldranchdayton.com/event/alfredo-pasta/
CATEGORIES:Dining
ATTACH;FMTTYPE=image/jpeg:https://goldranchdayton.com/wp-content/uploads/2024/10/2024-11GRD-Pasta-Alfredo-600x402-1.jpg
END:VEVENT
BEGIN:VEVENT
DTSTART;TZID=America/Los_Angeles:20241101T080000
DTEND;TZID=America/Los_Angeles:20241101T200000
DTSTAMP:20260421T112126
CREATED:20241029T185148Z
LAST-MODIFIED:20241029T185148Z
UID:21098-1730448000-1730491200@goldranchdayton.com
SUMMARY:Pumpkin Pie
DESCRIPTION:Served daily for only $5.99!
URL:https://goldranchdayton.com/event/pumpkin-pie-2/
CATEGORIES:Dining
ATTACH;FMTTYPE=image/jpeg:https://goldranchdayton.com/wp-content/uploads/2024/10/2024-11-GRD-Pumpkin-Pie-600x402-1.jpg
END:VEVENT
BEGIN:VEVENT
DTSTART;TZID=America/Los_Angeles:20241101T080000
DTEND;TZID=America/Los_Angeles:20241101T200000
DTSTAMP:20260421T112126
CREATED:20241029T185249Z
LAST-MODIFIED:20241029T185249Z
UID:21102-1730448000-1730491200@goldranchdayton.com
SUMMARY:Alfredo Pasta
DESCRIPTION:Served daily for only $12.99!
URL:https://goldranchdayton.com/event/alfredo-pasta/
CATEGORIES:Dining
ATTACH;FMTTYPE=image/jpeg:https://goldranchdayton.com/wp-content/uploads/2024/10/2024-11GRD-Pasta-Alfredo-600x402-1.jpg
END:VEVENT
BEGIN:VEVENT
DTSTART;TZID=America/Los_Angeles:20241101T080000
DTEND;TZID=America/Los_Angeles:20241101T200000
DTSTAMP:20260421T112126
CREATED:20241029T185148Z
LAST-MODIFIED:20241029T185148Z
UID:21098-1730448000-1730491200@goldranchdayton.com
SUMMARY:Pumpkin Pie
DESCRIPTION:Served daily for only $5.99!
URL:https://goldranchdayton.com/event/pumpkin-pie-2/
CATEGORIES:Dining
ATTACH;FMTTYPE=image/jpeg:https://goldranchdayton.com/wp-content/uploads/2024/10/2024-11-GRD-Pumpkin-Pie-600x402-1.jpg
END:VEVENT
BEGIN:VEVENT
DTSTART;TZID=America/Los_Angeles:20241101T080000
DTEND;TZID=America/Los_Angeles:20241101T200000
DTSTAMP:20260421T112126
CREATED:20241029T185249Z
LAST-MODIFIED:20241029T185249Z
UID:21102-1730448000-1730491200@goldranchdayton.com
SUMMARY:Alfredo Pasta
DESCRIPTION:Served daily for only $12.99!
URL:https://goldranchdayton.com/event/alfredo-pasta/
CATEGORIES:Dining
ATTACH;FMTTYPE=image/jpeg:https://goldranchdayton.com/wp-content/uploads/2024/10/2024-11GRD-Pasta-Alfredo-600x402-1.jpg
END:VEVENT
BEGIN:VEVENT
DTSTART;TZID=America/Los_Angeles:20241101T080000
DTEND;TZID=America/Los_Angeles:20241101T200000
DTSTAMP:20260421T112126
CREATED:20241029T185148Z
LAST-MODIFIED:20241029T185148Z
UID:21098-1730448000-1730491200@goldranchdayton.com
SUMMARY:Pumpkin Pie
DESCRIPTION:Served daily for only $5.99!
URL:https://goldranchdayton.com/event/pumpkin-pie-2/
CATEGORIES:Dining
ATTACH;FMTTYPE=image/jpeg:https://goldranchdayton.com/wp-content/uploads/2024/10/2024-11-GRD-Pumpkin-Pie-600x402-1.jpg
END:VEVENT
BEGIN:VEVENT
DTSTART;TZID=America/Los_Angeles:20241101T080000
DTEND;TZID=America/Los_Angeles:20241101T200000
DTSTAMP:20260421T112126
CREATED:20241029T185249Z
LAST-MODIFIED:20241029T185249Z
UID:21102-1730448000-1730491200@goldranchdayton.com
SUMMARY:Alfredo Pasta
DESCRIPTION:Served daily for only $12.99!
URL:https://goldranchdayton.com/event/alfredo-pasta/
CATEGORIES:Dining
ATTACH;FMTTYPE=image/jpeg:https://goldranchdayton.com/wp-content/uploads/2024/10/2024-11GRD-Pasta-Alfredo-600x402-1.jpg
END:VEVENT
BEGIN:VEVENT
DTSTART;TZID=America/Los_Angeles:20241101T080000
DTEND;TZID=America/Los_Angeles:20241101T200000
DTSTAMP:20260421T112126
CREATED:20241029T185148Z
LAST-MODIFIED:20241029T185148Z
UID:21098-1730448000-1730491200@goldranchdayton.com
SUMMARY:Pumpkin Pie
DESCRIPTION:Served daily for only $5.99!
URL:https://goldranchdayton.com/event/pumpkin-pie-2/
CATEGORIES:Dining
ATTACH;FMTTYPE=image/jpeg:https://goldranchdayton.com/wp-content/uploads/2024/10/2024-11-GRD-Pumpkin-Pie-600x402-1.jpg
END:VEVENT
BEGIN:VEVENT
DTSTART;TZID=America/Los_Angeles:20241101T080000
DTEND;TZID=America/Los_Angeles:20241101T200000
DTSTAMP:20260421T112126
CREATED:20241029T185249Z
LAST-MODIFIED:20241029T185249Z
UID:21102-1730448000-1730491200@goldranchdayton.com
SUMMARY:Alfredo Pasta
DESCRIPTION:Served daily for only $12.99!
URL:https://goldranchdayton.com/event/alfredo-pasta/
CATEGORIES:Dining
ATTACH;FMTTYPE=image/jpeg:https://goldranchdayton.com/wp-content/uploads/2024/10/2024-11GRD-Pasta-Alfredo-600x402-1.jpg
END:VEVENT
BEGIN:VEVENT
DTSTART;TZID=America/Los_Angeles:20241101T080000
DTEND;TZID=America/Los_Angeles:20241101T200000
DTSTAMP:20260421T112126
CREATED:20241029T185148Z
LAST-MODIFIED:20241029T185148Z
UID:21098-1730448000-1730491200@goldranchdayton.com
SUMMARY:Pumpkin Pie
DESCRIPTION:Served daily for only $5.99!
URL:https://goldranchdayton.com/event/pumpkin-pie-2/
CATEGORIES:Dining
ATTACH;FMTTYPE=image/jpeg:https://goldranchdayton.com/wp-content/uploads/2024/10/2024-11-GRD-Pumpkin-Pie-600x402-1.jpg
END:VEVENT
BEGIN:VEVENT
DTSTART;TZID=America/Los_Angeles:20241101T080000
DTEND;TZID=America/Los_Angeles:20241101T200000
DTSTAMP:20260421T112126
CREATED:20241029T185249Z
LAST-MODIFIED:20241029T185249Z
UID:21102-1730448000-1730491200@goldranchdayton.com
SUMMARY:Alfredo Pasta
DESCRIPTION:Served daily for only $12.99!
URL:https://goldranchdayton.com/event/alfredo-pasta/
CATEGORIES:Dining
ATTACH;FMTTYPE=image/jpeg:https://goldranchdayton.com/wp-content/uploads/2024/10/2024-11GRD-Pasta-Alfredo-600x402-1.jpg
END:VEVENT
BEGIN:VEVENT
DTSTART;TZID=America/Los_Angeles:20241101T080000
DTEND;TZID=America/Los_Angeles:20241101T200000
DTSTAMP:20260421T112126
CREATED:20241029T185148Z
LAST-MODIFIED:20241029T185148Z
UID:21098-1730448000-1730491200@goldranchdayton.com
SUMMARY:Pumpkin Pie
DESCRIPTION:Served daily for only $5.99!
URL:https://goldranchdayton.com/event/pumpkin-pie-2/
CATEGORIES:Dining
ATTACH;FMTTYPE=image/jpeg:https://goldranchdayton.com/wp-content/uploads/2024/10/2024-11-GRD-Pumpkin-Pie-600x402-1.jpg
END:VEVENT
BEGIN:VEVENT
DTSTART;TZID=America/Los_Angeles:20241101T080000
DTEND;TZID=America/Los_Angeles:20241101T200000
DTSTAMP:20260421T112126
CREATED:20241029T185249Z
LAST-MODIFIED:20241029T185249Z
UID:21102-1730448000-1730491200@goldranchdayton.com
SUMMARY:Alfredo Pasta
DESCRIPTION:Served daily for only $12.99!
URL:https://goldranchdayton.com/event/alfredo-pasta/
CATEGORIES:Dining
ATTACH;FMTTYPE=image/jpeg:https://goldranchdayton.com/wp-content/uploads/2024/10/2024-11GRD-Pasta-Alfredo-600x402-1.jpg
END:VEVENT
BEGIN:VEVENT
DTSTART;TZID=America/Los_Angeles:20241101T080000
DTEND;TZID=America/Los_Angeles:20241101T200000
DTSTAMP:20260421T112126
CREATED:20241029T185148Z
LAST-MODIFIED:20241029T185148Z
UID:21098-1730448000-1730491200@goldranchdayton.com
SUMMARY:Pumpkin Pie
DESCRIPTION:Served daily for only $5.99!
URL:https://goldranchdayton.com/event/pumpkin-pie-2/
CATEGORIES:Dining
ATTACH;FMTTYPE=image/jpeg:https://goldranchdayton.com/wp-content/uploads/2024/10/2024-11-GRD-Pumpkin-Pie-600x402-1.jpg
END:VEVENT
BEGIN:VEVENT
DTSTART;TZID=America/Los_Angeles:20241101T080000
DTEND;TZID=America/Los_Angeles:20241101T200000
DTSTAMP:20260421T112126
CREATED:20241029T185249Z
LAST-MODIFIED:20241029T185249Z
UID:21102-1730448000-1730491200@goldranchdayton.com
SUMMARY:Alfredo Pasta
DESCRIPTION:Served daily for only $12.99!
URL:https://goldranchdayton.com/event/alfredo-pasta/
CATEGORIES:Dining
ATTACH;FMTTYPE=image/jpeg:https://goldranchdayton.com/wp-content/uploads/2024/10/2024-11GRD-Pasta-Alfredo-600x402-1.jpg
END:VEVENT
BEGIN:VEVENT
DTSTART;TZID=America/Los_Angeles:20241101T080000
DTEND;TZID=America/Los_Angeles:20241101T200000
DTSTAMP:20260421T112126
CREATED:20241029T185148Z
LAST-MODIFIED:20241029T185148Z
UID:21098-1730448000-1730491200@goldranchdayton.com
SUMMARY:Pumpkin Pie
DESCRIPTION:Served daily for only $5.99!
URL:https://goldranchdayton.com/event/pumpkin-pie-2/
CATEGORIES:Dining
ATTACH;FMTTYPE=image/jpeg:https://goldranchdayton.com/wp-content/uploads/2024/10/2024-11-GRD-Pumpkin-Pie-600x402-1.jpg
END:VEVENT
BEGIN:VEVENT
DTSTART;TZID=America/Los_Angeles:20241101T080000
DTEND;TZID=America/Los_Angeles:20241101T200000
DTSTAMP:20260421T112126
CREATED:20241029T185249Z
LAST-MODIFIED:20241029T185249Z
UID:21102-1730448000-1730491200@goldranchdayton.com
SUMMARY:Alfredo Pasta
DESCRIPTION:Served daily for only $12.99!
URL:https://goldranchdayton.com/event/alfredo-pasta/
CATEGORIES:Dining
ATTACH;FMTTYPE=image/jpeg:https://goldranchdayton.com/wp-content/uploads/2024/10/2024-11GRD-Pasta-Alfredo-600x402-1.jpg
END:VEVENT
BEGIN:VEVENT
DTSTART;TZID=America/Los_Angeles:20241101T080000
DTEND;TZID=America/Los_Angeles:20241101T200000
DTSTAMP:20260421T112126
CREATED:20241029T185148Z
LAST-MODIFIED:20241029T185148Z
UID:21098-1730448000-1730491200@goldranchdayton.com
SUMMARY:Pumpkin Pie
DESCRIPTION:Served daily for only $5.99!
URL:https://goldranchdayton.com/event/pumpkin-pie-2/
CATEGORIES:Dining
ATTACH;FMTTYPE=image/jpeg:https://goldranchdayton.com/wp-content/uploads/2024/10/2024-11-GRD-Pumpkin-Pie-600x402-1.jpg
END:VEVENT
BEGIN:VEVENT
DTSTART;TZID=America/Los_Angeles:20241101T080000
DTEND;TZID=America/Los_Angeles:20241101T200000
DTSTAMP:20260421T112126
CREATED:20241029T185249Z
LAST-MODIFIED:20241029T185249Z
UID:21102-1730448000-1730491200@goldranchdayton.com
SUMMARY:Alfredo Pasta
DESCRIPTION:Served daily for only $12.99!
URL:https://goldranchdayton.com/event/alfredo-pasta/
CATEGORIES:Dining
ATTACH;FMTTYPE=image/jpeg:https://goldranchdayton.com/wp-content/uploads/2024/10/2024-11GRD-Pasta-Alfredo-600x402-1.jpg
END:VEVENT
BEGIN:VEVENT
DTSTART;TZID=America/Los_Angeles:20241101T080000
DTEND;TZID=America/Los_Angeles:20241101T200000
DTSTAMP:20260421T112126
CREATED:20241029T185148Z
LAST-MODIFIED:20241029T185148Z
UID:21098-1730448000-1730491200@goldranchdayton.com
SUMMARY:Pumpkin Pie
DESCRIPTION:Served daily for only $5.99!
URL:https://goldranchdayton.com/event/pumpkin-pie-2/
CATEGORIES:Dining
ATTACH;FMTTYPE=image/jpeg:https://goldranchdayton.com/wp-content/uploads/2024/10/2024-11-GRD-Pumpkin-Pie-600x402-1.jpg
END:VEVENT
BEGIN:VEVENT
DTSTART;TZID=America/Los_Angeles:20241101T080000
DTEND;TZID=America/Los_Angeles:20241101T200000
DTSTAMP:20260421T112126
CREATED:20241029T185249Z
LAST-MODIFIED:20241029T185249Z
UID:21102-1730448000-1730491200@goldranchdayton.com
SUMMARY:Alfredo Pasta
DESCRIPTION:Served daily for only $12.99!
URL:https://goldranchdayton.com/event/alfredo-pasta/
CATEGORIES:Dining
ATTACH;FMTTYPE=image/jpeg:https://goldranchdayton.com/wp-content/uploads/2024/10/2024-11GRD-Pasta-Alfredo-600x402-1.jpg
END:VEVENT
BEGIN:VEVENT
DTSTART;TZID=America/Los_Angeles:20241101T080000
DTEND;TZID=America/Los_Angeles:20241101T200000
DTSTAMP:20260421T112126
CREATED:20241029T185148Z
LAST-MODIFIED:20241029T185148Z
UID:21098-1730448000-1730491200@goldranchdayton.com
SUMMARY:Pumpkin Pie
DESCRIPTION:Served daily for only $5.99!
URL:https://goldranchdayton.com/event/pumpkin-pie-2/
CATEGORIES:Dining
ATTACH;FMTTYPE=image/jpeg:https://goldranchdayton.com/wp-content/uploads/2024/10/2024-11-GRD-Pumpkin-Pie-600x402-1.jpg
END:VEVENT
BEGIN:VEVENT
DTSTART;TZID=America/Los_Angeles:20241101T080000
DTEND;TZID=America/Los_Angeles:20241101T200000
DTSTAMP:20260421T112126
CREATED:20241029T185249Z
LAST-MODIFIED:20241029T185249Z
UID:21102-1730448000-1730491200@goldranchdayton.com
SUMMARY:Alfredo Pasta
DESCRIPTION:Served daily for only $12.99!
URL:https://goldranchdayton.com/event/alfredo-pasta/
CATEGORIES:Dining
ATTACH;FMTTYPE=image/jpeg:https://goldranchdayton.com/wp-content/uploads/2024/10/2024-11GRD-Pasta-Alfredo-600x402-1.jpg
END:VEVENT
BEGIN:VEVENT
DTSTART;TZID=America/Los_Angeles:20241101T080000
DTEND;TZID=America/Los_Angeles:20241101T200000
DTSTAMP:20260421T112126
CREATED:20241029T185148Z
LAST-MODIFIED:20241029T185148Z
UID:21098-1730448000-1730491200@goldranchdayton.com
SUMMARY:Pumpkin Pie
DESCRIPTION:Served daily for only $5.99!
URL:https://goldranchdayton.com/event/pumpkin-pie-2/
CATEGORIES:Dining
ATTACH;FMTTYPE=image/jpeg:https://goldranchdayton.com/wp-content/uploads/2024/10/2024-11-GRD-Pumpkin-Pie-600x402-1.jpg
END:VEVENT
BEGIN:VEVENT
DTSTART;TZID=America/Los_Angeles:20241101T080000
DTEND;TZID=America/Los_Angeles:20241101T200000
DTSTAMP:20260421T112126
CREATED:20241029T185249Z
LAST-MODIFIED:20241029T185249Z
UID:21102-1730448000-1730491200@goldranchdayton.com
SUMMARY:Alfredo Pasta
DESCRIPTION:Served daily for only $12.99!
URL:https://goldranchdayton.com/event/alfredo-pasta/
CATEGORIES:Dining
ATTACH;FMTTYPE=image/jpeg:https://goldranchdayton.com/wp-content/uploads/2024/10/2024-11GRD-Pasta-Alfredo-600x402-1.jpg
END:VEVENT
BEGIN:VEVENT
DTSTART;TZID=America/Los_Angeles:20241101T080000
DTEND;TZID=America/Los_Angeles:20241101T200000
DTSTAMP:20260421T112126
CREATED:20241029T185148Z
LAST-MODIFIED:20241029T185148Z
UID:21098-1730448000-1730491200@goldranchdayton.com
SUMMARY:Pumpkin Pie
DESCRIPTION:Served daily for only $5.99!
URL:https://goldranchdayton.com/event/pumpkin-pie-2/
CATEGORIES:Dining
ATTACH;FMTTYPE=image/jpeg:https://goldranchdayton.com/wp-content/uploads/2024/10/2024-11-GRD-Pumpkin-Pie-600x402-1.jpg
END:VEVENT
BEGIN:VEVENT
DTSTART;TZID=America/Los_Angeles:20241101T080000
DTEND;TZID=America/Los_Angeles:20241101T200000
DTSTAMP:20260421T112126
CREATED:20241029T185249Z
LAST-MODIFIED:20241029T185249Z
UID:21102-1730448000-1730491200@goldranchdayton.com
SUMMARY:Alfredo Pasta
DESCRIPTION:Served daily for only $12.99!
URL:https://goldranchdayton.com/event/alfredo-pasta/
CATEGORIES:Dining
ATTACH;FMTTYPE=image/jpeg:https://goldranchdayton.com/wp-content/uploads/2024/10/2024-11GRD-Pasta-Alfredo-600x402-1.jpg
END:VEVENT
BEGIN:VEVENT
DTSTART;TZID=America/Los_Angeles:20241101T080000
DTEND;TZID=America/Los_Angeles:20241101T200000
DTSTAMP:20260421T112126
CREATED:20241029T185148Z
LAST-MODIFIED:20241029T185148Z
UID:21098-1730448000-1730491200@goldranchdayton.com
SUMMARY:Pumpkin Pie
DESCRIPTION:Served daily for only $5.99!
URL:https://goldranchdayton.com/event/pumpkin-pie-2/
CATEGORIES:Dining
ATTACH;FMTTYPE=image/jpeg:https://goldranchdayton.com/wp-content/uploads/2024/10/2024-11-GRD-Pumpkin-Pie-600x402-1.jpg
END:VEVENT
BEGIN:VEVENT
DTSTART;TZID=America/Los_Angeles:20241101T080000
DTEND;TZID=America/Los_Angeles:20241101T200000
DTSTAMP:20260421T112126
CREATED:20241029T185249Z
LAST-MODIFIED:20241029T185249Z
UID:21102-1730448000-1730491200@goldranchdayton.com
SUMMARY:Alfredo Pasta
DESCRIPTION:Served daily for only $12.99!
URL:https://goldranchdayton.com/event/alfredo-pasta/
CATEGORIES:Dining
ATTACH;FMTTYPE=image/jpeg:https://goldranchdayton.com/wp-content/uploads/2024/10/2024-11GRD-Pasta-Alfredo-600x402-1.jpg
END:VEVENT
END:VCALENDAR