BEGIN:VCALENDAR
VERSION:2.0
PRODID:-//Gold Ranch Casino Dayton - ECPv6.15.18//NONSGML v1.0//EN
CALSCALE:GREGORIAN
METHOD:PUBLISH
X-WR-CALNAME:Gold Ranch Casino Dayton
X-ORIGINAL-URL:https://goldranchdayton.com
X-WR-CALDESC:Events for Gold Ranch Casino Dayton
REFRESH-INTERVAL;VALUE=DURATION:PT1H
X-Robots-Tag:noindex
X-PUBLISHED-TTL:PT1H
BEGIN:VTIMEZONE
TZID:America/Los_Angeles
BEGIN:DAYLIGHT
TZOFFSETFROM:-0800
TZOFFSETTO:-0700
TZNAME:PDT
DTSTART:20230312T100000
END:DAYLIGHT
BEGIN:STANDARD
TZOFFSETFROM:-0700
TZOFFSETTO:-0800
TZNAME:PST
DTSTART:20231105T090000
END:STANDARD
BEGIN:DAYLIGHT
TZOFFSETFROM:-0800
TZOFFSETTO:-0700
TZNAME:PDT
DTSTART:20240310T100000
END:DAYLIGHT
BEGIN:STANDARD
TZOFFSETFROM:-0700
TZOFFSETTO:-0800
TZNAME:PST
DTSTART:20241103T090000
END:STANDARD
BEGIN:DAYLIGHT
TZOFFSETFROM:-0800
TZOFFSETTO:-0700
TZNAME:PDT
DTSTART:20250309T100000
END:DAYLIGHT
BEGIN:STANDARD
TZOFFSETFROM:-0700
TZOFFSETTO:-0800
TZNAME:PST
DTSTART:20251102T090000
END:STANDARD
END:VTIMEZONE
BEGIN:VEVENT
DTSTART;TZID=America/Los_Angeles:20240801T080000
DTEND;TZID=America/Los_Angeles:20240801T170000
DTSTAMP:20260421T153231
CREATED:20240730T201556Z
LAST-MODIFIED:20240730T201556Z
UID:20946-1722499200-1722531600@goldranchdayton.com
SUMMARY:Loaded Beef Nachos
DESCRIPTION:Served daily for $12.99!
URL:https://goldranchdayton.com/event/loaded-beef-nachos/
CATEGORIES:Dining
ATTACH;FMTTYPE=image/jpeg:https://goldranchdayton.com/wp-content/uploads/2024/07/2024-08-GRD-Beef-Nachos-600x402-1.jpg
END:VEVENT
BEGIN:VEVENT
DTSTART;TZID=America/Los_Angeles:20240801T080000
DTEND;TZID=America/Los_Angeles:20240801T200000
DTSTAMP:20260421T153231
CREATED:20240730T201913Z
LAST-MODIFIED:20240730T201913Z
UID:20956-1722499200-1722542400@goldranchdayton.com
SUMMARY:Brownie Sundae
DESCRIPTION:Served daily for $5.99!
URL:https://goldranchdayton.com/event/brownie-sundae-2/
CATEGORIES:Dining
ATTACH;FMTTYPE=image/jpeg:https://goldranchdayton.com/wp-content/uploads/2024/07/2024-08-GRD-Brownie-Sundae-600x402-1.jpg
END:VEVENT
BEGIN:VEVENT
DTSTART;TZID=America/Los_Angeles:20240801T080000
DTEND;TZID=America/Los_Angeles:20240801T170000
DTSTAMP:20260421T153231
CREATED:20240730T201556Z
LAST-MODIFIED:20240730T201556Z
UID:20946-1722499200-1722531600@goldranchdayton.com
SUMMARY:Loaded Beef Nachos
DESCRIPTION:Served daily for $12.99!
URL:https://goldranchdayton.com/event/loaded-beef-nachos/
CATEGORIES:Dining
ATTACH;FMTTYPE=image/jpeg:https://goldranchdayton.com/wp-content/uploads/2024/07/2024-08-GRD-Beef-Nachos-600x402-1.jpg
END:VEVENT
BEGIN:VEVENT
DTSTART;TZID=America/Los_Angeles:20240801T080000
DTEND;TZID=America/Los_Angeles:20240801T200000
DTSTAMP:20260421T153231
CREATED:20240730T201913Z
LAST-MODIFIED:20240730T201913Z
UID:20956-1722499200-1722542400@goldranchdayton.com
SUMMARY:Brownie Sundae
DESCRIPTION:Served daily for $5.99!
URL:https://goldranchdayton.com/event/brownie-sundae-2/
CATEGORIES:Dining
ATTACH;FMTTYPE=image/jpeg:https://goldranchdayton.com/wp-content/uploads/2024/07/2024-08-GRD-Brownie-Sundae-600x402-1.jpg
END:VEVENT
BEGIN:VEVENT
DTSTART;TZID=America/Los_Angeles:20240802T140000
DTEND;TZID=America/Los_Angeles:20240802T210000
DTSTAMP:20260421T153231
CREATED:20240730T202205Z
LAST-MODIFIED:20240730T202231Z
UID:20959-1722607200-1722632400@goldranchdayton.com
SUMMARY:Prime Rib
DESCRIPTION:Every Friday\, try a delicious\, juicy\, cooked to your liking PRIME RIB DINNER. Served with Chef’s vegetables and your choice of potato. All for $15.99 and only at the Como Café.
URL:https://goldranchdayton.com/event/prime-rib-4-2/
CATEGORIES:Dining
ATTACH;FMTTYPE=image/jpeg:https://goldranchdayton.com/wp-content/uploads/2021/08/2021-SEPT-GRD-PRIME-RIB-600X402.jpg
END:VEVENT
BEGIN:VEVENT
DTSTART;TZID=America/Los_Angeles:20240801T080000
DTEND;TZID=America/Los_Angeles:20240801T170000
DTSTAMP:20260421T153231
CREATED:20240730T201556Z
LAST-MODIFIED:20240730T201556Z
UID:20946-1722499200-1722531600@goldranchdayton.com
SUMMARY:Loaded Beef Nachos
DESCRIPTION:Served daily for $12.99!
URL:https://goldranchdayton.com/event/loaded-beef-nachos/
CATEGORIES:Dining
ATTACH;FMTTYPE=image/jpeg:https://goldranchdayton.com/wp-content/uploads/2024/07/2024-08-GRD-Beef-Nachos-600x402-1.jpg
END:VEVENT
BEGIN:VEVENT
DTSTART;TZID=America/Los_Angeles:20240801T080000
DTEND;TZID=America/Los_Angeles:20240801T200000
DTSTAMP:20260421T153231
CREATED:20240730T201913Z
LAST-MODIFIED:20240730T201913Z
UID:20956-1722499200-1722542400@goldranchdayton.com
SUMMARY:Brownie Sundae
DESCRIPTION:Served daily for $5.99!
URL:https://goldranchdayton.com/event/brownie-sundae-2/
CATEGORIES:Dining
ATTACH;FMTTYPE=image/jpeg:https://goldranchdayton.com/wp-content/uploads/2024/07/2024-08-GRD-Brownie-Sundae-600x402-1.jpg
END:VEVENT
BEGIN:VEVENT
DTSTART;TZID=America/Los_Angeles:20240801T080000
DTEND;TZID=America/Los_Angeles:20240801T170000
DTSTAMP:20260421T153231
CREATED:20240730T201556Z
LAST-MODIFIED:20240730T201556Z
UID:20946-1722499200-1722531600@goldranchdayton.com
SUMMARY:Loaded Beef Nachos
DESCRIPTION:Served daily for $12.99!
URL:https://goldranchdayton.com/event/loaded-beef-nachos/
CATEGORIES:Dining
ATTACH;FMTTYPE=image/jpeg:https://goldranchdayton.com/wp-content/uploads/2024/07/2024-08-GRD-Beef-Nachos-600x402-1.jpg
END:VEVENT
BEGIN:VEVENT
DTSTART;TZID=America/Los_Angeles:20240801T080000
DTEND;TZID=America/Los_Angeles:20240801T200000
DTSTAMP:20260421T153231
CREATED:20240730T201913Z
LAST-MODIFIED:20240730T201913Z
UID:20956-1722499200-1722542400@goldranchdayton.com
SUMMARY:Brownie Sundae
DESCRIPTION:Served daily for $5.99!
URL:https://goldranchdayton.com/event/brownie-sundae-2/
CATEGORIES:Dining
ATTACH;FMTTYPE=image/jpeg:https://goldranchdayton.com/wp-content/uploads/2024/07/2024-08-GRD-Brownie-Sundae-600x402-1.jpg
END:VEVENT
BEGIN:VEVENT
DTSTART;TZID=America/Los_Angeles:20240801T080000
DTEND;TZID=America/Los_Angeles:20240801T170000
DTSTAMP:20260421T153231
CREATED:20240730T201556Z
LAST-MODIFIED:20240730T201556Z
UID:20946-1722499200-1722531600@goldranchdayton.com
SUMMARY:Loaded Beef Nachos
DESCRIPTION:Served daily for $12.99!
URL:https://goldranchdayton.com/event/loaded-beef-nachos/
CATEGORIES:Dining
ATTACH;FMTTYPE=image/jpeg:https://goldranchdayton.com/wp-content/uploads/2024/07/2024-08-GRD-Beef-Nachos-600x402-1.jpg
END:VEVENT
BEGIN:VEVENT
DTSTART;TZID=America/Los_Angeles:20240801T080000
DTEND;TZID=America/Los_Angeles:20240801T200000
DTSTAMP:20260421T153231
CREATED:20240730T201913Z
LAST-MODIFIED:20240730T201913Z
UID:20956-1722499200-1722542400@goldranchdayton.com
SUMMARY:Brownie Sundae
DESCRIPTION:Served daily for $5.99!
URL:https://goldranchdayton.com/event/brownie-sundae-2/
CATEGORIES:Dining
ATTACH;FMTTYPE=image/jpeg:https://goldranchdayton.com/wp-content/uploads/2024/07/2024-08-GRD-Brownie-Sundae-600x402-1.jpg
END:VEVENT
BEGIN:VEVENT
DTSTART;TZID=America/Los_Angeles:20240801T080000
DTEND;TZID=America/Los_Angeles:20240801T170000
DTSTAMP:20260421T153231
CREATED:20240730T201556Z
LAST-MODIFIED:20240730T201556Z
UID:20946-1722499200-1722531600@goldranchdayton.com
SUMMARY:Loaded Beef Nachos
DESCRIPTION:Served daily for $12.99!
URL:https://goldranchdayton.com/event/loaded-beef-nachos/
CATEGORIES:Dining
ATTACH;FMTTYPE=image/jpeg:https://goldranchdayton.com/wp-content/uploads/2024/07/2024-08-GRD-Beef-Nachos-600x402-1.jpg
END:VEVENT
BEGIN:VEVENT
DTSTART;TZID=America/Los_Angeles:20240801T080000
DTEND;TZID=America/Los_Angeles:20240801T200000
DTSTAMP:20260421T153231
CREATED:20240730T201913Z
LAST-MODIFIED:20240730T201913Z
UID:20956-1722499200-1722542400@goldranchdayton.com
SUMMARY:Brownie Sundae
DESCRIPTION:Served daily for $5.99!
URL:https://goldranchdayton.com/event/brownie-sundae-2/
CATEGORIES:Dining
ATTACH;FMTTYPE=image/jpeg:https://goldranchdayton.com/wp-content/uploads/2024/07/2024-08-GRD-Brownie-Sundae-600x402-1.jpg
END:VEVENT
BEGIN:VEVENT
DTSTART;TZID=America/Los_Angeles:20240801T080000
DTEND;TZID=America/Los_Angeles:20240801T170000
DTSTAMP:20260421T153231
CREATED:20240730T201556Z
LAST-MODIFIED:20240730T201556Z
UID:20946-1722499200-1722531600@goldranchdayton.com
SUMMARY:Loaded Beef Nachos
DESCRIPTION:Served daily for $12.99!
URL:https://goldranchdayton.com/event/loaded-beef-nachos/
CATEGORIES:Dining
ATTACH;FMTTYPE=image/jpeg:https://goldranchdayton.com/wp-content/uploads/2024/07/2024-08-GRD-Beef-Nachos-600x402-1.jpg
END:VEVENT
BEGIN:VEVENT
DTSTART;TZID=America/Los_Angeles:20240801T080000
DTEND;TZID=America/Los_Angeles:20240801T200000
DTSTAMP:20260421T153231
CREATED:20240730T201913Z
LAST-MODIFIED:20240730T201913Z
UID:20956-1722499200-1722542400@goldranchdayton.com
SUMMARY:Brownie Sundae
DESCRIPTION:Served daily for $5.99!
URL:https://goldranchdayton.com/event/brownie-sundae-2/
CATEGORIES:Dining
ATTACH;FMTTYPE=image/jpeg:https://goldranchdayton.com/wp-content/uploads/2024/07/2024-08-GRD-Brownie-Sundae-600x402-1.jpg
END:VEVENT
BEGIN:VEVENT
DTSTART;TZID=America/Los_Angeles:20240801T080000
DTEND;TZID=America/Los_Angeles:20240801T170000
DTSTAMP:20260421T153231
CREATED:20240730T201556Z
LAST-MODIFIED:20240730T201556Z
UID:20946-1722499200-1722531600@goldranchdayton.com
SUMMARY:Loaded Beef Nachos
DESCRIPTION:Served daily for $12.99!
URL:https://goldranchdayton.com/event/loaded-beef-nachos/
CATEGORIES:Dining
ATTACH;FMTTYPE=image/jpeg:https://goldranchdayton.com/wp-content/uploads/2024/07/2024-08-GRD-Beef-Nachos-600x402-1.jpg
END:VEVENT
BEGIN:VEVENT
DTSTART;TZID=America/Los_Angeles:20240801T080000
DTEND;TZID=America/Los_Angeles:20240801T200000
DTSTAMP:20260421T153231
CREATED:20240730T201913Z
LAST-MODIFIED:20240730T201913Z
UID:20956-1722499200-1722542400@goldranchdayton.com
SUMMARY:Brownie Sundae
DESCRIPTION:Served daily for $5.99!
URL:https://goldranchdayton.com/event/brownie-sundae-2/
CATEGORIES:Dining
ATTACH;FMTTYPE=image/jpeg:https://goldranchdayton.com/wp-content/uploads/2024/07/2024-08-GRD-Brownie-Sundae-600x402-1.jpg
END:VEVENT
BEGIN:VEVENT
DTSTART;TZID=America/Los_Angeles:20240801T080000
DTEND;TZID=America/Los_Angeles:20240801T170000
DTSTAMP:20260421T153231
CREATED:20240730T201556Z
LAST-MODIFIED:20240730T201556Z
UID:20946-1722499200-1722531600@goldranchdayton.com
SUMMARY:Loaded Beef Nachos
DESCRIPTION:Served daily for $12.99!
URL:https://goldranchdayton.com/event/loaded-beef-nachos/
CATEGORIES:Dining
ATTACH;FMTTYPE=image/jpeg:https://goldranchdayton.com/wp-content/uploads/2024/07/2024-08-GRD-Beef-Nachos-600x402-1.jpg
END:VEVENT
BEGIN:VEVENT
DTSTART;TZID=America/Los_Angeles:20240801T080000
DTEND;TZID=America/Los_Angeles:20240801T200000
DTSTAMP:20260421T153231
CREATED:20240730T201913Z
LAST-MODIFIED:20240730T201913Z
UID:20956-1722499200-1722542400@goldranchdayton.com
SUMMARY:Brownie Sundae
DESCRIPTION:Served daily for $5.99!
URL:https://goldranchdayton.com/event/brownie-sundae-2/
CATEGORIES:Dining
ATTACH;FMTTYPE=image/jpeg:https://goldranchdayton.com/wp-content/uploads/2024/07/2024-08-GRD-Brownie-Sundae-600x402-1.jpg
END:VEVENT
BEGIN:VEVENT
DTSTART;TZID=America/Los_Angeles:20240801T080000
DTEND;TZID=America/Los_Angeles:20240801T170000
DTSTAMP:20260421T153231
CREATED:20240730T201556Z
LAST-MODIFIED:20240730T201556Z
UID:20946-1722499200-1722531600@goldranchdayton.com
SUMMARY:Loaded Beef Nachos
DESCRIPTION:Served daily for $12.99!
URL:https://goldranchdayton.com/event/loaded-beef-nachos/
CATEGORIES:Dining
ATTACH;FMTTYPE=image/jpeg:https://goldranchdayton.com/wp-content/uploads/2024/07/2024-08-GRD-Beef-Nachos-600x402-1.jpg
END:VEVENT
BEGIN:VEVENT
DTSTART;TZID=America/Los_Angeles:20240801T080000
DTEND;TZID=America/Los_Angeles:20240801T200000
DTSTAMP:20260421T153231
CREATED:20240730T201913Z
LAST-MODIFIED:20240730T201913Z
UID:20956-1722499200-1722542400@goldranchdayton.com
SUMMARY:Brownie Sundae
DESCRIPTION:Served daily for $5.99!
URL:https://goldranchdayton.com/event/brownie-sundae-2/
CATEGORIES:Dining
ATTACH;FMTTYPE=image/jpeg:https://goldranchdayton.com/wp-content/uploads/2024/07/2024-08-GRD-Brownie-Sundae-600x402-1.jpg
END:VEVENT
BEGIN:VEVENT
DTSTART;TZID=America/Los_Angeles:20240801T080000
DTEND;TZID=America/Los_Angeles:20240801T170000
DTSTAMP:20260421T153231
CREATED:20240730T201556Z
LAST-MODIFIED:20240730T201556Z
UID:20946-1722499200-1722531600@goldranchdayton.com
SUMMARY:Loaded Beef Nachos
DESCRIPTION:Served daily for $12.99!
URL:https://goldranchdayton.com/event/loaded-beef-nachos/
CATEGORIES:Dining
ATTACH;FMTTYPE=image/jpeg:https://goldranchdayton.com/wp-content/uploads/2024/07/2024-08-GRD-Beef-Nachos-600x402-1.jpg
END:VEVENT
BEGIN:VEVENT
DTSTART;TZID=America/Los_Angeles:20240801T080000
DTEND;TZID=America/Los_Angeles:20240801T200000
DTSTAMP:20260421T153231
CREATED:20240730T201913Z
LAST-MODIFIED:20240730T201913Z
UID:20956-1722499200-1722542400@goldranchdayton.com
SUMMARY:Brownie Sundae
DESCRIPTION:Served daily for $5.99!
URL:https://goldranchdayton.com/event/brownie-sundae-2/
CATEGORIES:Dining
ATTACH;FMTTYPE=image/jpeg:https://goldranchdayton.com/wp-content/uploads/2024/07/2024-08-GRD-Brownie-Sundae-600x402-1.jpg
END:VEVENT
BEGIN:VEVENT
DTSTART;TZID=America/Los_Angeles:20240801T080000
DTEND;TZID=America/Los_Angeles:20240801T170000
DTSTAMP:20260421T153231
CREATED:20240730T201556Z
LAST-MODIFIED:20240730T201556Z
UID:20946-1722499200-1722531600@goldranchdayton.com
SUMMARY:Loaded Beef Nachos
DESCRIPTION:Served daily for $12.99!
URL:https://goldranchdayton.com/event/loaded-beef-nachos/
CATEGORIES:Dining
ATTACH;FMTTYPE=image/jpeg:https://goldranchdayton.com/wp-content/uploads/2024/07/2024-08-GRD-Beef-Nachos-600x402-1.jpg
END:VEVENT
BEGIN:VEVENT
DTSTART;TZID=America/Los_Angeles:20240801T080000
DTEND;TZID=America/Los_Angeles:20240801T200000
DTSTAMP:20260421T153231
CREATED:20240730T201913Z
LAST-MODIFIED:20240730T201913Z
UID:20956-1722499200-1722542400@goldranchdayton.com
SUMMARY:Brownie Sundae
DESCRIPTION:Served daily for $5.99!
URL:https://goldranchdayton.com/event/brownie-sundae-2/
CATEGORIES:Dining
ATTACH;FMTTYPE=image/jpeg:https://goldranchdayton.com/wp-content/uploads/2024/07/2024-08-GRD-Brownie-Sundae-600x402-1.jpg
END:VEVENT
BEGIN:VEVENT
DTSTART;TZID=America/Los_Angeles:20240801T080000
DTEND;TZID=America/Los_Angeles:20240801T170000
DTSTAMP:20260421T153231
CREATED:20240730T201556Z
LAST-MODIFIED:20240730T201556Z
UID:20946-1722499200-1722531600@goldranchdayton.com
SUMMARY:Loaded Beef Nachos
DESCRIPTION:Served daily for $12.99!
URL:https://goldranchdayton.com/event/loaded-beef-nachos/
CATEGORIES:Dining
ATTACH;FMTTYPE=image/jpeg:https://goldranchdayton.com/wp-content/uploads/2024/07/2024-08-GRD-Beef-Nachos-600x402-1.jpg
END:VEVENT
BEGIN:VEVENT
DTSTART;TZID=America/Los_Angeles:20240801T080000
DTEND;TZID=America/Los_Angeles:20240801T200000
DTSTAMP:20260421T153231
CREATED:20240730T201913Z
LAST-MODIFIED:20240730T201913Z
UID:20956-1722499200-1722542400@goldranchdayton.com
SUMMARY:Brownie Sundae
DESCRIPTION:Served daily for $5.99!
URL:https://goldranchdayton.com/event/brownie-sundae-2/
CATEGORIES:Dining
ATTACH;FMTTYPE=image/jpeg:https://goldranchdayton.com/wp-content/uploads/2024/07/2024-08-GRD-Brownie-Sundae-600x402-1.jpg
END:VEVENT
BEGIN:VEVENT
DTSTART;TZID=America/Los_Angeles:20240801T080000
DTEND;TZID=America/Los_Angeles:20240801T170000
DTSTAMP:20260421T153231
CREATED:20240730T201556Z
LAST-MODIFIED:20240730T201556Z
UID:20946-1722499200-1722531600@goldranchdayton.com
SUMMARY:Loaded Beef Nachos
DESCRIPTION:Served daily for $12.99!
URL:https://goldranchdayton.com/event/loaded-beef-nachos/
CATEGORIES:Dining
ATTACH;FMTTYPE=image/jpeg:https://goldranchdayton.com/wp-content/uploads/2024/07/2024-08-GRD-Beef-Nachos-600x402-1.jpg
END:VEVENT
BEGIN:VEVENT
DTSTART;TZID=America/Los_Angeles:20240801T080000
DTEND;TZID=America/Los_Angeles:20240801T200000
DTSTAMP:20260421T153231
CREATED:20240730T201913Z
LAST-MODIFIED:20240730T201913Z
UID:20956-1722499200-1722542400@goldranchdayton.com
SUMMARY:Brownie Sundae
DESCRIPTION:Served daily for $5.99!
URL:https://goldranchdayton.com/event/brownie-sundae-2/
CATEGORIES:Dining
ATTACH;FMTTYPE=image/jpeg:https://goldranchdayton.com/wp-content/uploads/2024/07/2024-08-GRD-Brownie-Sundae-600x402-1.jpg
END:VEVENT
BEGIN:VEVENT
DTSTART;TZID=America/Los_Angeles:20240801T080000
DTEND;TZID=America/Los_Angeles:20240801T170000
DTSTAMP:20260421T153231
CREATED:20240730T201556Z
LAST-MODIFIED:20240730T201556Z
UID:20946-1722499200-1722531600@goldranchdayton.com
SUMMARY:Loaded Beef Nachos
DESCRIPTION:Served daily for $12.99!
URL:https://goldranchdayton.com/event/loaded-beef-nachos/
CATEGORIES:Dining
ATTACH;FMTTYPE=image/jpeg:https://goldranchdayton.com/wp-content/uploads/2024/07/2024-08-GRD-Beef-Nachos-600x402-1.jpg
END:VEVENT
END:VCALENDAR