BEGIN:VCALENDAR
VERSION:2.0
PRODID:-//Gold Ranch Casino Dayton - ECPv6.15.18//NONSGML v1.0//EN
CALSCALE:GREGORIAN
METHOD:PUBLISH
X-ORIGINAL-URL:https://goldranchdayton.com
X-WR-CALDESC:Events for Gold Ranch Casino Dayton
REFRESH-INTERVAL;VALUE=DURATION:PT1H
X-Robots-Tag:noindex
X-PUBLISHED-TTL:PT1H
BEGIN:VTIMEZONE
TZID:America/Los_Angeles
BEGIN:DAYLIGHT
TZOFFSETFROM:-0800
TZOFFSETTO:-0700
TZNAME:PDT
DTSTART:20220313T100000
END:DAYLIGHT
BEGIN:STANDARD
TZOFFSETFROM:-0700
TZOFFSETTO:-0800
TZNAME:PST
DTSTART:20221106T090000
END:STANDARD
BEGIN:DAYLIGHT
TZOFFSETFROM:-0800
TZOFFSETTO:-0700
TZNAME:PDT
DTSTART:20230312T100000
END:DAYLIGHT
BEGIN:STANDARD
TZOFFSETFROM:-0700
TZOFFSETTO:-0800
TZNAME:PST
DTSTART:20231105T090000
END:STANDARD
BEGIN:DAYLIGHT
TZOFFSETFROM:-0800
TZOFFSETTO:-0700
TZNAME:PDT
DTSTART:20240310T100000
END:DAYLIGHT
BEGIN:STANDARD
TZOFFSETFROM:-0700
TZOFFSETTO:-0800
TZNAME:PST
DTSTART:20241103T090000
END:STANDARD
BEGIN:DAYLIGHT
TZOFFSETFROM:-0800
TZOFFSETTO:-0700
TZNAME:PDT
DTSTART:20250309T100000
END:DAYLIGHT
BEGIN:STANDARD
TZOFFSETFROM:-0700
TZOFFSETTO:-0800
TZNAME:PST
DTSTART:20251102T090000
END:STANDARD
END:VTIMEZONE
BEGIN:VEVENT
DTSTART;TZID=America/Los_Angeles:20240401T080000
DTEND;TZID=America/Los_Angeles:20240401T210000
DTSTAMP:20260421T201830
CREATED:20240329T223148Z
LAST-MODIFIED:20240329T223148Z
UID:20776-1711958400-1712005200@goldranchdayton.com
SUMMARY:Loaded BBQ Chicken Nachos
DESCRIPTION:Hey Gold Ranch guests! Are you hungry? Well\, try our Loaded BBQ chicken Nachos House made kettle chips\, smoked chicken\, red onion\, tomato\, cheddar & jack cheese. Topped with our signature BBQ sauce. Spice it up with jalapenos for $0.99 extra! All those flavors for only $11.99 Daily at the Como Café. 
URL:https://goldranchdayton.com/event/loaded-bbq-chicken-nachos/
CATEGORIES:Dining
ATTACH;FMTTYPE=image/jpeg:https://goldranchdayton.com/wp-content/uploads/2024/03/2024-04-GRD-CHICKEN-NACHOS-600X402.jpg
END:VEVENT
BEGIN:VEVENT
DTSTART;TZID=America/Los_Angeles:20240401T080000
DTEND;TZID=America/Los_Angeles:20240401T210000
DTSTAMP:20260421T201830
CREATED:20240329T223358Z
LAST-MODIFIED:20240329T223358Z
UID:20779-1711958400-1712005200@goldranchdayton.com
SUMMARY:Molten Chocolate Lava Cake
DESCRIPTION:Craving something sweet? Get a mouthwatering piece of Molten Chocolate Lava Cake.  Warm and gooey chocolate cake filled with a creamy semisweet chocolate ganache. Topped with a smooth sweet caramel syrup and whipped cream. Treat yourself for just $6.99 every day for the month of April in the Como Café.
URL:https://goldranchdayton.com/event/molten-chocolate-lava-cake/
CATEGORIES:Dining
ATTACH;FMTTYPE=image/jpeg:https://goldranchdayton.com/wp-content/uploads/2024/03/2024-04-GRD-LAVA-CAKE-600X402.jpg
END:VEVENT
BEGIN:VEVENT
DTSTART;TZID=America/Los_Angeles:20240401T080000
DTEND;TZID=America/Los_Angeles:20240401T210000
DTSTAMP:20260421T201830
CREATED:20240329T223148Z
LAST-MODIFIED:20240329T223148Z
UID:20776-1711958400-1712005200@goldranchdayton.com
SUMMARY:Loaded BBQ Chicken Nachos
DESCRIPTION:Hey Gold Ranch guests! Are you hungry? Well\, try our Loaded BBQ chicken Nachos House made kettle chips\, smoked chicken\, red onion\, tomato\, cheddar & jack cheese. Topped with our signature BBQ sauce. Spice it up with jalapenos for $0.99 extra! All those flavors for only $11.99 Daily at the Como Café. 
URL:https://goldranchdayton.com/event/loaded-bbq-chicken-nachos/
CATEGORIES:Dining
ATTACH;FMTTYPE=image/jpeg:https://goldranchdayton.com/wp-content/uploads/2024/03/2024-04-GRD-CHICKEN-NACHOS-600X402.jpg
END:VEVENT
BEGIN:VEVENT
DTSTART;TZID=America/Los_Angeles:20240401T080000
DTEND;TZID=America/Los_Angeles:20240401T210000
DTSTAMP:20260421T201830
CREATED:20240329T223358Z
LAST-MODIFIED:20240329T223358Z
UID:20779-1711958400-1712005200@goldranchdayton.com
SUMMARY:Molten Chocolate Lava Cake
DESCRIPTION:Craving something sweet? Get a mouthwatering piece of Molten Chocolate Lava Cake.  Warm and gooey chocolate cake filled with a creamy semisweet chocolate ganache. Topped with a smooth sweet caramel syrup and whipped cream. Treat yourself for just $6.99 every day for the month of April in the Como Café.
URL:https://goldranchdayton.com/event/molten-chocolate-lava-cake/
CATEGORIES:Dining
ATTACH;FMTTYPE=image/jpeg:https://goldranchdayton.com/wp-content/uploads/2024/03/2024-04-GRD-LAVA-CAKE-600X402.jpg
END:VEVENT
BEGIN:VEVENT
DTSTART;TZID=America/Los_Angeles:20240401T080000
DTEND;TZID=America/Los_Angeles:20240401T210000
DTSTAMP:20260421T201830
CREATED:20240329T223148Z
LAST-MODIFIED:20240329T223148Z
UID:20776-1711958400-1712005200@goldranchdayton.com
SUMMARY:Loaded BBQ Chicken Nachos
DESCRIPTION:Hey Gold Ranch guests! Are you hungry? Well\, try our Loaded BBQ chicken Nachos House made kettle chips\, smoked chicken\, red onion\, tomato\, cheddar & jack cheese. Topped with our signature BBQ sauce. Spice it up with jalapenos for $0.99 extra! All those flavors for only $11.99 Daily at the Como Café. 
URL:https://goldranchdayton.com/event/loaded-bbq-chicken-nachos/
CATEGORIES:Dining
ATTACH;FMTTYPE=image/jpeg:https://goldranchdayton.com/wp-content/uploads/2024/03/2024-04-GRD-CHICKEN-NACHOS-600X402.jpg
END:VEVENT
BEGIN:VEVENT
DTSTART;TZID=America/Los_Angeles:20240401T080000
DTEND;TZID=America/Los_Angeles:20240401T210000
DTSTAMP:20260421T201830
CREATED:20240329T223358Z
LAST-MODIFIED:20240329T223358Z
UID:20779-1711958400-1712005200@goldranchdayton.com
SUMMARY:Molten Chocolate Lava Cake
DESCRIPTION:Craving something sweet? Get a mouthwatering piece of Molten Chocolate Lava Cake.  Warm and gooey chocolate cake filled with a creamy semisweet chocolate ganache. Topped with a smooth sweet caramel syrup and whipped cream. Treat yourself for just $6.99 every day for the month of April in the Como Café.
URL:https://goldranchdayton.com/event/molten-chocolate-lava-cake/
CATEGORIES:Dining
ATTACH;FMTTYPE=image/jpeg:https://goldranchdayton.com/wp-content/uploads/2024/03/2024-04-GRD-LAVA-CAKE-600X402.jpg
END:VEVENT
BEGIN:VEVENT
DTSTART;TZID=America/Los_Angeles:20240401T080000
DTEND;TZID=America/Los_Angeles:20240401T210000
DTSTAMP:20260421T201830
CREATED:20240329T223148Z
LAST-MODIFIED:20240329T223148Z
UID:20776-1711958400-1712005200@goldranchdayton.com
SUMMARY:Loaded BBQ Chicken Nachos
DESCRIPTION:Hey Gold Ranch guests! Are you hungry? Well\, try our Loaded BBQ chicken Nachos House made kettle chips\, smoked chicken\, red onion\, tomato\, cheddar & jack cheese. Topped with our signature BBQ sauce. Spice it up with jalapenos for $0.99 extra! All those flavors for only $11.99 Daily at the Como Café. 
URL:https://goldranchdayton.com/event/loaded-bbq-chicken-nachos/
CATEGORIES:Dining
ATTACH;FMTTYPE=image/jpeg:https://goldranchdayton.com/wp-content/uploads/2024/03/2024-04-GRD-CHICKEN-NACHOS-600X402.jpg
END:VEVENT
BEGIN:VEVENT
DTSTART;TZID=America/Los_Angeles:20240401T080000
DTEND;TZID=America/Los_Angeles:20240401T210000
DTSTAMP:20260421T201830
CREATED:20240329T223358Z
LAST-MODIFIED:20240329T223358Z
UID:20779-1711958400-1712005200@goldranchdayton.com
SUMMARY:Molten Chocolate Lava Cake
DESCRIPTION:Craving something sweet? Get a mouthwatering piece of Molten Chocolate Lava Cake.  Warm and gooey chocolate cake filled with a creamy semisweet chocolate ganache. Topped with a smooth sweet caramel syrup and whipped cream. Treat yourself for just $6.99 every day for the month of April in the Como Café.
URL:https://goldranchdayton.com/event/molten-chocolate-lava-cake/
CATEGORIES:Dining
ATTACH;FMTTYPE=image/jpeg:https://goldranchdayton.com/wp-content/uploads/2024/03/2024-04-GRD-LAVA-CAKE-600X402.jpg
END:VEVENT
BEGIN:VEVENT
DTSTART;TZID=America/Los_Angeles:20240401T080000
DTEND;TZID=America/Los_Angeles:20240401T210000
DTSTAMP:20260421T201830
CREATED:20240329T223148Z
LAST-MODIFIED:20240329T223148Z
UID:20776-1711958400-1712005200@goldranchdayton.com
SUMMARY:Loaded BBQ Chicken Nachos
DESCRIPTION:Hey Gold Ranch guests! Are you hungry? Well\, try our Loaded BBQ chicken Nachos House made kettle chips\, smoked chicken\, red onion\, tomato\, cheddar & jack cheese. Topped with our signature BBQ sauce. Spice it up with jalapenos for $0.99 extra! All those flavors for only $11.99 Daily at the Como Café. 
URL:https://goldranchdayton.com/event/loaded-bbq-chicken-nachos/
CATEGORIES:Dining
ATTACH;FMTTYPE=image/jpeg:https://goldranchdayton.com/wp-content/uploads/2024/03/2024-04-GRD-CHICKEN-NACHOS-600X402.jpg
END:VEVENT
BEGIN:VEVENT
DTSTART;TZID=America/Los_Angeles:20240401T080000
DTEND;TZID=America/Los_Angeles:20240401T210000
DTSTAMP:20260421T201830
CREATED:20240329T223358Z
LAST-MODIFIED:20240329T223358Z
UID:20779-1711958400-1712005200@goldranchdayton.com
SUMMARY:Molten Chocolate Lava Cake
DESCRIPTION:Craving something sweet? Get a mouthwatering piece of Molten Chocolate Lava Cake.  Warm and gooey chocolate cake filled with a creamy semisweet chocolate ganache. Topped with a smooth sweet caramel syrup and whipped cream. Treat yourself for just $6.99 every day for the month of April in the Como Café.
URL:https://goldranchdayton.com/event/molten-chocolate-lava-cake/
CATEGORIES:Dining
ATTACH;FMTTYPE=image/jpeg:https://goldranchdayton.com/wp-content/uploads/2024/03/2024-04-GRD-LAVA-CAKE-600X402.jpg
END:VEVENT
BEGIN:VEVENT
DTSTART;TZID=America/Los_Angeles:20230303T140000
DTEND;TZID=America/Los_Angeles:20230303T210000
DTSTAMP:20260421T201830
CREATED:20230301T040337Z
LAST-MODIFIED:20240301T204040Z
UID:20200-1677852000-1677877200@goldranchdayton.com
SUMMARY:Prime Rib
DESCRIPTION:Every Friday\, try a delicious\, juicy\, cooked to your liking PRIME RIB DINNER. Served with Chef’s vegetables and your choice of potato. All for $15.99 and only at the Como Café.
URL:https://goldranchdayton.com/event/prime-rib-4/
CATEGORIES:Dining,Featured
ATTACH;FMTTYPE=image/jpeg:https://goldranchdayton.com/wp-content/uploads/2021/08/2021-SEPT-GRD-PRIME-RIB-600X402.jpg
END:VEVENT
BEGIN:VEVENT
DTSTART;TZID=America/Los_Angeles:20240401T080000
DTEND;TZID=America/Los_Angeles:20240401T210000
DTSTAMP:20260421T201830
CREATED:20240329T223148Z
LAST-MODIFIED:20240329T223148Z
UID:20776-1711958400-1712005200@goldranchdayton.com
SUMMARY:Loaded BBQ Chicken Nachos
DESCRIPTION:Hey Gold Ranch guests! Are you hungry? Well\, try our Loaded BBQ chicken Nachos House made kettle chips\, smoked chicken\, red onion\, tomato\, cheddar & jack cheese. Topped with our signature BBQ sauce. Spice it up with jalapenos for $0.99 extra! All those flavors for only $11.99 Daily at the Como Café. 
URL:https://goldranchdayton.com/event/loaded-bbq-chicken-nachos/
CATEGORIES:Dining
ATTACH;FMTTYPE=image/jpeg:https://goldranchdayton.com/wp-content/uploads/2024/03/2024-04-GRD-CHICKEN-NACHOS-600X402.jpg
END:VEVENT
BEGIN:VEVENT
DTSTART;TZID=America/Los_Angeles:20240401T080000
DTEND;TZID=America/Los_Angeles:20240401T210000
DTSTAMP:20260421T201830
CREATED:20240329T223358Z
LAST-MODIFIED:20240329T223358Z
UID:20779-1711958400-1712005200@goldranchdayton.com
SUMMARY:Molten Chocolate Lava Cake
DESCRIPTION:Craving something sweet? Get a mouthwatering piece of Molten Chocolate Lava Cake.  Warm and gooey chocolate cake filled with a creamy semisweet chocolate ganache. Topped with a smooth sweet caramel syrup and whipped cream. Treat yourself for just $6.99 every day for the month of April in the Como Café.
URL:https://goldranchdayton.com/event/molten-chocolate-lava-cake/
CATEGORIES:Dining
ATTACH;FMTTYPE=image/jpeg:https://goldranchdayton.com/wp-content/uploads/2024/03/2024-04-GRD-LAVA-CAKE-600X402.jpg
END:VEVENT
BEGIN:VEVENT
DTSTART;TZID=America/Los_Angeles:20240401T080000
DTEND;TZID=America/Los_Angeles:20240401T210000
DTSTAMP:20260421T201830
CREATED:20240329T223148Z
LAST-MODIFIED:20240329T223148Z
UID:20776-1711958400-1712005200@goldranchdayton.com
SUMMARY:Loaded BBQ Chicken Nachos
DESCRIPTION:Hey Gold Ranch guests! Are you hungry? Well\, try our Loaded BBQ chicken Nachos House made kettle chips\, smoked chicken\, red onion\, tomato\, cheddar & jack cheese. Topped with our signature BBQ sauce. Spice it up with jalapenos for $0.99 extra! All those flavors for only $11.99 Daily at the Como Café. 
URL:https://goldranchdayton.com/event/loaded-bbq-chicken-nachos/
CATEGORIES:Dining
ATTACH;FMTTYPE=image/jpeg:https://goldranchdayton.com/wp-content/uploads/2024/03/2024-04-GRD-CHICKEN-NACHOS-600X402.jpg
END:VEVENT
BEGIN:VEVENT
DTSTART;TZID=America/Los_Angeles:20240401T080000
DTEND;TZID=America/Los_Angeles:20240401T210000
DTSTAMP:20260421T201830
CREATED:20240329T223358Z
LAST-MODIFIED:20240329T223358Z
UID:20779-1711958400-1712005200@goldranchdayton.com
SUMMARY:Molten Chocolate Lava Cake
DESCRIPTION:Craving something sweet? Get a mouthwatering piece of Molten Chocolate Lava Cake.  Warm and gooey chocolate cake filled with a creamy semisweet chocolate ganache. Topped with a smooth sweet caramel syrup and whipped cream. Treat yourself for just $6.99 every day for the month of April in the Como Café.
URL:https://goldranchdayton.com/event/molten-chocolate-lava-cake/
CATEGORIES:Dining
ATTACH;FMTTYPE=image/jpeg:https://goldranchdayton.com/wp-content/uploads/2024/03/2024-04-GRD-LAVA-CAKE-600X402.jpg
END:VEVENT
BEGIN:VEVENT
DTSTART;TZID=America/Los_Angeles:20240401T080000
DTEND;TZID=America/Los_Angeles:20240401T210000
DTSTAMP:20260421T201830
CREATED:20240329T223148Z
LAST-MODIFIED:20240329T223148Z
UID:20776-1711958400-1712005200@goldranchdayton.com
SUMMARY:Loaded BBQ Chicken Nachos
DESCRIPTION:Hey Gold Ranch guests! Are you hungry? Well\, try our Loaded BBQ chicken Nachos House made kettle chips\, smoked chicken\, red onion\, tomato\, cheddar & jack cheese. Topped with our signature BBQ sauce. Spice it up with jalapenos for $0.99 extra! All those flavors for only $11.99 Daily at the Como Café. 
URL:https://goldranchdayton.com/event/loaded-bbq-chicken-nachos/
CATEGORIES:Dining
ATTACH;FMTTYPE=image/jpeg:https://goldranchdayton.com/wp-content/uploads/2024/03/2024-04-GRD-CHICKEN-NACHOS-600X402.jpg
END:VEVENT
BEGIN:VEVENT
DTSTART;TZID=America/Los_Angeles:20240401T080000
DTEND;TZID=America/Los_Angeles:20240401T210000
DTSTAMP:20260421T201830
CREATED:20240329T223358Z
LAST-MODIFIED:20240329T223358Z
UID:20779-1711958400-1712005200@goldranchdayton.com
SUMMARY:Molten Chocolate Lava Cake
DESCRIPTION:Craving something sweet? Get a mouthwatering piece of Molten Chocolate Lava Cake.  Warm and gooey chocolate cake filled with a creamy semisweet chocolate ganache. Topped with a smooth sweet caramel syrup and whipped cream. Treat yourself for just $6.99 every day for the month of April in the Como Café.
URL:https://goldranchdayton.com/event/molten-chocolate-lava-cake/
CATEGORIES:Dining
ATTACH;FMTTYPE=image/jpeg:https://goldranchdayton.com/wp-content/uploads/2024/03/2024-04-GRD-LAVA-CAKE-600X402.jpg
END:VEVENT
BEGIN:VEVENT
DTSTART;TZID=America/Los_Angeles:20240401T080000
DTEND;TZID=America/Los_Angeles:20240401T210000
DTSTAMP:20260421T201830
CREATED:20240329T223148Z
LAST-MODIFIED:20240329T223148Z
UID:20776-1711958400-1712005200@goldranchdayton.com
SUMMARY:Loaded BBQ Chicken Nachos
DESCRIPTION:Hey Gold Ranch guests! Are you hungry? Well\, try our Loaded BBQ chicken Nachos House made kettle chips\, smoked chicken\, red onion\, tomato\, cheddar & jack cheese. Topped with our signature BBQ sauce. Spice it up with jalapenos for $0.99 extra! All those flavors for only $11.99 Daily at the Como Café. 
URL:https://goldranchdayton.com/event/loaded-bbq-chicken-nachos/
CATEGORIES:Dining
ATTACH;FMTTYPE=image/jpeg:https://goldranchdayton.com/wp-content/uploads/2024/03/2024-04-GRD-CHICKEN-NACHOS-600X402.jpg
END:VEVENT
BEGIN:VEVENT
DTSTART;TZID=America/Los_Angeles:20240401T080000
DTEND;TZID=America/Los_Angeles:20240401T210000
DTSTAMP:20260421T201830
CREATED:20240329T223358Z
LAST-MODIFIED:20240329T223358Z
UID:20779-1711958400-1712005200@goldranchdayton.com
SUMMARY:Molten Chocolate Lava Cake
DESCRIPTION:Craving something sweet? Get a mouthwatering piece of Molten Chocolate Lava Cake.  Warm and gooey chocolate cake filled with a creamy semisweet chocolate ganache. Topped with a smooth sweet caramel syrup and whipped cream. Treat yourself for just $6.99 every day for the month of April in the Como Café.
URL:https://goldranchdayton.com/event/molten-chocolate-lava-cake/
CATEGORIES:Dining
ATTACH;FMTTYPE=image/jpeg:https://goldranchdayton.com/wp-content/uploads/2024/03/2024-04-GRD-LAVA-CAKE-600X402.jpg
END:VEVENT
BEGIN:VEVENT
DTSTART;TZID=America/Los_Angeles:20240401T080000
DTEND;TZID=America/Los_Angeles:20240401T210000
DTSTAMP:20260421T201830
CREATED:20240329T223148Z
LAST-MODIFIED:20240329T223148Z
UID:20776-1711958400-1712005200@goldranchdayton.com
SUMMARY:Loaded BBQ Chicken Nachos
DESCRIPTION:Hey Gold Ranch guests! Are you hungry? Well\, try our Loaded BBQ chicken Nachos House made kettle chips\, smoked chicken\, red onion\, tomato\, cheddar & jack cheese. Topped with our signature BBQ sauce. Spice it up with jalapenos for $0.99 extra! All those flavors for only $11.99 Daily at the Como Café. 
URL:https://goldranchdayton.com/event/loaded-bbq-chicken-nachos/
CATEGORIES:Dining
ATTACH;FMTTYPE=image/jpeg:https://goldranchdayton.com/wp-content/uploads/2024/03/2024-04-GRD-CHICKEN-NACHOS-600X402.jpg
END:VEVENT
BEGIN:VEVENT
DTSTART;TZID=America/Los_Angeles:20240401T080000
DTEND;TZID=America/Los_Angeles:20240401T210000
DTSTAMP:20260421T201830
CREATED:20240329T223358Z
LAST-MODIFIED:20240329T223358Z
UID:20779-1711958400-1712005200@goldranchdayton.com
SUMMARY:Molten Chocolate Lava Cake
DESCRIPTION:Craving something sweet? Get a mouthwatering piece of Molten Chocolate Lava Cake.  Warm and gooey chocolate cake filled with a creamy semisweet chocolate ganache. Topped with a smooth sweet caramel syrup and whipped cream. Treat yourself for just $6.99 every day for the month of April in the Como Café.
URL:https://goldranchdayton.com/event/molten-chocolate-lava-cake/
CATEGORIES:Dining
ATTACH;FMTTYPE=image/jpeg:https://goldranchdayton.com/wp-content/uploads/2024/03/2024-04-GRD-LAVA-CAKE-600X402.jpg
END:VEVENT
BEGIN:VEVENT
DTSTART;TZID=America/Los_Angeles:20240401T080000
DTEND;TZID=America/Los_Angeles:20240401T210000
DTSTAMP:20260421T201830
CREATED:20240329T223148Z
LAST-MODIFIED:20240329T223148Z
UID:20776-1711958400-1712005200@goldranchdayton.com
SUMMARY:Loaded BBQ Chicken Nachos
DESCRIPTION:Hey Gold Ranch guests! Are you hungry? Well\, try our Loaded BBQ chicken Nachos House made kettle chips\, smoked chicken\, red onion\, tomato\, cheddar & jack cheese. Topped with our signature BBQ sauce. Spice it up with jalapenos for $0.99 extra! All those flavors for only $11.99 Daily at the Como Café. 
URL:https://goldranchdayton.com/event/loaded-bbq-chicken-nachos/
CATEGORIES:Dining
ATTACH;FMTTYPE=image/jpeg:https://goldranchdayton.com/wp-content/uploads/2024/03/2024-04-GRD-CHICKEN-NACHOS-600X402.jpg
END:VEVENT
BEGIN:VEVENT
DTSTART;TZID=America/Los_Angeles:20240401T080000
DTEND;TZID=America/Los_Angeles:20240401T210000
DTSTAMP:20260421T201830
CREATED:20240329T223358Z
LAST-MODIFIED:20240329T223358Z
UID:20779-1711958400-1712005200@goldranchdayton.com
SUMMARY:Molten Chocolate Lava Cake
DESCRIPTION:Craving something sweet? Get a mouthwatering piece of Molten Chocolate Lava Cake.  Warm and gooey chocolate cake filled with a creamy semisweet chocolate ganache. Topped with a smooth sweet caramel syrup and whipped cream. Treat yourself for just $6.99 every day for the month of April in the Como Café.
URL:https://goldranchdayton.com/event/molten-chocolate-lava-cake/
CATEGORIES:Dining
ATTACH;FMTTYPE=image/jpeg:https://goldranchdayton.com/wp-content/uploads/2024/03/2024-04-GRD-LAVA-CAKE-600X402.jpg
END:VEVENT
BEGIN:VEVENT
DTSTART;TZID=America/Los_Angeles:20240401T080000
DTEND;TZID=America/Los_Angeles:20240401T210000
DTSTAMP:20260421T201830
CREATED:20240329T223148Z
LAST-MODIFIED:20240329T223148Z
UID:20776-1711958400-1712005200@goldranchdayton.com
SUMMARY:Loaded BBQ Chicken Nachos
DESCRIPTION:Hey Gold Ranch guests! Are you hungry? Well\, try our Loaded BBQ chicken Nachos House made kettle chips\, smoked chicken\, red onion\, tomato\, cheddar & jack cheese. Topped with our signature BBQ sauce. Spice it up with jalapenos for $0.99 extra! All those flavors for only $11.99 Daily at the Como Café. 
URL:https://goldranchdayton.com/event/loaded-bbq-chicken-nachos/
CATEGORIES:Dining
ATTACH;FMTTYPE=image/jpeg:https://goldranchdayton.com/wp-content/uploads/2024/03/2024-04-GRD-CHICKEN-NACHOS-600X402.jpg
END:VEVENT
BEGIN:VEVENT
DTSTART;TZID=America/Los_Angeles:20240401T080000
DTEND;TZID=America/Los_Angeles:20240401T210000
DTSTAMP:20260421T201830
CREATED:20240329T223358Z
LAST-MODIFIED:20240329T223358Z
UID:20779-1711958400-1712005200@goldranchdayton.com
SUMMARY:Molten Chocolate Lava Cake
DESCRIPTION:Craving something sweet? Get a mouthwatering piece of Molten Chocolate Lava Cake.  Warm and gooey chocolate cake filled with a creamy semisweet chocolate ganache. Topped with a smooth sweet caramel syrup and whipped cream. Treat yourself for just $6.99 every day for the month of April in the Como Café.
URL:https://goldranchdayton.com/event/molten-chocolate-lava-cake/
CATEGORIES:Dining
ATTACH;FMTTYPE=image/jpeg:https://goldranchdayton.com/wp-content/uploads/2024/03/2024-04-GRD-LAVA-CAKE-600X402.jpg
END:VEVENT
BEGIN:VEVENT
DTSTART;TZID=America/Los_Angeles:20230303T140000
DTEND;TZID=America/Los_Angeles:20230303T210000
DTSTAMP:20260421T201830
CREATED:20230301T040337Z
LAST-MODIFIED:20240301T204040Z
UID:20200-1677852000-1677877200@goldranchdayton.com
SUMMARY:Prime Rib
DESCRIPTION:Every Friday\, try a delicious\, juicy\, cooked to your liking PRIME RIB DINNER. Served with Chef’s vegetables and your choice of potato. All for $15.99 and only at the Como Café.
URL:https://goldranchdayton.com/event/prime-rib-4/
CATEGORIES:Dining,Featured
ATTACH;FMTTYPE=image/jpeg:https://goldranchdayton.com/wp-content/uploads/2021/08/2021-SEPT-GRD-PRIME-RIB-600X402.jpg
END:VEVENT
BEGIN:VEVENT
DTSTART;TZID=America/Los_Angeles:20240401T080000
DTEND;TZID=America/Los_Angeles:20240401T210000
DTSTAMP:20260421T201830
CREATED:20240329T223148Z
LAST-MODIFIED:20240329T223148Z
UID:20776-1711958400-1712005200@goldranchdayton.com
SUMMARY:Loaded BBQ Chicken Nachos
DESCRIPTION:Hey Gold Ranch guests! Are you hungry? Well\, try our Loaded BBQ chicken Nachos House made kettle chips\, smoked chicken\, red onion\, tomato\, cheddar & jack cheese. Topped with our signature BBQ sauce. Spice it up with jalapenos for $0.99 extra! All those flavors for only $11.99 Daily at the Como Café. 
URL:https://goldranchdayton.com/event/loaded-bbq-chicken-nachos/
CATEGORIES:Dining
ATTACH;FMTTYPE=image/jpeg:https://goldranchdayton.com/wp-content/uploads/2024/03/2024-04-GRD-CHICKEN-NACHOS-600X402.jpg
END:VEVENT
BEGIN:VEVENT
DTSTART;TZID=America/Los_Angeles:20240401T080000
DTEND;TZID=America/Los_Angeles:20240401T210000
DTSTAMP:20260421T201830
CREATED:20240329T223358Z
LAST-MODIFIED:20240329T223358Z
UID:20779-1711958400-1712005200@goldranchdayton.com
SUMMARY:Molten Chocolate Lava Cake
DESCRIPTION:Craving something sweet? Get a mouthwatering piece of Molten Chocolate Lava Cake.  Warm and gooey chocolate cake filled with a creamy semisweet chocolate ganache. Topped with a smooth sweet caramel syrup and whipped cream. Treat yourself for just $6.99 every day for the month of April in the Como Café.
URL:https://goldranchdayton.com/event/molten-chocolate-lava-cake/
CATEGORIES:Dining
ATTACH;FMTTYPE=image/jpeg:https://goldranchdayton.com/wp-content/uploads/2024/03/2024-04-GRD-LAVA-CAKE-600X402.jpg
END:VEVENT
BEGIN:VEVENT
DTSTART;TZID=America/Los_Angeles:20240401T080000
DTEND;TZID=America/Los_Angeles:20240401T210000
DTSTAMP:20260421T201830
CREATED:20240329T223148Z
LAST-MODIFIED:20240329T223148Z
UID:20776-1711958400-1712005200@goldranchdayton.com
SUMMARY:Loaded BBQ Chicken Nachos
DESCRIPTION:Hey Gold Ranch guests! Are you hungry? Well\, try our Loaded BBQ chicken Nachos House made kettle chips\, smoked chicken\, red onion\, tomato\, cheddar & jack cheese. Topped with our signature BBQ sauce. Spice it up with jalapenos for $0.99 extra! All those flavors for only $11.99 Daily at the Como Café. 
URL:https://goldranchdayton.com/event/loaded-bbq-chicken-nachos/
CATEGORIES:Dining
ATTACH;FMTTYPE=image/jpeg:https://goldranchdayton.com/wp-content/uploads/2024/03/2024-04-GRD-CHICKEN-NACHOS-600X402.jpg
END:VEVENT
BEGIN:VEVENT
DTSTART;TZID=America/Los_Angeles:20240401T080000
DTEND;TZID=America/Los_Angeles:20240401T210000
DTSTAMP:20260421T201830
CREATED:20240329T223358Z
LAST-MODIFIED:20240329T223358Z
UID:20779-1711958400-1712005200@goldranchdayton.com
SUMMARY:Molten Chocolate Lava Cake
DESCRIPTION:Craving something sweet? Get a mouthwatering piece of Molten Chocolate Lava Cake.  Warm and gooey chocolate cake filled with a creamy semisweet chocolate ganache. Topped with a smooth sweet caramel syrup and whipped cream. Treat yourself for just $6.99 every day for the month of April in the Como Café.
URL:https://goldranchdayton.com/event/molten-chocolate-lava-cake/
CATEGORIES:Dining
ATTACH;FMTTYPE=image/jpeg:https://goldranchdayton.com/wp-content/uploads/2024/03/2024-04-GRD-LAVA-CAKE-600X402.jpg
END:VEVENT
END:VCALENDAR