BEGIN:VCALENDAR
VERSION:2.0
PRODID:-//Gold Ranch Casino Dayton - ECPv6.15.18//NONSGML v1.0//EN
CALSCALE:GREGORIAN
METHOD:PUBLISH
X-WR-CALNAME:Gold Ranch Casino Dayton
X-ORIGINAL-URL:https://goldranchdayton.com
X-WR-CALDESC:Events for Gold Ranch Casino Dayton
REFRESH-INTERVAL;VALUE=DURATION:PT1H
X-Robots-Tag:noindex
X-PUBLISHED-TTL:PT1H
BEGIN:VTIMEZONE
TZID:America/Los_Angeles
BEGIN:DAYLIGHT
TZOFFSETFROM:-0800
TZOFFSETTO:-0700
TZNAME:PDT
DTSTART:20220313T100000
END:DAYLIGHT
BEGIN:STANDARD
TZOFFSETFROM:-0700
TZOFFSETTO:-0800
TZNAME:PST
DTSTART:20221106T090000
END:STANDARD
BEGIN:DAYLIGHT
TZOFFSETFROM:-0800
TZOFFSETTO:-0700
TZNAME:PDT
DTSTART:20230312T100000
END:DAYLIGHT
BEGIN:STANDARD
TZOFFSETFROM:-0700
TZOFFSETTO:-0800
TZNAME:PST
DTSTART:20231105T090000
END:STANDARD
BEGIN:DAYLIGHT
TZOFFSETFROM:-0800
TZOFFSETTO:-0700
TZNAME:PDT
DTSTART:20240310T100000
END:DAYLIGHT
BEGIN:STANDARD
TZOFFSETFROM:-0700
TZOFFSETTO:-0800
TZNAME:PST
DTSTART:20241103T090000
END:STANDARD
BEGIN:DAYLIGHT
TZOFFSETFROM:-0800
TZOFFSETTO:-0700
TZNAME:PDT
DTSTART:20250309T100000
END:DAYLIGHT
BEGIN:STANDARD
TZOFFSETFROM:-0700
TZOFFSETTO:-0800
TZNAME:PST
DTSTART:20251102T090000
END:STANDARD
END:VTIMEZONE
BEGIN:VEVENT
DTSTART;TZID=America/Los_Angeles:20240201T080000
DTEND;TZID=America/Los_Angeles:20240201T200000
DTSTAMP:20260421T230036
CREATED:20240201T215551Z
LAST-MODIFIED:20240201T215551Z
UID:20660-1706774400-1706817600@goldranchdayton.com
SUMMARY:BBQ Pulled Pork Quesadilla
DESCRIPTION:Are you hungry? Well try our new BBQ Pulled Pork Quesadilla– hardwood smoked pulled pork\, battered crispy fried onion\, Monterey jack cheese\, Bold BBQ sauce melted together on a flour tortilla.  Spice it up with Jalapenos for just 75 cents All for $12.99! Served daily at the COMO Café for the whole month of February! Don’t miss out!
URL:https://goldranchdayton.com/event/bbq-pulled-pork-quesadilla/
CATEGORIES:Dining
ATTACH;FMTTYPE=image/jpeg:https://goldranchdayton.com/wp-content/uploads/2024/02/2024-FEB-GRD-BBQ-Pork-Quesdilla-600x402-1.jpg
END:VEVENT
BEGIN:VEVENT
DTSTART;TZID=America/Los_Angeles:20240201T080000
DTEND;TZID=America/Los_Angeles:20240201T200000
DTSTAMP:20260421T230036
CREATED:20240201T215808Z
LAST-MODIFIED:20240201T215808Z
UID:20663-1706774400-1706817600@goldranchdayton.com
SUMMARY:Strawberry Brownie Sundae
DESCRIPTION:Craving something sweet? Get a mouthwatering Strawberry Brownie Sundae! A warm chocolate brownie served with classic vanilla ice cream\, Topped off with strawberry compote & chocolate syrup!  Available any day of the week at the Como Cafe for only $6.99!
URL:https://goldranchdayton.com/event/strawberry-brownie-sundae/
CATEGORIES:Dining
ATTACH;FMTTYPE=image/jpeg:https://goldranchdayton.com/wp-content/uploads/2024/02/2024-FEB-GRD-Strawberry-Brownie-Sundae-600x402-1.jpg
END:VEVENT
BEGIN:VEVENT
DTSTART;TZID=America/Los_Angeles:20240201T080000
DTEND;TZID=America/Los_Angeles:20240201T200000
DTSTAMP:20260421T230036
CREATED:20240201T215551Z
LAST-MODIFIED:20240201T215551Z
UID:20660-1706774400-1706817600@goldranchdayton.com
SUMMARY:BBQ Pulled Pork Quesadilla
DESCRIPTION:Are you hungry? Well try our new BBQ Pulled Pork Quesadilla– hardwood smoked pulled pork\, battered crispy fried onion\, Monterey jack cheese\, Bold BBQ sauce melted together on a flour tortilla.  Spice it up with Jalapenos for just 75 cents All for $12.99! Served daily at the COMO Café for the whole month of February! Don’t miss out!
URL:https://goldranchdayton.com/event/bbq-pulled-pork-quesadilla/
CATEGORIES:Dining
ATTACH;FMTTYPE=image/jpeg:https://goldranchdayton.com/wp-content/uploads/2024/02/2024-FEB-GRD-BBQ-Pork-Quesdilla-600x402-1.jpg
END:VEVENT
BEGIN:VEVENT
DTSTART;TZID=America/Los_Angeles:20240201T080000
DTEND;TZID=America/Los_Angeles:20240201T200000
DTSTAMP:20260421T230036
CREATED:20240201T215808Z
LAST-MODIFIED:20240201T215808Z
UID:20663-1706774400-1706817600@goldranchdayton.com
SUMMARY:Strawberry Brownie Sundae
DESCRIPTION:Craving something sweet? Get a mouthwatering Strawberry Brownie Sundae! A warm chocolate brownie served with classic vanilla ice cream\, Topped off with strawberry compote & chocolate syrup!  Available any day of the week at the Como Cafe for only $6.99!
URL:https://goldranchdayton.com/event/strawberry-brownie-sundae/
CATEGORIES:Dining
ATTACH;FMTTYPE=image/jpeg:https://goldranchdayton.com/wp-content/uploads/2024/02/2024-FEB-GRD-Strawberry-Brownie-Sundae-600x402-1.jpg
END:VEVENT
BEGIN:VEVENT
DTSTART;TZID=America/Los_Angeles:20230303T140000
DTEND;TZID=America/Los_Angeles:20230303T210000
DTSTAMP:20260421T230036
CREATED:20230301T040337Z
LAST-MODIFIED:20240301T204040Z
UID:20200-1677852000-1677877200@goldranchdayton.com
SUMMARY:Prime Rib
DESCRIPTION:Every Friday\, try a delicious\, juicy\, cooked to your liking PRIME RIB DINNER. Served with Chef’s vegetables and your choice of potato. All for $15.99 and only at the Como Café.
URL:https://goldranchdayton.com/event/prime-rib-4/
CATEGORIES:Dining,Featured
ATTACH;FMTTYPE=image/jpeg:https://goldranchdayton.com/wp-content/uploads/2021/08/2021-SEPT-GRD-PRIME-RIB-600X402.jpg
END:VEVENT
BEGIN:VEVENT
DTSTART;TZID=America/Los_Angeles:20240201T080000
DTEND;TZID=America/Los_Angeles:20240201T200000
DTSTAMP:20260421T230036
CREATED:20240201T215551Z
LAST-MODIFIED:20240201T215551Z
UID:20660-1706774400-1706817600@goldranchdayton.com
SUMMARY:BBQ Pulled Pork Quesadilla
DESCRIPTION:Are you hungry? Well try our new BBQ Pulled Pork Quesadilla– hardwood smoked pulled pork\, battered crispy fried onion\, Monterey jack cheese\, Bold BBQ sauce melted together on a flour tortilla.  Spice it up with Jalapenos for just 75 cents All for $12.99! Served daily at the COMO Café for the whole month of February! Don’t miss out!
URL:https://goldranchdayton.com/event/bbq-pulled-pork-quesadilla/
CATEGORIES:Dining
ATTACH;FMTTYPE=image/jpeg:https://goldranchdayton.com/wp-content/uploads/2024/02/2024-FEB-GRD-BBQ-Pork-Quesdilla-600x402-1.jpg
END:VEVENT
BEGIN:VEVENT
DTSTART;TZID=America/Los_Angeles:20240201T080000
DTEND;TZID=America/Los_Angeles:20240201T200000
DTSTAMP:20260421T230036
CREATED:20240201T215808Z
LAST-MODIFIED:20240201T215808Z
UID:20663-1706774400-1706817600@goldranchdayton.com
SUMMARY:Strawberry Brownie Sundae
DESCRIPTION:Craving something sweet? Get a mouthwatering Strawberry Brownie Sundae! A warm chocolate brownie served with classic vanilla ice cream\, Topped off with strawberry compote & chocolate syrup!  Available any day of the week at the Como Cafe for only $6.99!
URL:https://goldranchdayton.com/event/strawberry-brownie-sundae/
CATEGORIES:Dining
ATTACH;FMTTYPE=image/jpeg:https://goldranchdayton.com/wp-content/uploads/2024/02/2024-FEB-GRD-Strawberry-Brownie-Sundae-600x402-1.jpg
END:VEVENT
BEGIN:VEVENT
DTSTART;TZID=America/Los_Angeles:20240201T080000
DTEND;TZID=America/Los_Angeles:20240201T200000
DTSTAMP:20260421T230036
CREATED:20240201T215551Z
LAST-MODIFIED:20240201T215551Z
UID:20660-1706774400-1706817600@goldranchdayton.com
SUMMARY:BBQ Pulled Pork Quesadilla
DESCRIPTION:Are you hungry? Well try our new BBQ Pulled Pork Quesadilla– hardwood smoked pulled pork\, battered crispy fried onion\, Monterey jack cheese\, Bold BBQ sauce melted together on a flour tortilla.  Spice it up with Jalapenos for just 75 cents All for $12.99! Served daily at the COMO Café for the whole month of February! Don’t miss out!
URL:https://goldranchdayton.com/event/bbq-pulled-pork-quesadilla/
CATEGORIES:Dining
ATTACH;FMTTYPE=image/jpeg:https://goldranchdayton.com/wp-content/uploads/2024/02/2024-FEB-GRD-BBQ-Pork-Quesdilla-600x402-1.jpg
END:VEVENT
BEGIN:VEVENT
DTSTART;TZID=America/Los_Angeles:20240201T080000
DTEND;TZID=America/Los_Angeles:20240201T200000
DTSTAMP:20260421T230036
CREATED:20240201T215808Z
LAST-MODIFIED:20240201T215808Z
UID:20663-1706774400-1706817600@goldranchdayton.com
SUMMARY:Strawberry Brownie Sundae
DESCRIPTION:Craving something sweet? Get a mouthwatering Strawberry Brownie Sundae! A warm chocolate brownie served with classic vanilla ice cream\, Topped off with strawberry compote & chocolate syrup!  Available any day of the week at the Como Cafe for only $6.99!
URL:https://goldranchdayton.com/event/strawberry-brownie-sundae/
CATEGORIES:Dining
ATTACH;FMTTYPE=image/jpeg:https://goldranchdayton.com/wp-content/uploads/2024/02/2024-FEB-GRD-Strawberry-Brownie-Sundae-600x402-1.jpg
END:VEVENT
BEGIN:VEVENT
DTSTART;TZID=America/Los_Angeles:20240201T080000
DTEND;TZID=America/Los_Angeles:20240201T200000
DTSTAMP:20260421T230036
CREATED:20240201T215551Z
LAST-MODIFIED:20240201T215551Z
UID:20660-1706774400-1706817600@goldranchdayton.com
SUMMARY:BBQ Pulled Pork Quesadilla
DESCRIPTION:Are you hungry? Well try our new BBQ Pulled Pork Quesadilla– hardwood smoked pulled pork\, battered crispy fried onion\, Monterey jack cheese\, Bold BBQ sauce melted together on a flour tortilla.  Spice it up with Jalapenos for just 75 cents All for $12.99! Served daily at the COMO Café for the whole month of February! Don’t miss out!
URL:https://goldranchdayton.com/event/bbq-pulled-pork-quesadilla/
CATEGORIES:Dining
ATTACH;FMTTYPE=image/jpeg:https://goldranchdayton.com/wp-content/uploads/2024/02/2024-FEB-GRD-BBQ-Pork-Quesdilla-600x402-1.jpg
END:VEVENT
BEGIN:VEVENT
DTSTART;TZID=America/Los_Angeles:20240201T080000
DTEND;TZID=America/Los_Angeles:20240201T200000
DTSTAMP:20260421T230036
CREATED:20240201T215808Z
LAST-MODIFIED:20240201T215808Z
UID:20663-1706774400-1706817600@goldranchdayton.com
SUMMARY:Strawberry Brownie Sundae
DESCRIPTION:Craving something sweet? Get a mouthwatering Strawberry Brownie Sundae! A warm chocolate brownie served with classic vanilla ice cream\, Topped off with strawberry compote & chocolate syrup!  Available any day of the week at the Como Cafe for only $6.99!
URL:https://goldranchdayton.com/event/strawberry-brownie-sundae/
CATEGORIES:Dining
ATTACH;FMTTYPE=image/jpeg:https://goldranchdayton.com/wp-content/uploads/2024/02/2024-FEB-GRD-Strawberry-Brownie-Sundae-600x402-1.jpg
END:VEVENT
BEGIN:VEVENT
DTSTART;TZID=America/Los_Angeles:20240201T080000
DTEND;TZID=America/Los_Angeles:20240201T200000
DTSTAMP:20260421T230036
CREATED:20240201T215551Z
LAST-MODIFIED:20240201T215551Z
UID:20660-1706774400-1706817600@goldranchdayton.com
SUMMARY:BBQ Pulled Pork Quesadilla
DESCRIPTION:Are you hungry? Well try our new BBQ Pulled Pork Quesadilla– hardwood smoked pulled pork\, battered crispy fried onion\, Monterey jack cheese\, Bold BBQ sauce melted together on a flour tortilla.  Spice it up with Jalapenos for just 75 cents All for $12.99! Served daily at the COMO Café for the whole month of February! Don’t miss out!
URL:https://goldranchdayton.com/event/bbq-pulled-pork-quesadilla/
CATEGORIES:Dining
ATTACH;FMTTYPE=image/jpeg:https://goldranchdayton.com/wp-content/uploads/2024/02/2024-FEB-GRD-BBQ-Pork-Quesdilla-600x402-1.jpg
END:VEVENT
BEGIN:VEVENT
DTSTART;TZID=America/Los_Angeles:20240201T080000
DTEND;TZID=America/Los_Angeles:20240201T200000
DTSTAMP:20260421T230036
CREATED:20240201T215808Z
LAST-MODIFIED:20240201T215808Z
UID:20663-1706774400-1706817600@goldranchdayton.com
SUMMARY:Strawberry Brownie Sundae
DESCRIPTION:Craving something sweet? Get a mouthwatering Strawberry Brownie Sundae! A warm chocolate brownie served with classic vanilla ice cream\, Topped off with strawberry compote & chocolate syrup!  Available any day of the week at the Como Cafe for only $6.99!
URL:https://goldranchdayton.com/event/strawberry-brownie-sundae/
CATEGORIES:Dining
ATTACH;FMTTYPE=image/jpeg:https://goldranchdayton.com/wp-content/uploads/2024/02/2024-FEB-GRD-Strawberry-Brownie-Sundae-600x402-1.jpg
END:VEVENT
BEGIN:VEVENT
DTSTART;TZID=America/Los_Angeles:20240201T080000
DTEND;TZID=America/Los_Angeles:20240201T200000
DTSTAMP:20260421T230036
CREATED:20240201T215551Z
LAST-MODIFIED:20240201T215551Z
UID:20660-1706774400-1706817600@goldranchdayton.com
SUMMARY:BBQ Pulled Pork Quesadilla
DESCRIPTION:Are you hungry? Well try our new BBQ Pulled Pork Quesadilla– hardwood smoked pulled pork\, battered crispy fried onion\, Monterey jack cheese\, Bold BBQ sauce melted together on a flour tortilla.  Spice it up with Jalapenos for just 75 cents All for $12.99! Served daily at the COMO Café for the whole month of February! Don’t miss out!
URL:https://goldranchdayton.com/event/bbq-pulled-pork-quesadilla/
CATEGORIES:Dining
ATTACH;FMTTYPE=image/jpeg:https://goldranchdayton.com/wp-content/uploads/2024/02/2024-FEB-GRD-BBQ-Pork-Quesdilla-600x402-1.jpg
END:VEVENT
BEGIN:VEVENT
DTSTART;TZID=America/Los_Angeles:20240201T080000
DTEND;TZID=America/Los_Angeles:20240201T200000
DTSTAMP:20260421T230036
CREATED:20240201T215808Z
LAST-MODIFIED:20240201T215808Z
UID:20663-1706774400-1706817600@goldranchdayton.com
SUMMARY:Strawberry Brownie Sundae
DESCRIPTION:Craving something sweet? Get a mouthwatering Strawberry Brownie Sundae! A warm chocolate brownie served with classic vanilla ice cream\, Topped off with strawberry compote & chocolate syrup!  Available any day of the week at the Como Cafe for only $6.99!
URL:https://goldranchdayton.com/event/strawberry-brownie-sundae/
CATEGORIES:Dining
ATTACH;FMTTYPE=image/jpeg:https://goldranchdayton.com/wp-content/uploads/2024/02/2024-FEB-GRD-Strawberry-Brownie-Sundae-600x402-1.jpg
END:VEVENT
BEGIN:VEVENT
DTSTART;TZID=America/Los_Angeles:20240201T080000
DTEND;TZID=America/Los_Angeles:20240201T200000
DTSTAMP:20260421T230036
CREATED:20240201T215551Z
LAST-MODIFIED:20240201T215551Z
UID:20660-1706774400-1706817600@goldranchdayton.com
SUMMARY:BBQ Pulled Pork Quesadilla
DESCRIPTION:Are you hungry? Well try our new BBQ Pulled Pork Quesadilla– hardwood smoked pulled pork\, battered crispy fried onion\, Monterey jack cheese\, Bold BBQ sauce melted together on a flour tortilla.  Spice it up with Jalapenos for just 75 cents All for $12.99! Served daily at the COMO Café for the whole month of February! Don’t miss out!
URL:https://goldranchdayton.com/event/bbq-pulled-pork-quesadilla/
CATEGORIES:Dining
ATTACH;FMTTYPE=image/jpeg:https://goldranchdayton.com/wp-content/uploads/2024/02/2024-FEB-GRD-BBQ-Pork-Quesdilla-600x402-1.jpg
END:VEVENT
BEGIN:VEVENT
DTSTART;TZID=America/Los_Angeles:20240201T080000
DTEND;TZID=America/Los_Angeles:20240201T200000
DTSTAMP:20260421T230036
CREATED:20240201T215808Z
LAST-MODIFIED:20240201T215808Z
UID:20663-1706774400-1706817600@goldranchdayton.com
SUMMARY:Strawberry Brownie Sundae
DESCRIPTION:Craving something sweet? Get a mouthwatering Strawberry Brownie Sundae! A warm chocolate brownie served with classic vanilla ice cream\, Topped off with strawberry compote & chocolate syrup!  Available any day of the week at the Como Cafe for only $6.99!
URL:https://goldranchdayton.com/event/strawberry-brownie-sundae/
CATEGORIES:Dining
ATTACH;FMTTYPE=image/jpeg:https://goldranchdayton.com/wp-content/uploads/2024/02/2024-FEB-GRD-Strawberry-Brownie-Sundae-600x402-1.jpg
END:VEVENT
BEGIN:VEVENT
DTSTART;TZID=America/Los_Angeles:20240201T080000
DTEND;TZID=America/Los_Angeles:20240201T200000
DTSTAMP:20260421T230036
CREATED:20240201T215551Z
LAST-MODIFIED:20240201T215551Z
UID:20660-1706774400-1706817600@goldranchdayton.com
SUMMARY:BBQ Pulled Pork Quesadilla
DESCRIPTION:Are you hungry? Well try our new BBQ Pulled Pork Quesadilla– hardwood smoked pulled pork\, battered crispy fried onion\, Monterey jack cheese\, Bold BBQ sauce melted together on a flour tortilla.  Spice it up with Jalapenos for just 75 cents All for $12.99! Served daily at the COMO Café for the whole month of February! Don’t miss out!
URL:https://goldranchdayton.com/event/bbq-pulled-pork-quesadilla/
CATEGORIES:Dining
ATTACH;FMTTYPE=image/jpeg:https://goldranchdayton.com/wp-content/uploads/2024/02/2024-FEB-GRD-BBQ-Pork-Quesdilla-600x402-1.jpg
END:VEVENT
BEGIN:VEVENT
DTSTART;TZID=America/Los_Angeles:20240201T080000
DTEND;TZID=America/Los_Angeles:20240201T200000
DTSTAMP:20260421T230036
CREATED:20240201T215808Z
LAST-MODIFIED:20240201T215808Z
UID:20663-1706774400-1706817600@goldranchdayton.com
SUMMARY:Strawberry Brownie Sundae
DESCRIPTION:Craving something sweet? Get a mouthwatering Strawberry Brownie Sundae! A warm chocolate brownie served with classic vanilla ice cream\, Topped off with strawberry compote & chocolate syrup!  Available any day of the week at the Como Cafe for only $6.99!
URL:https://goldranchdayton.com/event/strawberry-brownie-sundae/
CATEGORIES:Dining
ATTACH;FMTTYPE=image/jpeg:https://goldranchdayton.com/wp-content/uploads/2024/02/2024-FEB-GRD-Strawberry-Brownie-Sundae-600x402-1.jpg
END:VEVENT
BEGIN:VEVENT
DTSTART;TZID=America/Los_Angeles:20230303T140000
DTEND;TZID=America/Los_Angeles:20230303T210000
DTSTAMP:20260421T230036
CREATED:20230301T040337Z
LAST-MODIFIED:20240301T204040Z
UID:20200-1677852000-1677877200@goldranchdayton.com
SUMMARY:Prime Rib
DESCRIPTION:Every Friday\, try a delicious\, juicy\, cooked to your liking PRIME RIB DINNER. Served with Chef’s vegetables and your choice of potato. All for $15.99 and only at the Como Café.
URL:https://goldranchdayton.com/event/prime-rib-4/
CATEGORIES:Dining,Featured
ATTACH;FMTTYPE=image/jpeg:https://goldranchdayton.com/wp-content/uploads/2021/08/2021-SEPT-GRD-PRIME-RIB-600X402.jpg
END:VEVENT
BEGIN:VEVENT
DTSTART;TZID=America/Los_Angeles:20240201T080000
DTEND;TZID=America/Los_Angeles:20240201T200000
DTSTAMP:20260421T230036
CREATED:20240201T215551Z
LAST-MODIFIED:20240201T215551Z
UID:20660-1706774400-1706817600@goldranchdayton.com
SUMMARY:BBQ Pulled Pork Quesadilla
DESCRIPTION:Are you hungry? Well try our new BBQ Pulled Pork Quesadilla– hardwood smoked pulled pork\, battered crispy fried onion\, Monterey jack cheese\, Bold BBQ sauce melted together on a flour tortilla.  Spice it up with Jalapenos for just 75 cents All for $12.99! Served daily at the COMO Café for the whole month of February! Don’t miss out!
URL:https://goldranchdayton.com/event/bbq-pulled-pork-quesadilla/
CATEGORIES:Dining
ATTACH;FMTTYPE=image/jpeg:https://goldranchdayton.com/wp-content/uploads/2024/02/2024-FEB-GRD-BBQ-Pork-Quesdilla-600x402-1.jpg
END:VEVENT
BEGIN:VEVENT
DTSTART;TZID=America/Los_Angeles:20240201T080000
DTEND;TZID=America/Los_Angeles:20240201T200000
DTSTAMP:20260421T230036
CREATED:20240201T215808Z
LAST-MODIFIED:20240201T215808Z
UID:20663-1706774400-1706817600@goldranchdayton.com
SUMMARY:Strawberry Brownie Sundae
DESCRIPTION:Craving something sweet? Get a mouthwatering Strawberry Brownie Sundae! A warm chocolate brownie served with classic vanilla ice cream\, Topped off with strawberry compote & chocolate syrup!  Available any day of the week at the Como Cafe for only $6.99!
URL:https://goldranchdayton.com/event/strawberry-brownie-sundae/
CATEGORIES:Dining
ATTACH;FMTTYPE=image/jpeg:https://goldranchdayton.com/wp-content/uploads/2024/02/2024-FEB-GRD-Strawberry-Brownie-Sundae-600x402-1.jpg
END:VEVENT
BEGIN:VEVENT
DTSTART;TZID=America/Los_Angeles:20240211T070000
DTEND;TZID=America/Los_Angeles:20240211T200000
DTSTAMP:20260421T230036
CREATED:20240201T213111Z
LAST-MODIFIED:20240201T213121Z
UID:20648-1707634800-1707681600@goldranchdayton.com
SUMMARY:Game Day Boneless Wings
DESCRIPTION:We’ve got the game day food you’ve been craving! Teriyaki Glazed Boneless Wings-homestyle breaded boneless wings\, covered in our savory sweet pineapple soy glaze. Available only on Super Bowl  Sunday at the COMO CAFÉ. Get ’em while they’re HOT for only $10.99!
URL:https://goldranchdayton.com/event/game-day-boneless-wings/
CATEGORIES:Dining,Featured
ATTACH;FMTTYPE=image/jpeg:https://goldranchdayton.com/wp-content/uploads/2024/02/2024-FEB-GRD-Big-Game-Day-600x402-1.jpg
END:VEVENT
BEGIN:VEVENT
DTSTART;TZID=America/Los_Angeles:20240201T080000
DTEND;TZID=America/Los_Angeles:20240201T200000
DTSTAMP:20260421T230036
CREATED:20240201T215551Z
LAST-MODIFIED:20240201T215551Z
UID:20660-1706774400-1706817600@goldranchdayton.com
SUMMARY:BBQ Pulled Pork Quesadilla
DESCRIPTION:Are you hungry? Well try our new BBQ Pulled Pork Quesadilla– hardwood smoked pulled pork\, battered crispy fried onion\, Monterey jack cheese\, Bold BBQ sauce melted together on a flour tortilla.  Spice it up with Jalapenos for just 75 cents All for $12.99! Served daily at the COMO Café for the whole month of February! Don’t miss out!
URL:https://goldranchdayton.com/event/bbq-pulled-pork-quesadilla/
CATEGORIES:Dining
ATTACH;FMTTYPE=image/jpeg:https://goldranchdayton.com/wp-content/uploads/2024/02/2024-FEB-GRD-BBQ-Pork-Quesdilla-600x402-1.jpg
END:VEVENT
BEGIN:VEVENT
DTSTART;TZID=America/Los_Angeles:20240201T080000
DTEND;TZID=America/Los_Angeles:20240201T200000
DTSTAMP:20260421T230036
CREATED:20240201T215808Z
LAST-MODIFIED:20240201T215808Z
UID:20663-1706774400-1706817600@goldranchdayton.com
SUMMARY:Strawberry Brownie Sundae
DESCRIPTION:Craving something sweet? Get a mouthwatering Strawberry Brownie Sundae! A warm chocolate brownie served with classic vanilla ice cream\, Topped off with strawberry compote & chocolate syrup!  Available any day of the week at the Como Cafe for only $6.99!
URL:https://goldranchdayton.com/event/strawberry-brownie-sundae/
CATEGORIES:Dining
ATTACH;FMTTYPE=image/jpeg:https://goldranchdayton.com/wp-content/uploads/2024/02/2024-FEB-GRD-Strawberry-Brownie-Sundae-600x402-1.jpg
END:VEVENT
BEGIN:VEVENT
DTSTART;TZID=America/Los_Angeles:20240201T080000
DTEND;TZID=America/Los_Angeles:20240201T200000
DTSTAMP:20260421T230036
CREATED:20240201T215551Z
LAST-MODIFIED:20240201T215551Z
UID:20660-1706774400-1706817600@goldranchdayton.com
SUMMARY:BBQ Pulled Pork Quesadilla
DESCRIPTION:Are you hungry? Well try our new BBQ Pulled Pork Quesadilla– hardwood smoked pulled pork\, battered crispy fried onion\, Monterey jack cheese\, Bold BBQ sauce melted together on a flour tortilla.  Spice it up with Jalapenos for just 75 cents All for $12.99! Served daily at the COMO Café for the whole month of February! Don’t miss out!
URL:https://goldranchdayton.com/event/bbq-pulled-pork-quesadilla/
CATEGORIES:Dining
ATTACH;FMTTYPE=image/jpeg:https://goldranchdayton.com/wp-content/uploads/2024/02/2024-FEB-GRD-BBQ-Pork-Quesdilla-600x402-1.jpg
END:VEVENT
BEGIN:VEVENT
DTSTART;TZID=America/Los_Angeles:20240201T080000
DTEND;TZID=America/Los_Angeles:20240201T200000
DTSTAMP:20260421T230036
CREATED:20240201T215808Z
LAST-MODIFIED:20240201T215808Z
UID:20663-1706774400-1706817600@goldranchdayton.com
SUMMARY:Strawberry Brownie Sundae
DESCRIPTION:Craving something sweet? Get a mouthwatering Strawberry Brownie Sundae! A warm chocolate brownie served with classic vanilla ice cream\, Topped off with strawberry compote & chocolate syrup!  Available any day of the week at the Como Cafe for only $6.99!
URL:https://goldranchdayton.com/event/strawberry-brownie-sundae/
CATEGORIES:Dining
ATTACH;FMTTYPE=image/jpeg:https://goldranchdayton.com/wp-content/uploads/2024/02/2024-FEB-GRD-Strawberry-Brownie-Sundae-600x402-1.jpg
END:VEVENT
BEGIN:VEVENT
DTSTART;TZID=America/Los_Angeles:20240201T080000
DTEND;TZID=America/Los_Angeles:20240201T200000
DTSTAMP:20260421T230036
CREATED:20240201T215551Z
LAST-MODIFIED:20240201T215551Z
UID:20660-1706774400-1706817600@goldranchdayton.com
SUMMARY:BBQ Pulled Pork Quesadilla
DESCRIPTION:Are you hungry? Well try our new BBQ Pulled Pork Quesadilla– hardwood smoked pulled pork\, battered crispy fried onion\, Monterey jack cheese\, Bold BBQ sauce melted together on a flour tortilla.  Spice it up with Jalapenos for just 75 cents All for $12.99! Served daily at the COMO Café for the whole month of February! Don’t miss out!
URL:https://goldranchdayton.com/event/bbq-pulled-pork-quesadilla/
CATEGORIES:Dining
ATTACH;FMTTYPE=image/jpeg:https://goldranchdayton.com/wp-content/uploads/2024/02/2024-FEB-GRD-BBQ-Pork-Quesdilla-600x402-1.jpg
END:VEVENT
BEGIN:VEVENT
DTSTART;TZID=America/Los_Angeles:20240201T080000
DTEND;TZID=America/Los_Angeles:20240201T200000
DTSTAMP:20260421T230036
CREATED:20240201T215808Z
LAST-MODIFIED:20240201T215808Z
UID:20663-1706774400-1706817600@goldranchdayton.com
SUMMARY:Strawberry Brownie Sundae
DESCRIPTION:Craving something sweet? Get a mouthwatering Strawberry Brownie Sundae! A warm chocolate brownie served with classic vanilla ice cream\, Topped off with strawberry compote & chocolate syrup!  Available any day of the week at the Como Cafe for only $6.99!
URL:https://goldranchdayton.com/event/strawberry-brownie-sundae/
CATEGORIES:Dining
ATTACH;FMTTYPE=image/jpeg:https://goldranchdayton.com/wp-content/uploads/2024/02/2024-FEB-GRD-Strawberry-Brownie-Sundae-600x402-1.jpg
END:VEVENT
BEGIN:VEVENT
DTSTART;TZID=America/Los_Angeles:20240201T080000
DTEND;TZID=America/Los_Angeles:20240201T200000
DTSTAMP:20260421T230036
CREATED:20240201T215551Z
LAST-MODIFIED:20240201T215551Z
UID:20660-1706774400-1706817600@goldranchdayton.com
SUMMARY:BBQ Pulled Pork Quesadilla
DESCRIPTION:Are you hungry? Well try our new BBQ Pulled Pork Quesadilla– hardwood smoked pulled pork\, battered crispy fried onion\, Monterey jack cheese\, Bold BBQ sauce melted together on a flour tortilla.  Spice it up with Jalapenos for just 75 cents All for $12.99! Served daily at the COMO Café for the whole month of February! Don’t miss out!
URL:https://goldranchdayton.com/event/bbq-pulled-pork-quesadilla/
CATEGORIES:Dining
ATTACH;FMTTYPE=image/jpeg:https://goldranchdayton.com/wp-content/uploads/2024/02/2024-FEB-GRD-BBQ-Pork-Quesdilla-600x402-1.jpg
END:VEVENT
END:VCALENDAR