BEGIN:VCALENDAR
VERSION:2.0
PRODID:-//Gold Ranch Casino Dayton - ECPv6.15.18//NONSGML v1.0//EN
CALSCALE:GREGORIAN
METHOD:PUBLISH
X-ORIGINAL-URL:https://goldranchdayton.com
X-WR-CALDESC:Events for Gold Ranch Casino Dayton
REFRESH-INTERVAL;VALUE=DURATION:PT1H
X-Robots-Tag:noindex
X-PUBLISHED-TTL:PT1H
BEGIN:VTIMEZONE
TZID:America/Los_Angeles
BEGIN:DAYLIGHT
TZOFFSETFROM:-0800
TZOFFSETTO:-0700
TZNAME:PDT
DTSTART:20220313T100000
END:DAYLIGHT
BEGIN:STANDARD
TZOFFSETFROM:-0700
TZOFFSETTO:-0800
TZNAME:PST
DTSTART:20221106T090000
END:STANDARD
BEGIN:DAYLIGHT
TZOFFSETFROM:-0800
TZOFFSETTO:-0700
TZNAME:PDT
DTSTART:20230312T100000
END:DAYLIGHT
BEGIN:STANDARD
TZOFFSETFROM:-0700
TZOFFSETTO:-0800
TZNAME:PST
DTSTART:20231105T090000
END:STANDARD
BEGIN:DAYLIGHT
TZOFFSETFROM:-0800
TZOFFSETTO:-0700
TZNAME:PDT
DTSTART:20240310T100000
END:DAYLIGHT
BEGIN:STANDARD
TZOFFSETFROM:-0700
TZOFFSETTO:-0800
TZNAME:PST
DTSTART:20241103T090000
END:STANDARD
END:VTIMEZONE
BEGIN:VEVENT
DTSTART;TZID=America/Los_Angeles:20231201T070000
DTEND;TZID=America/Los_Angeles:20231201T200000
DTSTAMP:20260424T013648
CREATED:20231130T222017Z
LAST-MODIFIED:20231130T222017Z
UID:20548-1701414000-1701460800@goldranchdayton.com
SUMMARY:Holiday Ham Melt
DESCRIPTION:Hey Gold Ranch guests! Are you hungry? Well try our Holiday Ham Melt! Grilled San Francisco style sourdough bread\, aged white cheddar\, cranberry sauce\, and a quarter pound of shaved\, smoked ham. Served with crispy\, sweet potato tater tots.  All for $12.99! Served daily at the COMO Café for the whole month of December!
URL:https://goldranchdayton.com/event/holiday-ham-melt/
CATEGORIES:Dining
ATTACH;FMTTYPE=image/jpeg:https://goldranchdayton.com/wp-content/uploads/2023/11/2023-DEC-HAM-MELT-600X402.jpg
END:VEVENT
BEGIN:VEVENT
DTSTART;TZID=America/Los_Angeles:20231201T070000
DTEND;TZID=America/Los_Angeles:20231201T200000
DTSTAMP:20260424T013648
CREATED:20231130T222131Z
LAST-MODIFIED:20231130T222131Z
UID:20551-1701414000-1701460800@goldranchdayton.com
SUMMARY:Southern Pecan Pie
DESCRIPTION:Craving something sweet? Get a mouthwatering piece of Southern Pecan Pie served with vanilla ice cream! Available any day of the week at the Como Cafe for only $6.99!
URL:https://goldranchdayton.com/event/southern-pecan-pie/
CATEGORIES:Dining
ATTACH;FMTTYPE=image/jpeg:https://goldranchdayton.com/wp-content/uploads/2023/11/2023-DEC-PECAN-PIE-600X402.jpg
END:VEVENT
BEGIN:VEVENT
DTSTART;TZID=America/Los_Angeles:20230303T140000
DTEND;TZID=America/Los_Angeles:20230303T210000
DTSTAMP:20260424T013648
CREATED:20230301T040337Z
LAST-MODIFIED:20240301T204040Z
UID:20200-1677852000-1677877200@goldranchdayton.com
SUMMARY:Prime Rib
DESCRIPTION:Every Friday\, try a delicious\, juicy\, cooked to your liking PRIME RIB DINNER. Served with Chef’s vegetables and your choice of potato. All for $15.99 and only at the Como Café.
URL:https://goldranchdayton.com/event/prime-rib-4/
CATEGORIES:Dining,Featured
ATTACH;FMTTYPE=image/jpeg:https://goldranchdayton.com/wp-content/uploads/2021/08/2021-SEPT-GRD-PRIME-RIB-600X402.jpg
END:VEVENT
BEGIN:VEVENT
DTSTART;TZID=America/Los_Angeles:20231201T070000
DTEND;TZID=America/Los_Angeles:20231201T200000
DTSTAMP:20260424T013648
CREATED:20231130T222017Z
LAST-MODIFIED:20231130T222017Z
UID:20548-1701414000-1701460800@goldranchdayton.com
SUMMARY:Holiday Ham Melt
DESCRIPTION:Hey Gold Ranch guests! Are you hungry? Well try our Holiday Ham Melt! Grilled San Francisco style sourdough bread\, aged white cheddar\, cranberry sauce\, and a quarter pound of shaved\, smoked ham. Served with crispy\, sweet potato tater tots.  All for $12.99! Served daily at the COMO Café for the whole month of December!
URL:https://goldranchdayton.com/event/holiday-ham-melt/
CATEGORIES:Dining
ATTACH;FMTTYPE=image/jpeg:https://goldranchdayton.com/wp-content/uploads/2023/11/2023-DEC-HAM-MELT-600X402.jpg
END:VEVENT
BEGIN:VEVENT
DTSTART;TZID=America/Los_Angeles:20231201T070000
DTEND;TZID=America/Los_Angeles:20231201T200000
DTSTAMP:20260424T013648
CREATED:20231130T222131Z
LAST-MODIFIED:20231130T222131Z
UID:20551-1701414000-1701460800@goldranchdayton.com
SUMMARY:Southern Pecan Pie
DESCRIPTION:Craving something sweet? Get a mouthwatering piece of Southern Pecan Pie served with vanilla ice cream! Available any day of the week at the Como Cafe for only $6.99!
URL:https://goldranchdayton.com/event/southern-pecan-pie/
CATEGORIES:Dining
ATTACH;FMTTYPE=image/jpeg:https://goldranchdayton.com/wp-content/uploads/2023/11/2023-DEC-PECAN-PIE-600X402.jpg
END:VEVENT
BEGIN:VEVENT
DTSTART;TZID=America/Los_Angeles:20231201T070000
DTEND;TZID=America/Los_Angeles:20231201T200000
DTSTAMP:20260424T013648
CREATED:20231130T222017Z
LAST-MODIFIED:20231130T222017Z
UID:20548-1701414000-1701460800@goldranchdayton.com
SUMMARY:Holiday Ham Melt
DESCRIPTION:Hey Gold Ranch guests! Are you hungry? Well try our Holiday Ham Melt! Grilled San Francisco style sourdough bread\, aged white cheddar\, cranberry sauce\, and a quarter pound of shaved\, smoked ham. Served with crispy\, sweet potato tater tots.  All for $12.99! Served daily at the COMO Café for the whole month of December!
URL:https://goldranchdayton.com/event/holiday-ham-melt/
CATEGORIES:Dining
ATTACH;FMTTYPE=image/jpeg:https://goldranchdayton.com/wp-content/uploads/2023/11/2023-DEC-HAM-MELT-600X402.jpg
END:VEVENT
BEGIN:VEVENT
DTSTART;TZID=America/Los_Angeles:20231201T070000
DTEND;TZID=America/Los_Angeles:20231201T200000
DTSTAMP:20260424T013648
CREATED:20231130T222131Z
LAST-MODIFIED:20231130T222131Z
UID:20551-1701414000-1701460800@goldranchdayton.com
SUMMARY:Southern Pecan Pie
DESCRIPTION:Craving something sweet? Get a mouthwatering piece of Southern Pecan Pie served with vanilla ice cream! Available any day of the week at the Como Cafe for only $6.99!
URL:https://goldranchdayton.com/event/southern-pecan-pie/
CATEGORIES:Dining
ATTACH;FMTTYPE=image/jpeg:https://goldranchdayton.com/wp-content/uploads/2023/11/2023-DEC-PECAN-PIE-600X402.jpg
END:VEVENT
BEGIN:VEVENT
DTSTART;TZID=America/Los_Angeles:20231201T070000
DTEND;TZID=America/Los_Angeles:20231201T200000
DTSTAMP:20260424T013648
CREATED:20231130T222017Z
LAST-MODIFIED:20231130T222017Z
UID:20548-1701414000-1701460800@goldranchdayton.com
SUMMARY:Holiday Ham Melt
DESCRIPTION:Hey Gold Ranch guests! Are you hungry? Well try our Holiday Ham Melt! Grilled San Francisco style sourdough bread\, aged white cheddar\, cranberry sauce\, and a quarter pound of shaved\, smoked ham. Served with crispy\, sweet potato tater tots.  All for $12.99! Served daily at the COMO Café for the whole month of December!
URL:https://goldranchdayton.com/event/holiday-ham-melt/
CATEGORIES:Dining
ATTACH;FMTTYPE=image/jpeg:https://goldranchdayton.com/wp-content/uploads/2023/11/2023-DEC-HAM-MELT-600X402.jpg
END:VEVENT
BEGIN:VEVENT
DTSTART;TZID=America/Los_Angeles:20231201T070000
DTEND;TZID=America/Los_Angeles:20231201T200000
DTSTAMP:20260424T013648
CREATED:20231130T222131Z
LAST-MODIFIED:20231130T222131Z
UID:20551-1701414000-1701460800@goldranchdayton.com
SUMMARY:Southern Pecan Pie
DESCRIPTION:Craving something sweet? Get a mouthwatering piece of Southern Pecan Pie served with vanilla ice cream! Available any day of the week at the Como Cafe for only $6.99!
URL:https://goldranchdayton.com/event/southern-pecan-pie/
CATEGORIES:Dining
ATTACH;FMTTYPE=image/jpeg:https://goldranchdayton.com/wp-content/uploads/2023/11/2023-DEC-PECAN-PIE-600X402.jpg
END:VEVENT
BEGIN:VEVENT
DTSTART;TZID=America/Los_Angeles:20231201T070000
DTEND;TZID=America/Los_Angeles:20231201T200000
DTSTAMP:20260424T013648
CREATED:20231130T222017Z
LAST-MODIFIED:20231130T222017Z
UID:20548-1701414000-1701460800@goldranchdayton.com
SUMMARY:Holiday Ham Melt
DESCRIPTION:Hey Gold Ranch guests! Are you hungry? Well try our Holiday Ham Melt! Grilled San Francisco style sourdough bread\, aged white cheddar\, cranberry sauce\, and a quarter pound of shaved\, smoked ham. Served with crispy\, sweet potato tater tots.  All for $12.99! Served daily at the COMO Café for the whole month of December!
URL:https://goldranchdayton.com/event/holiday-ham-melt/
CATEGORIES:Dining
ATTACH;FMTTYPE=image/jpeg:https://goldranchdayton.com/wp-content/uploads/2023/11/2023-DEC-HAM-MELT-600X402.jpg
END:VEVENT
BEGIN:VEVENT
DTSTART;TZID=America/Los_Angeles:20231201T070000
DTEND;TZID=America/Los_Angeles:20231201T200000
DTSTAMP:20260424T013648
CREATED:20231130T222131Z
LAST-MODIFIED:20231130T222131Z
UID:20551-1701414000-1701460800@goldranchdayton.com
SUMMARY:Southern Pecan Pie
DESCRIPTION:Craving something sweet? Get a mouthwatering piece of Southern Pecan Pie served with vanilla ice cream! Available any day of the week at the Como Cafe for only $6.99!
URL:https://goldranchdayton.com/event/southern-pecan-pie/
CATEGORIES:Dining
ATTACH;FMTTYPE=image/jpeg:https://goldranchdayton.com/wp-content/uploads/2023/11/2023-DEC-PECAN-PIE-600X402.jpg
END:VEVENT
BEGIN:VEVENT
DTSTART;TZID=America/Los_Angeles:20231201T070000
DTEND;TZID=America/Los_Angeles:20231201T200000
DTSTAMP:20260424T013648
CREATED:20231130T222017Z
LAST-MODIFIED:20231130T222017Z
UID:20548-1701414000-1701460800@goldranchdayton.com
SUMMARY:Holiday Ham Melt
DESCRIPTION:Hey Gold Ranch guests! Are you hungry? Well try our Holiday Ham Melt! Grilled San Francisco style sourdough bread\, aged white cheddar\, cranberry sauce\, and a quarter pound of shaved\, smoked ham. Served with crispy\, sweet potato tater tots.  All for $12.99! Served daily at the COMO Café for the whole month of December!
URL:https://goldranchdayton.com/event/holiday-ham-melt/
CATEGORIES:Dining
ATTACH;FMTTYPE=image/jpeg:https://goldranchdayton.com/wp-content/uploads/2023/11/2023-DEC-HAM-MELT-600X402.jpg
END:VEVENT
BEGIN:VEVENT
DTSTART;TZID=America/Los_Angeles:20231201T070000
DTEND;TZID=America/Los_Angeles:20231201T200000
DTSTAMP:20260424T013648
CREATED:20231130T222131Z
LAST-MODIFIED:20231130T222131Z
UID:20551-1701414000-1701460800@goldranchdayton.com
SUMMARY:Southern Pecan Pie
DESCRIPTION:Craving something sweet? Get a mouthwatering piece of Southern Pecan Pie served with vanilla ice cream! Available any day of the week at the Como Cafe for only $6.99!
URL:https://goldranchdayton.com/event/southern-pecan-pie/
CATEGORIES:Dining
ATTACH;FMTTYPE=image/jpeg:https://goldranchdayton.com/wp-content/uploads/2023/11/2023-DEC-PECAN-PIE-600X402.jpg
END:VEVENT
BEGIN:VEVENT
DTSTART;TZID=America/Los_Angeles:20231201T070000
DTEND;TZID=America/Los_Angeles:20231201T200000
DTSTAMP:20260424T013648
CREATED:20231130T222017Z
LAST-MODIFIED:20231130T222017Z
UID:20548-1701414000-1701460800@goldranchdayton.com
SUMMARY:Holiday Ham Melt
DESCRIPTION:Hey Gold Ranch guests! Are you hungry? Well try our Holiday Ham Melt! Grilled San Francisco style sourdough bread\, aged white cheddar\, cranberry sauce\, and a quarter pound of shaved\, smoked ham. Served with crispy\, sweet potato tater tots.  All for $12.99! Served daily at the COMO Café for the whole month of December!
URL:https://goldranchdayton.com/event/holiday-ham-melt/
CATEGORIES:Dining
ATTACH;FMTTYPE=image/jpeg:https://goldranchdayton.com/wp-content/uploads/2023/11/2023-DEC-HAM-MELT-600X402.jpg
END:VEVENT
BEGIN:VEVENT
DTSTART;TZID=America/Los_Angeles:20231201T070000
DTEND;TZID=America/Los_Angeles:20231201T200000
DTSTAMP:20260424T013648
CREATED:20231130T222131Z
LAST-MODIFIED:20231130T222131Z
UID:20551-1701414000-1701460800@goldranchdayton.com
SUMMARY:Southern Pecan Pie
DESCRIPTION:Craving something sweet? Get a mouthwatering piece of Southern Pecan Pie served with vanilla ice cream! Available any day of the week at the Como Cafe for only $6.99!
URL:https://goldranchdayton.com/event/southern-pecan-pie/
CATEGORIES:Dining
ATTACH;FMTTYPE=image/jpeg:https://goldranchdayton.com/wp-content/uploads/2023/11/2023-DEC-PECAN-PIE-600X402.jpg
END:VEVENT
BEGIN:VEVENT
DTSTART;TZID=America/Los_Angeles:20231201T070000
DTEND;TZID=America/Los_Angeles:20231201T200000
DTSTAMP:20260424T013648
CREATED:20231130T222017Z
LAST-MODIFIED:20231130T222017Z
UID:20548-1701414000-1701460800@goldranchdayton.com
SUMMARY:Holiday Ham Melt
DESCRIPTION:Hey Gold Ranch guests! Are you hungry? Well try our Holiday Ham Melt! Grilled San Francisco style sourdough bread\, aged white cheddar\, cranberry sauce\, and a quarter pound of shaved\, smoked ham. Served with crispy\, sweet potato tater tots.  All for $12.99! Served daily at the COMO Café for the whole month of December!
URL:https://goldranchdayton.com/event/holiday-ham-melt/
CATEGORIES:Dining
ATTACH;FMTTYPE=image/jpeg:https://goldranchdayton.com/wp-content/uploads/2023/11/2023-DEC-HAM-MELT-600X402.jpg
END:VEVENT
BEGIN:VEVENT
DTSTART;TZID=America/Los_Angeles:20231201T070000
DTEND;TZID=America/Los_Angeles:20231201T200000
DTSTAMP:20260424T013648
CREATED:20231130T222131Z
LAST-MODIFIED:20231130T222131Z
UID:20551-1701414000-1701460800@goldranchdayton.com
SUMMARY:Southern Pecan Pie
DESCRIPTION:Craving something sweet? Get a mouthwatering piece of Southern Pecan Pie served with vanilla ice cream! Available any day of the week at the Como Cafe for only $6.99!
URL:https://goldranchdayton.com/event/southern-pecan-pie/
CATEGORIES:Dining
ATTACH;FMTTYPE=image/jpeg:https://goldranchdayton.com/wp-content/uploads/2023/11/2023-DEC-PECAN-PIE-600X402.jpg
END:VEVENT
BEGIN:VEVENT
DTSTART;TZID=America/Los_Angeles:20230303T140000
DTEND;TZID=America/Los_Angeles:20230303T210000
DTSTAMP:20260424T013648
CREATED:20230301T040337Z
LAST-MODIFIED:20240301T204040Z
UID:20200-1677852000-1677877200@goldranchdayton.com
SUMMARY:Prime Rib
DESCRIPTION:Every Friday\, try a delicious\, juicy\, cooked to your liking PRIME RIB DINNER. Served with Chef’s vegetables and your choice of potato. All for $15.99 and only at the Como Café.
URL:https://goldranchdayton.com/event/prime-rib-4/
CATEGORIES:Dining,Featured
ATTACH;FMTTYPE=image/jpeg:https://goldranchdayton.com/wp-content/uploads/2021/08/2021-SEPT-GRD-PRIME-RIB-600X402.jpg
END:VEVENT
BEGIN:VEVENT
DTSTART;TZID=America/Los_Angeles:20231201T070000
DTEND;TZID=America/Los_Angeles:20231201T200000
DTSTAMP:20260424T013648
CREATED:20231130T222017Z
LAST-MODIFIED:20231130T222017Z
UID:20548-1701414000-1701460800@goldranchdayton.com
SUMMARY:Holiday Ham Melt
DESCRIPTION:Hey Gold Ranch guests! Are you hungry? Well try our Holiday Ham Melt! Grilled San Francisco style sourdough bread\, aged white cheddar\, cranberry sauce\, and a quarter pound of shaved\, smoked ham. Served with crispy\, sweet potato tater tots.  All for $12.99! Served daily at the COMO Café for the whole month of December!
URL:https://goldranchdayton.com/event/holiday-ham-melt/
CATEGORIES:Dining
ATTACH;FMTTYPE=image/jpeg:https://goldranchdayton.com/wp-content/uploads/2023/11/2023-DEC-HAM-MELT-600X402.jpg
END:VEVENT
BEGIN:VEVENT
DTSTART;TZID=America/Los_Angeles:20231201T070000
DTEND;TZID=America/Los_Angeles:20231201T200000
DTSTAMP:20260424T013648
CREATED:20231130T222131Z
LAST-MODIFIED:20231130T222131Z
UID:20551-1701414000-1701460800@goldranchdayton.com
SUMMARY:Southern Pecan Pie
DESCRIPTION:Craving something sweet? Get a mouthwatering piece of Southern Pecan Pie served with vanilla ice cream! Available any day of the week at the Como Cafe for only $6.99!
URL:https://goldranchdayton.com/event/southern-pecan-pie/
CATEGORIES:Dining
ATTACH;FMTTYPE=image/jpeg:https://goldranchdayton.com/wp-content/uploads/2023/11/2023-DEC-PECAN-PIE-600X402.jpg
END:VEVENT
BEGIN:VEVENT
DTSTART;TZID=America/Los_Angeles:20231201T070000
DTEND;TZID=America/Los_Angeles:20231201T200000
DTSTAMP:20260424T013648
CREATED:20231130T222017Z
LAST-MODIFIED:20231130T222017Z
UID:20548-1701414000-1701460800@goldranchdayton.com
SUMMARY:Holiday Ham Melt
DESCRIPTION:Hey Gold Ranch guests! Are you hungry? Well try our Holiday Ham Melt! Grilled San Francisco style sourdough bread\, aged white cheddar\, cranberry sauce\, and a quarter pound of shaved\, smoked ham. Served with crispy\, sweet potato tater tots.  All for $12.99! Served daily at the COMO Café for the whole month of December!
URL:https://goldranchdayton.com/event/holiday-ham-melt/
CATEGORIES:Dining
ATTACH;FMTTYPE=image/jpeg:https://goldranchdayton.com/wp-content/uploads/2023/11/2023-DEC-HAM-MELT-600X402.jpg
END:VEVENT
BEGIN:VEVENT
DTSTART;TZID=America/Los_Angeles:20231201T070000
DTEND;TZID=America/Los_Angeles:20231201T200000
DTSTAMP:20260424T013648
CREATED:20231130T222131Z
LAST-MODIFIED:20231130T222131Z
UID:20551-1701414000-1701460800@goldranchdayton.com
SUMMARY:Southern Pecan Pie
DESCRIPTION:Craving something sweet? Get a mouthwatering piece of Southern Pecan Pie served with vanilla ice cream! Available any day of the week at the Como Cafe for only $6.99!
URL:https://goldranchdayton.com/event/southern-pecan-pie/
CATEGORIES:Dining
ATTACH;FMTTYPE=image/jpeg:https://goldranchdayton.com/wp-content/uploads/2023/11/2023-DEC-PECAN-PIE-600X402.jpg
END:VEVENT
BEGIN:VEVENT
DTSTART;TZID=America/Los_Angeles:20231201T070000
DTEND;TZID=America/Los_Angeles:20231201T200000
DTSTAMP:20260424T013648
CREATED:20231130T222017Z
LAST-MODIFIED:20231130T222017Z
UID:20548-1701414000-1701460800@goldranchdayton.com
SUMMARY:Holiday Ham Melt
DESCRIPTION:Hey Gold Ranch guests! Are you hungry? Well try our Holiday Ham Melt! Grilled San Francisco style sourdough bread\, aged white cheddar\, cranberry sauce\, and a quarter pound of shaved\, smoked ham. Served with crispy\, sweet potato tater tots.  All for $12.99! Served daily at the COMO Café for the whole month of December!
URL:https://goldranchdayton.com/event/holiday-ham-melt/
CATEGORIES:Dining
ATTACH;FMTTYPE=image/jpeg:https://goldranchdayton.com/wp-content/uploads/2023/11/2023-DEC-HAM-MELT-600X402.jpg
END:VEVENT
BEGIN:VEVENT
DTSTART;TZID=America/Los_Angeles:20231201T070000
DTEND;TZID=America/Los_Angeles:20231201T200000
DTSTAMP:20260424T013648
CREATED:20231130T222131Z
LAST-MODIFIED:20231130T222131Z
UID:20551-1701414000-1701460800@goldranchdayton.com
SUMMARY:Southern Pecan Pie
DESCRIPTION:Craving something sweet? Get a mouthwatering piece of Southern Pecan Pie served with vanilla ice cream! Available any day of the week at the Como Cafe for only $6.99!
URL:https://goldranchdayton.com/event/southern-pecan-pie/
CATEGORIES:Dining
ATTACH;FMTTYPE=image/jpeg:https://goldranchdayton.com/wp-content/uploads/2023/11/2023-DEC-PECAN-PIE-600X402.jpg
END:VEVENT
BEGIN:VEVENT
DTSTART;TZID=America/Los_Angeles:20231201T070000
DTEND;TZID=America/Los_Angeles:20231201T200000
DTSTAMP:20260424T013648
CREATED:20231130T222017Z
LAST-MODIFIED:20231130T222017Z
UID:20548-1701414000-1701460800@goldranchdayton.com
SUMMARY:Holiday Ham Melt
DESCRIPTION:Hey Gold Ranch guests! Are you hungry? Well try our Holiday Ham Melt! Grilled San Francisco style sourdough bread\, aged white cheddar\, cranberry sauce\, and a quarter pound of shaved\, smoked ham. Served with crispy\, sweet potato tater tots.  All for $12.99! Served daily at the COMO Café for the whole month of December!
URL:https://goldranchdayton.com/event/holiday-ham-melt/
CATEGORIES:Dining
ATTACH;FMTTYPE=image/jpeg:https://goldranchdayton.com/wp-content/uploads/2023/11/2023-DEC-HAM-MELT-600X402.jpg
END:VEVENT
BEGIN:VEVENT
DTSTART;TZID=America/Los_Angeles:20231201T070000
DTEND;TZID=America/Los_Angeles:20231201T200000
DTSTAMP:20260424T013648
CREATED:20231130T222131Z
LAST-MODIFIED:20231130T222131Z
UID:20551-1701414000-1701460800@goldranchdayton.com
SUMMARY:Southern Pecan Pie
DESCRIPTION:Craving something sweet? Get a mouthwatering piece of Southern Pecan Pie served with vanilla ice cream! Available any day of the week at the Como Cafe for only $6.99!
URL:https://goldranchdayton.com/event/southern-pecan-pie/
CATEGORIES:Dining
ATTACH;FMTTYPE=image/jpeg:https://goldranchdayton.com/wp-content/uploads/2023/11/2023-DEC-PECAN-PIE-600X402.jpg
END:VEVENT
BEGIN:VEVENT
DTSTART;TZID=America/Los_Angeles:20231201T070000
DTEND;TZID=America/Los_Angeles:20231201T200000
DTSTAMP:20260424T013648
CREATED:20231130T222017Z
LAST-MODIFIED:20231130T222017Z
UID:20548-1701414000-1701460800@goldranchdayton.com
SUMMARY:Holiday Ham Melt
DESCRIPTION:Hey Gold Ranch guests! Are you hungry? Well try our Holiday Ham Melt! Grilled San Francisco style sourdough bread\, aged white cheddar\, cranberry sauce\, and a quarter pound of shaved\, smoked ham. Served with crispy\, sweet potato tater tots.  All for $12.99! Served daily at the COMO Café for the whole month of December!
URL:https://goldranchdayton.com/event/holiday-ham-melt/
CATEGORIES:Dining
ATTACH;FMTTYPE=image/jpeg:https://goldranchdayton.com/wp-content/uploads/2023/11/2023-DEC-HAM-MELT-600X402.jpg
END:VEVENT
BEGIN:VEVENT
DTSTART;TZID=America/Los_Angeles:20231201T070000
DTEND;TZID=America/Los_Angeles:20231201T200000
DTSTAMP:20260424T013648
CREATED:20231130T222131Z
LAST-MODIFIED:20231130T222131Z
UID:20551-1701414000-1701460800@goldranchdayton.com
SUMMARY:Southern Pecan Pie
DESCRIPTION:Craving something sweet? Get a mouthwatering piece of Southern Pecan Pie served with vanilla ice cream! Available any day of the week at the Como Cafe for only $6.99!
URL:https://goldranchdayton.com/event/southern-pecan-pie/
CATEGORIES:Dining
ATTACH;FMTTYPE=image/jpeg:https://goldranchdayton.com/wp-content/uploads/2023/11/2023-DEC-PECAN-PIE-600X402.jpg
END:VEVENT
BEGIN:VEVENT
DTSTART;TZID=America/Los_Angeles:20231201T070000
DTEND;TZID=America/Los_Angeles:20231201T200000
DTSTAMP:20260424T013648
CREATED:20231130T222017Z
LAST-MODIFIED:20231130T222017Z
UID:20548-1701414000-1701460800@goldranchdayton.com
SUMMARY:Holiday Ham Melt
DESCRIPTION:Hey Gold Ranch guests! Are you hungry? Well try our Holiday Ham Melt! Grilled San Francisco style sourdough bread\, aged white cheddar\, cranberry sauce\, and a quarter pound of shaved\, smoked ham. Served with crispy\, sweet potato tater tots.  All for $12.99! Served daily at the COMO Café for the whole month of December!
URL:https://goldranchdayton.com/event/holiday-ham-melt/
CATEGORIES:Dining
ATTACH;FMTTYPE=image/jpeg:https://goldranchdayton.com/wp-content/uploads/2023/11/2023-DEC-HAM-MELT-600X402.jpg
END:VEVENT
BEGIN:VEVENT
DTSTART;TZID=America/Los_Angeles:20231201T070000
DTEND;TZID=America/Los_Angeles:20231201T200000
DTSTAMP:20260424T013648
CREATED:20231130T222131Z
LAST-MODIFIED:20231130T222131Z
UID:20551-1701414000-1701460800@goldranchdayton.com
SUMMARY:Southern Pecan Pie
DESCRIPTION:Craving something sweet? Get a mouthwatering piece of Southern Pecan Pie served with vanilla ice cream! Available any day of the week at the Como Cafe for only $6.99!
URL:https://goldranchdayton.com/event/southern-pecan-pie/
CATEGORIES:Dining
ATTACH;FMTTYPE=image/jpeg:https://goldranchdayton.com/wp-content/uploads/2023/11/2023-DEC-PECAN-PIE-600X402.jpg
END:VEVENT
END:VCALENDAR