BEGIN:VCALENDAR
VERSION:2.0
PRODID:-//Gold Ranch Casino Dayton - ECPv6.15.18//NONSGML v1.0//EN
CALSCALE:GREGORIAN
METHOD:PUBLISH
X-WR-CALNAME:Gold Ranch Casino Dayton
X-ORIGINAL-URL:https://goldranchdayton.com
X-WR-CALDESC:Events for Gold Ranch Casino Dayton
REFRESH-INTERVAL;VALUE=DURATION:PT1H
X-Robots-Tag:noindex
X-PUBLISHED-TTL:PT1H
BEGIN:VTIMEZONE
TZID:America/Los_Angeles
BEGIN:DAYLIGHT
TZOFFSETFROM:-0800
TZOFFSETTO:-0700
TZNAME:PDT
DTSTART:20220313T100000
END:DAYLIGHT
BEGIN:STANDARD
TZOFFSETFROM:-0700
TZOFFSETTO:-0800
TZNAME:PST
DTSTART:20221106T090000
END:STANDARD
BEGIN:DAYLIGHT
TZOFFSETFROM:-0800
TZOFFSETTO:-0700
TZNAME:PDT
DTSTART:20230312T100000
END:DAYLIGHT
BEGIN:STANDARD
TZOFFSETFROM:-0700
TZOFFSETTO:-0800
TZNAME:PST
DTSTART:20231105T090000
END:STANDARD
BEGIN:DAYLIGHT
TZOFFSETFROM:-0800
TZOFFSETTO:-0700
TZNAME:PDT
DTSTART:20240310T100000
END:DAYLIGHT
BEGIN:STANDARD
TZOFFSETFROM:-0700
TZOFFSETTO:-0800
TZNAME:PST
DTSTART:20241103T090000
END:STANDARD
END:VTIMEZONE
BEGIN:VEVENT
DTSTART;TZID=America/Los_Angeles:20231001T110000
DTEND;TZID=America/Los_Angeles:20231001T190000
DTSTAMP:20260424T042748
CREATED:20230930T205552Z
LAST-MODIFIED:20230930T205552Z
UID:20456-1696158000-1696186800@goldranchdayton.com
SUMMARY:BBQ BRISKET GRILLED CHEESE
DESCRIPTION:
URL:https://goldranchdayton.com/event/bbq-brisket-grilled-cheese/
CATEGORIES:Dining
ATTACH;FMTTYPE=image/jpeg:https://goldranchdayton.com/wp-content/uploads/2023/09/2023-OCT-GRILLED-BRISKET-600X402.jpg
END:VEVENT
BEGIN:VEVENT
DTSTART;TZID=America/Los_Angeles:20231001T110000
DTEND;TZID=America/Los_Angeles:20231001T190000
DTSTAMP:20260424T042748
CREATED:20230930T205552Z
LAST-MODIFIED:20230930T205552Z
UID:20456-1696158000-1696186800@goldranchdayton.com
SUMMARY:BBQ BRISKET GRILLED CHEESE
DESCRIPTION:
URL:https://goldranchdayton.com/event/bbq-brisket-grilled-cheese/
CATEGORIES:Dining
ATTACH;FMTTYPE=image/jpeg:https://goldranchdayton.com/wp-content/uploads/2023/09/2023-OCT-GRILLED-BRISKET-600X402.jpg
END:VEVENT
BEGIN:VEVENT
DTSTART;TZID=America/Los_Angeles:20231003T070000
DTEND;TZID=America/Los_Angeles:20231003T190000
DTSTAMP:20260424T042748
CREATED:20230930T204505Z
LAST-MODIFIED:20230930T204505Z
UID:20442-1696316400-1696359600@goldranchdayton.com
SUMMARY:EARN & GET SUNDAE
DESCRIPTION:
URL:https://goldranchdayton.com/event/earn-get-sundae/
CATEGORIES:Dining,Featured
ATTACH;FMTTYPE=image/jpeg:https://goldranchdayton.com/wp-content/uploads/2023/09/2023-OCT-EAG-SUNDAE-600x402-1.jpg
END:VEVENT
BEGIN:VEVENT
DTSTART;TZID=America/Los_Angeles:20231001T110000
DTEND;TZID=America/Los_Angeles:20231001T190000
DTSTAMP:20260424T042748
CREATED:20230930T205552Z
LAST-MODIFIED:20230930T205552Z
UID:20456-1696158000-1696186800@goldranchdayton.com
SUMMARY:BBQ BRISKET GRILLED CHEESE
DESCRIPTION:
URL:https://goldranchdayton.com/event/bbq-brisket-grilled-cheese/
CATEGORIES:Dining
ATTACH;FMTTYPE=image/jpeg:https://goldranchdayton.com/wp-content/uploads/2023/09/2023-OCT-GRILLED-BRISKET-600X402.jpg
END:VEVENT
BEGIN:VEVENT
DTSTART;TZID=America/Los_Angeles:20231001T110000
DTEND;TZID=America/Los_Angeles:20231001T190000
DTSTAMP:20260424T042748
CREATED:20230930T205552Z
LAST-MODIFIED:20230930T205552Z
UID:20456-1696158000-1696186800@goldranchdayton.com
SUMMARY:BBQ BRISKET GRILLED CHEESE
DESCRIPTION:
URL:https://goldranchdayton.com/event/bbq-brisket-grilled-cheese/
CATEGORIES:Dining
ATTACH;FMTTYPE=image/jpeg:https://goldranchdayton.com/wp-content/uploads/2023/09/2023-OCT-GRILLED-BRISKET-600X402.jpg
END:VEVENT
BEGIN:VEVENT
DTSTART;TZID=America/Los_Angeles:20231001T110000
DTEND;TZID=America/Los_Angeles:20231001T190000
DTSTAMP:20260424T042748
CREATED:20230930T205552Z
LAST-MODIFIED:20230930T205552Z
UID:20456-1696158000-1696186800@goldranchdayton.com
SUMMARY:BBQ BRISKET GRILLED CHEESE
DESCRIPTION:
URL:https://goldranchdayton.com/event/bbq-brisket-grilled-cheese/
CATEGORIES:Dining
ATTACH;FMTTYPE=image/jpeg:https://goldranchdayton.com/wp-content/uploads/2023/09/2023-OCT-GRILLED-BRISKET-600X402.jpg
END:VEVENT
BEGIN:VEVENT
DTSTART;TZID=America/Los_Angeles:20231005T110000
DTEND;TZID=America/Los_Angeles:20231005T190000
DTSTAMP:20260424T042748
CREATED:20230930T205714Z
LAST-MODIFIED:20230930T205934Z
UID:20459-1696503600-1696532400@goldranchdayton.com
SUMMARY:SPAGHETTI AND MEATBALLS
DESCRIPTION:
URL:https://goldranchdayton.com/event/spaghetti-and-meatballs/
CATEGORIES:Dining,Featured
ATTACH;FMTTYPE=image/jpeg:https://goldranchdayton.com/wp-content/uploads/2023/09/2023-OCT-599-SPAGHETTI-600X402.jpg
END:VEVENT
BEGIN:VEVENT
DTSTART;TZID=America/Los_Angeles:20231001T110000
DTEND;TZID=America/Los_Angeles:20231001T190000
DTSTAMP:20260424T042748
CREATED:20230930T205552Z
LAST-MODIFIED:20230930T205552Z
UID:20456-1696158000-1696186800@goldranchdayton.com
SUMMARY:BBQ BRISKET GRILLED CHEESE
DESCRIPTION:
URL:https://goldranchdayton.com/event/bbq-brisket-grilled-cheese/
CATEGORIES:Dining
ATTACH;FMTTYPE=image/jpeg:https://goldranchdayton.com/wp-content/uploads/2023/09/2023-OCT-GRILLED-BRISKET-600X402.jpg
END:VEVENT
BEGIN:VEVENT
DTSTART;TZID=America/Los_Angeles:20230303T140000
DTEND;TZID=America/Los_Angeles:20230303T210000
DTSTAMP:20260424T042748
CREATED:20230301T040337Z
LAST-MODIFIED:20240301T204040Z
UID:20200-1677852000-1677877200@goldranchdayton.com
SUMMARY:Prime Rib
DESCRIPTION:Every Friday\, try a delicious\, juicy\, cooked to your liking PRIME RIB DINNER. Served with Chef’s vegetables and your choice of potato. All for $15.99 and only at the Como Café.
URL:https://goldranchdayton.com/event/prime-rib-4/
CATEGORIES:Dining,Featured
ATTACH;FMTTYPE=image/jpeg:https://goldranchdayton.com/wp-content/uploads/2021/08/2021-SEPT-GRD-PRIME-RIB-600X402.jpg
END:VEVENT
BEGIN:VEVENT
DTSTART;TZID=America/Los_Angeles:20231001T110000
DTEND;TZID=America/Los_Angeles:20231001T190000
DTSTAMP:20260424T042748
CREATED:20230930T205552Z
LAST-MODIFIED:20230930T205552Z
UID:20456-1696158000-1696186800@goldranchdayton.com
SUMMARY:BBQ BRISKET GRILLED CHEESE
DESCRIPTION:
URL:https://goldranchdayton.com/event/bbq-brisket-grilled-cheese/
CATEGORIES:Dining
ATTACH;FMTTYPE=image/jpeg:https://goldranchdayton.com/wp-content/uploads/2023/09/2023-OCT-GRILLED-BRISKET-600X402.jpg
END:VEVENT
BEGIN:VEVENT
DTSTART;TZID=America/Los_Angeles:20231001T110000
DTEND;TZID=America/Los_Angeles:20231001T190000
DTSTAMP:20260424T042748
CREATED:20230930T205552Z
LAST-MODIFIED:20230930T205552Z
UID:20456-1696158000-1696186800@goldranchdayton.com
SUMMARY:BBQ BRISKET GRILLED CHEESE
DESCRIPTION:
URL:https://goldranchdayton.com/event/bbq-brisket-grilled-cheese/
CATEGORIES:Dining
ATTACH;FMTTYPE=image/jpeg:https://goldranchdayton.com/wp-content/uploads/2023/09/2023-OCT-GRILLED-BRISKET-600X402.jpg
END:VEVENT
BEGIN:VEVENT
DTSTART;TZID=America/Los_Angeles:20231001T110000
DTEND;TZID=America/Los_Angeles:20231001T190000
DTSTAMP:20260424T042748
CREATED:20230930T205552Z
LAST-MODIFIED:20230930T205552Z
UID:20456-1696158000-1696186800@goldranchdayton.com
SUMMARY:BBQ BRISKET GRILLED CHEESE
DESCRIPTION:
URL:https://goldranchdayton.com/event/bbq-brisket-grilled-cheese/
CATEGORIES:Dining
ATTACH;FMTTYPE=image/jpeg:https://goldranchdayton.com/wp-content/uploads/2023/09/2023-OCT-GRILLED-BRISKET-600X402.jpg
END:VEVENT
BEGIN:VEVENT
DTSTART;TZID=America/Los_Angeles:20231003T070000
DTEND;TZID=America/Los_Angeles:20231003T190000
DTSTAMP:20260424T042748
CREATED:20230930T204505Z
LAST-MODIFIED:20230930T204505Z
UID:20442-1696316400-1696359600@goldranchdayton.com
SUMMARY:EARN & GET SUNDAE
DESCRIPTION:
URL:https://goldranchdayton.com/event/earn-get-sundae/
CATEGORIES:Dining,Featured
ATTACH;FMTTYPE=image/jpeg:https://goldranchdayton.com/wp-content/uploads/2023/09/2023-OCT-EAG-SUNDAE-600x402-1.jpg
END:VEVENT
BEGIN:VEVENT
DTSTART;TZID=America/Los_Angeles:20231001T110000
DTEND;TZID=America/Los_Angeles:20231001T190000
DTSTAMP:20260424T042748
CREATED:20230930T205552Z
LAST-MODIFIED:20230930T205552Z
UID:20456-1696158000-1696186800@goldranchdayton.com
SUMMARY:BBQ BRISKET GRILLED CHEESE
DESCRIPTION:
URL:https://goldranchdayton.com/event/bbq-brisket-grilled-cheese/
CATEGORIES:Dining
ATTACH;FMTTYPE=image/jpeg:https://goldranchdayton.com/wp-content/uploads/2023/09/2023-OCT-GRILLED-BRISKET-600X402.jpg
END:VEVENT
BEGIN:VEVENT
DTSTART;TZID=America/Los_Angeles:20231001T110000
DTEND;TZID=America/Los_Angeles:20231001T190000
DTSTAMP:20260424T042748
CREATED:20230930T205552Z
LAST-MODIFIED:20230930T205552Z
UID:20456-1696158000-1696186800@goldranchdayton.com
SUMMARY:BBQ BRISKET GRILLED CHEESE
DESCRIPTION:
URL:https://goldranchdayton.com/event/bbq-brisket-grilled-cheese/
CATEGORIES:Dining
ATTACH;FMTTYPE=image/jpeg:https://goldranchdayton.com/wp-content/uploads/2023/09/2023-OCT-GRILLED-BRISKET-600X402.jpg
END:VEVENT
BEGIN:VEVENT
DTSTART;TZID=America/Los_Angeles:20231001T110000
DTEND;TZID=America/Los_Angeles:20231001T190000
DTSTAMP:20260424T042748
CREATED:20230930T205552Z
LAST-MODIFIED:20230930T205552Z
UID:20456-1696158000-1696186800@goldranchdayton.com
SUMMARY:BBQ BRISKET GRILLED CHEESE
DESCRIPTION:
URL:https://goldranchdayton.com/event/bbq-brisket-grilled-cheese/
CATEGORIES:Dining
ATTACH;FMTTYPE=image/jpeg:https://goldranchdayton.com/wp-content/uploads/2023/09/2023-OCT-GRILLED-BRISKET-600X402.jpg
END:VEVENT
BEGIN:VEVENT
DTSTART;TZID=America/Los_Angeles:20231005T110000
DTEND;TZID=America/Los_Angeles:20231005T190000
DTSTAMP:20260424T042748
CREATED:20230930T205714Z
LAST-MODIFIED:20230930T205934Z
UID:20459-1696503600-1696532400@goldranchdayton.com
SUMMARY:SPAGHETTI AND MEATBALLS
DESCRIPTION:
URL:https://goldranchdayton.com/event/spaghetti-and-meatballs/
CATEGORIES:Dining,Featured
ATTACH;FMTTYPE=image/jpeg:https://goldranchdayton.com/wp-content/uploads/2023/09/2023-OCT-599-SPAGHETTI-600X402.jpg
END:VEVENT
BEGIN:VEVENT
DTSTART;TZID=America/Los_Angeles:20231001T110000
DTEND;TZID=America/Los_Angeles:20231001T190000
DTSTAMP:20260424T042748
CREATED:20230930T205552Z
LAST-MODIFIED:20230930T205552Z
UID:20456-1696158000-1696186800@goldranchdayton.com
SUMMARY:BBQ BRISKET GRILLED CHEESE
DESCRIPTION:
URL:https://goldranchdayton.com/event/bbq-brisket-grilled-cheese/
CATEGORIES:Dining
ATTACH;FMTTYPE=image/jpeg:https://goldranchdayton.com/wp-content/uploads/2023/09/2023-OCT-GRILLED-BRISKET-600X402.jpg
END:VEVENT
BEGIN:VEVENT
DTSTART;TZID=America/Los_Angeles:20230303T140000
DTEND;TZID=America/Los_Angeles:20230303T210000
DTSTAMP:20260424T042748
CREATED:20230301T040337Z
LAST-MODIFIED:20240301T204040Z
UID:20200-1677852000-1677877200@goldranchdayton.com
SUMMARY:Prime Rib
DESCRIPTION:Every Friday\, try a delicious\, juicy\, cooked to your liking PRIME RIB DINNER. Served with Chef’s vegetables and your choice of potato. All for $15.99 and only at the Como Café.
URL:https://goldranchdayton.com/event/prime-rib-4/
CATEGORIES:Dining,Featured
ATTACH;FMTTYPE=image/jpeg:https://goldranchdayton.com/wp-content/uploads/2021/08/2021-SEPT-GRD-PRIME-RIB-600X402.jpg
END:VEVENT
BEGIN:VEVENT
DTSTART;TZID=America/Los_Angeles:20231001T110000
DTEND;TZID=America/Los_Angeles:20231001T190000
DTSTAMP:20260424T042748
CREATED:20230930T205552Z
LAST-MODIFIED:20230930T205552Z
UID:20456-1696158000-1696186800@goldranchdayton.com
SUMMARY:BBQ BRISKET GRILLED CHEESE
DESCRIPTION:
URL:https://goldranchdayton.com/event/bbq-brisket-grilled-cheese/
CATEGORIES:Dining
ATTACH;FMTTYPE=image/jpeg:https://goldranchdayton.com/wp-content/uploads/2023/09/2023-OCT-GRILLED-BRISKET-600X402.jpg
END:VEVENT
BEGIN:VEVENT
DTSTART;TZID=America/Los_Angeles:20231001T110000
DTEND;TZID=America/Los_Angeles:20231001T190000
DTSTAMP:20260424T042748
CREATED:20230930T205552Z
LAST-MODIFIED:20230930T205552Z
UID:20456-1696158000-1696186800@goldranchdayton.com
SUMMARY:BBQ BRISKET GRILLED CHEESE
DESCRIPTION:
URL:https://goldranchdayton.com/event/bbq-brisket-grilled-cheese/
CATEGORIES:Dining
ATTACH;FMTTYPE=image/jpeg:https://goldranchdayton.com/wp-content/uploads/2023/09/2023-OCT-GRILLED-BRISKET-600X402.jpg
END:VEVENT
BEGIN:VEVENT
DTSTART;TZID=America/Los_Angeles:20231001T110000
DTEND;TZID=America/Los_Angeles:20231001T190000
DTSTAMP:20260424T042748
CREATED:20230930T205552Z
LAST-MODIFIED:20230930T205552Z
UID:20456-1696158000-1696186800@goldranchdayton.com
SUMMARY:BBQ BRISKET GRILLED CHEESE
DESCRIPTION:
URL:https://goldranchdayton.com/event/bbq-brisket-grilled-cheese/
CATEGORIES:Dining
ATTACH;FMTTYPE=image/jpeg:https://goldranchdayton.com/wp-content/uploads/2023/09/2023-OCT-GRILLED-BRISKET-600X402.jpg
END:VEVENT
BEGIN:VEVENT
DTSTART;TZID=America/Los_Angeles:20231003T070000
DTEND;TZID=America/Los_Angeles:20231003T190000
DTSTAMP:20260424T042748
CREATED:20230930T204505Z
LAST-MODIFIED:20230930T204505Z
UID:20442-1696316400-1696359600@goldranchdayton.com
SUMMARY:EARN & GET SUNDAE
DESCRIPTION:
URL:https://goldranchdayton.com/event/earn-get-sundae/
CATEGORIES:Dining,Featured
ATTACH;FMTTYPE=image/jpeg:https://goldranchdayton.com/wp-content/uploads/2023/09/2023-OCT-EAG-SUNDAE-600x402-1.jpg
END:VEVENT
BEGIN:VEVENT
DTSTART;TZID=America/Los_Angeles:20231001T110000
DTEND;TZID=America/Los_Angeles:20231001T190000
DTSTAMP:20260424T042748
CREATED:20230930T205552Z
LAST-MODIFIED:20230930T205552Z
UID:20456-1696158000-1696186800@goldranchdayton.com
SUMMARY:BBQ BRISKET GRILLED CHEESE
DESCRIPTION:
URL:https://goldranchdayton.com/event/bbq-brisket-grilled-cheese/
CATEGORIES:Dining
ATTACH;FMTTYPE=image/jpeg:https://goldranchdayton.com/wp-content/uploads/2023/09/2023-OCT-GRILLED-BRISKET-600X402.jpg
END:VEVENT
BEGIN:VEVENT
DTSTART;TZID=America/Los_Angeles:20231001T110000
DTEND;TZID=America/Los_Angeles:20231001T190000
DTSTAMP:20260424T042748
CREATED:20230930T205552Z
LAST-MODIFIED:20230930T205552Z
UID:20456-1696158000-1696186800@goldranchdayton.com
SUMMARY:BBQ BRISKET GRILLED CHEESE
DESCRIPTION:
URL:https://goldranchdayton.com/event/bbq-brisket-grilled-cheese/
CATEGORIES:Dining
ATTACH;FMTTYPE=image/jpeg:https://goldranchdayton.com/wp-content/uploads/2023/09/2023-OCT-GRILLED-BRISKET-600X402.jpg
END:VEVENT
BEGIN:VEVENT
DTSTART;TZID=America/Los_Angeles:20231001T110000
DTEND;TZID=America/Los_Angeles:20231001T190000
DTSTAMP:20260424T042748
CREATED:20230930T205552Z
LAST-MODIFIED:20230930T205552Z
UID:20456-1696158000-1696186800@goldranchdayton.com
SUMMARY:BBQ BRISKET GRILLED CHEESE
DESCRIPTION:
URL:https://goldranchdayton.com/event/bbq-brisket-grilled-cheese/
CATEGORIES:Dining
ATTACH;FMTTYPE=image/jpeg:https://goldranchdayton.com/wp-content/uploads/2023/09/2023-OCT-GRILLED-BRISKET-600X402.jpg
END:VEVENT
BEGIN:VEVENT
DTSTART;TZID=America/Los_Angeles:20231005T110000
DTEND;TZID=America/Los_Angeles:20231005T190000
DTSTAMP:20260424T042748
CREATED:20230930T205714Z
LAST-MODIFIED:20230930T205934Z
UID:20459-1696503600-1696532400@goldranchdayton.com
SUMMARY:SPAGHETTI AND MEATBALLS
DESCRIPTION:
URL:https://goldranchdayton.com/event/spaghetti-and-meatballs/
CATEGORIES:Dining,Featured
ATTACH;FMTTYPE=image/jpeg:https://goldranchdayton.com/wp-content/uploads/2023/09/2023-OCT-599-SPAGHETTI-600X402.jpg
END:VEVENT
BEGIN:VEVENT
DTSTART;TZID=America/Los_Angeles:20231001T110000
DTEND;TZID=America/Los_Angeles:20231001T190000
DTSTAMP:20260424T042748
CREATED:20230930T205552Z
LAST-MODIFIED:20230930T205552Z
UID:20456-1696158000-1696186800@goldranchdayton.com
SUMMARY:BBQ BRISKET GRILLED CHEESE
DESCRIPTION:
URL:https://goldranchdayton.com/event/bbq-brisket-grilled-cheese/
CATEGORIES:Dining
ATTACH;FMTTYPE=image/jpeg:https://goldranchdayton.com/wp-content/uploads/2023/09/2023-OCT-GRILLED-BRISKET-600X402.jpg
END:VEVENT
BEGIN:VEVENT
DTSTART;TZID=America/Los_Angeles:20230303T140000
DTEND;TZID=America/Los_Angeles:20230303T210000
DTSTAMP:20260424T042748
CREATED:20230301T040337Z
LAST-MODIFIED:20240301T204040Z
UID:20200-1677852000-1677877200@goldranchdayton.com
SUMMARY:Prime Rib
DESCRIPTION:Every Friday\, try a delicious\, juicy\, cooked to your liking PRIME RIB DINNER. Served with Chef’s vegetables and your choice of potato. All for $15.99 and only at the Como Café.
URL:https://goldranchdayton.com/event/prime-rib-4/
CATEGORIES:Dining,Featured
ATTACH;FMTTYPE=image/jpeg:https://goldranchdayton.com/wp-content/uploads/2021/08/2021-SEPT-GRD-PRIME-RIB-600X402.jpg
END:VEVENT
BEGIN:VEVENT
DTSTART;TZID=America/Los_Angeles:20231001T110000
DTEND;TZID=America/Los_Angeles:20231001T190000
DTSTAMP:20260424T042748
CREATED:20230930T205552Z
LAST-MODIFIED:20230930T205552Z
UID:20456-1696158000-1696186800@goldranchdayton.com
SUMMARY:BBQ BRISKET GRILLED CHEESE
DESCRIPTION:
URL:https://goldranchdayton.com/event/bbq-brisket-grilled-cheese/
CATEGORIES:Dining
ATTACH;FMTTYPE=image/jpeg:https://goldranchdayton.com/wp-content/uploads/2023/09/2023-OCT-GRILLED-BRISKET-600X402.jpg
END:VEVENT
END:VCALENDAR