BEGIN:VCALENDAR
VERSION:2.0
PRODID:-//Gold Ranch Casino Dayton - ECPv6.15.18//NONSGML v1.0//EN
CALSCALE:GREGORIAN
METHOD:PUBLISH
X-WR-CALNAME:Gold Ranch Casino Dayton
X-ORIGINAL-URL:https://goldranchdayton.com
X-WR-CALDESC:Events for Gold Ranch Casino Dayton
REFRESH-INTERVAL;VALUE=DURATION:PT1H
X-Robots-Tag:noindex
X-PUBLISHED-TTL:PT1H
BEGIN:VTIMEZONE
TZID:America/Los_Angeles
BEGIN:DAYLIGHT
TZOFFSETFROM:-0800
TZOFFSETTO:-0700
TZNAME:PDT
DTSTART:20220313T100000
END:DAYLIGHT
BEGIN:STANDARD
TZOFFSETFROM:-0700
TZOFFSETTO:-0800
TZNAME:PST
DTSTART:20221106T090000
END:STANDARD
BEGIN:DAYLIGHT
TZOFFSETFROM:-0800
TZOFFSETTO:-0700
TZNAME:PDT
DTSTART:20230312T100000
END:DAYLIGHT
BEGIN:STANDARD
TZOFFSETFROM:-0700
TZOFFSETTO:-0800
TZNAME:PST
DTSTART:20231105T090000
END:STANDARD
BEGIN:DAYLIGHT
TZOFFSETFROM:-0800
TZOFFSETTO:-0700
TZNAME:PDT
DTSTART:20240310T100000
END:DAYLIGHT
BEGIN:STANDARD
TZOFFSETFROM:-0700
TZOFFSETTO:-0800
TZNAME:PST
DTSTART:20241103T090000
END:STANDARD
END:VTIMEZONE
BEGIN:VEVENT
DTSTART;TZID=America/Los_Angeles:20230501T110000
DTEND;TZID=America/Los_Angeles:20230501T200000
DTSTAMP:20260424T121605
CREATED:20230501T175812Z
LAST-MODIFIED:20230501T180015Z
UID:20275-1682938800-1682971200@goldranchdayton.com
SUMMARY:Smoked BBQ Brisket Sandwich
DESCRIPTION:Get it while it’s hot! A hot delicious smoked brisket sandwich with house BBQ sauce\, cheddar cheese\, red onion\, and pickles\, served with mac salad only at the Como Café.
URL:https://goldranchdayton.com/event/smoked-bbq-brisket-sandwich/
CATEGORIES:Dining
ATTACH;FMTTYPE=image/jpeg:https://goldranchdayton.com/wp-content/uploads/2023/05/2023-MAY-SMOKED-BRISKET-600X402.jpg
END:VEVENT
BEGIN:VEVENT
DTSTART;TZID=America/Los_Angeles:20230501T110000
DTEND;TZID=America/Los_Angeles:20230501T200000
DTSTAMP:20260424T121605
CREATED:20230501T175937Z
LAST-MODIFIED:20230501T175957Z
UID:20278-1682938800-1682971200@goldranchdayton.com
SUMMARY:Brownie Sundae
DESCRIPTION:Get a mouthwatering Brownie sundae any day of the week with lunch or dinner for only $5.99!
URL:https://goldranchdayton.com/event/brownie-sundae/
CATEGORIES:Dining
ATTACH;FMTTYPE=image/jpeg:https://goldranchdayton.com/wp-content/uploads/2023/05/2023-MAY-BROWNIE-SUNDAE-600x402-1.jpg
END:VEVENT
BEGIN:VEVENT
DTSTART;TZID=America/Los_Angeles:20230501T110000
DTEND;TZID=America/Los_Angeles:20230501T200000
DTSTAMP:20260424T121605
CREATED:20230501T175812Z
LAST-MODIFIED:20230501T180015Z
UID:20275-1682938800-1682971200@goldranchdayton.com
SUMMARY:Smoked BBQ Brisket Sandwich
DESCRIPTION:Get it while it’s hot! A hot delicious smoked brisket sandwich with house BBQ sauce\, cheddar cheese\, red onion\, and pickles\, served with mac salad only at the Como Café.
URL:https://goldranchdayton.com/event/smoked-bbq-brisket-sandwich/
CATEGORIES:Dining
ATTACH;FMTTYPE=image/jpeg:https://goldranchdayton.com/wp-content/uploads/2023/05/2023-MAY-SMOKED-BRISKET-600X402.jpg
END:VEVENT
BEGIN:VEVENT
DTSTART;TZID=America/Los_Angeles:20230501T110000
DTEND;TZID=America/Los_Angeles:20230501T200000
DTSTAMP:20260424T121605
CREATED:20230501T175937Z
LAST-MODIFIED:20230501T175957Z
UID:20278-1682938800-1682971200@goldranchdayton.com
SUMMARY:Brownie Sundae
DESCRIPTION:Get a mouthwatering Brownie sundae any day of the week with lunch or dinner for only $5.99!
URL:https://goldranchdayton.com/event/brownie-sundae/
CATEGORIES:Dining
ATTACH;FMTTYPE=image/jpeg:https://goldranchdayton.com/wp-content/uploads/2023/05/2023-MAY-BROWNIE-SUNDAE-600x402-1.jpg
END:VEVENT
BEGIN:VEVENT
DTSTART;TZID=America/Los_Angeles:20230501T110000
DTEND;TZID=America/Los_Angeles:20230501T200000
DTSTAMP:20260424T121605
CREATED:20230501T175812Z
LAST-MODIFIED:20230501T180015Z
UID:20275-1682938800-1682971200@goldranchdayton.com
SUMMARY:Smoked BBQ Brisket Sandwich
DESCRIPTION:Get it while it’s hot! A hot delicious smoked brisket sandwich with house BBQ sauce\, cheddar cheese\, red onion\, and pickles\, served with mac salad only at the Como Café.
URL:https://goldranchdayton.com/event/smoked-bbq-brisket-sandwich/
CATEGORIES:Dining
ATTACH;FMTTYPE=image/jpeg:https://goldranchdayton.com/wp-content/uploads/2023/05/2023-MAY-SMOKED-BRISKET-600X402.jpg
END:VEVENT
BEGIN:VEVENT
DTSTART;TZID=America/Los_Angeles:20230501T110000
DTEND;TZID=America/Los_Angeles:20230501T200000
DTSTAMP:20260424T121605
CREATED:20230501T175937Z
LAST-MODIFIED:20230501T175957Z
UID:20278-1682938800-1682971200@goldranchdayton.com
SUMMARY:Brownie Sundae
DESCRIPTION:Get a mouthwatering Brownie sundae any day of the week with lunch or dinner for only $5.99!
URL:https://goldranchdayton.com/event/brownie-sundae/
CATEGORIES:Dining
ATTACH;FMTTYPE=image/jpeg:https://goldranchdayton.com/wp-content/uploads/2023/05/2023-MAY-BROWNIE-SUNDAE-600x402-1.jpg
END:VEVENT
BEGIN:VEVENT
DTSTART;TZID=America/Los_Angeles:20230501T110000
DTEND;TZID=America/Los_Angeles:20230501T200000
DTSTAMP:20260424T121605
CREATED:20230501T175812Z
LAST-MODIFIED:20230501T180015Z
UID:20275-1682938800-1682971200@goldranchdayton.com
SUMMARY:Smoked BBQ Brisket Sandwich
DESCRIPTION:Get it while it’s hot! A hot delicious smoked brisket sandwich with house BBQ sauce\, cheddar cheese\, red onion\, and pickles\, served with mac salad only at the Como Café.
URL:https://goldranchdayton.com/event/smoked-bbq-brisket-sandwich/
CATEGORIES:Dining
ATTACH;FMTTYPE=image/jpeg:https://goldranchdayton.com/wp-content/uploads/2023/05/2023-MAY-SMOKED-BRISKET-600X402.jpg
END:VEVENT
BEGIN:VEVENT
DTSTART;TZID=America/Los_Angeles:20230501T110000
DTEND;TZID=America/Los_Angeles:20230501T200000
DTSTAMP:20260424T121605
CREATED:20230501T175937Z
LAST-MODIFIED:20230501T175957Z
UID:20278-1682938800-1682971200@goldranchdayton.com
SUMMARY:Brownie Sundae
DESCRIPTION:Get a mouthwatering Brownie sundae any day of the week with lunch or dinner for only $5.99!
URL:https://goldranchdayton.com/event/brownie-sundae/
CATEGORIES:Dining
ATTACH;FMTTYPE=image/jpeg:https://goldranchdayton.com/wp-content/uploads/2023/05/2023-MAY-BROWNIE-SUNDAE-600x402-1.jpg
END:VEVENT
BEGIN:VEVENT
DTSTART;TZID=America/Los_Angeles:20230501T110000
DTEND;TZID=America/Los_Angeles:20230501T200000
DTSTAMP:20260424T121605
CREATED:20230501T175812Z
LAST-MODIFIED:20230501T180015Z
UID:20275-1682938800-1682971200@goldranchdayton.com
SUMMARY:Smoked BBQ Brisket Sandwich
DESCRIPTION:Get it while it’s hot! A hot delicious smoked brisket sandwich with house BBQ sauce\, cheddar cheese\, red onion\, and pickles\, served with mac salad only at the Como Café.
URL:https://goldranchdayton.com/event/smoked-bbq-brisket-sandwich/
CATEGORIES:Dining
ATTACH;FMTTYPE=image/jpeg:https://goldranchdayton.com/wp-content/uploads/2023/05/2023-MAY-SMOKED-BRISKET-600X402.jpg
END:VEVENT
BEGIN:VEVENT
DTSTART;TZID=America/Los_Angeles:20230501T110000
DTEND;TZID=America/Los_Angeles:20230501T200000
DTSTAMP:20260424T121605
CREATED:20230501T175937Z
LAST-MODIFIED:20230501T175957Z
UID:20278-1682938800-1682971200@goldranchdayton.com
SUMMARY:Brownie Sundae
DESCRIPTION:Get a mouthwatering Brownie sundae any day of the week with lunch or dinner for only $5.99!
URL:https://goldranchdayton.com/event/brownie-sundae/
CATEGORIES:Dining
ATTACH;FMTTYPE=image/jpeg:https://goldranchdayton.com/wp-content/uploads/2023/05/2023-MAY-BROWNIE-SUNDAE-600x402-1.jpg
END:VEVENT
BEGIN:VEVENT
DTSTART;TZID=America/Los_Angeles:20230303T140000
DTEND;TZID=America/Los_Angeles:20230303T210000
DTSTAMP:20260424T121605
CREATED:20230301T040337Z
LAST-MODIFIED:20240301T204040Z
UID:20200-1677852000-1677877200@goldranchdayton.com
SUMMARY:Prime Rib
DESCRIPTION:Every Friday\, try a delicious\, juicy\, cooked to your liking PRIME RIB DINNER. Served with Chef’s vegetables and your choice of potato. All for $15.99 and only at the Como Café.
URL:https://goldranchdayton.com/event/prime-rib-4/
CATEGORIES:Dining,Featured
ATTACH;FMTTYPE=image/jpeg:https://goldranchdayton.com/wp-content/uploads/2021/08/2021-SEPT-GRD-PRIME-RIB-600X402.jpg
END:VEVENT
BEGIN:VEVENT
DTSTART;TZID=America/Los_Angeles:20230501T110000
DTEND;TZID=America/Los_Angeles:20230501T200000
DTSTAMP:20260424T121605
CREATED:20230501T175812Z
LAST-MODIFIED:20230501T180015Z
UID:20275-1682938800-1682971200@goldranchdayton.com
SUMMARY:Smoked BBQ Brisket Sandwich
DESCRIPTION:Get it while it’s hot! A hot delicious smoked brisket sandwich with house BBQ sauce\, cheddar cheese\, red onion\, and pickles\, served with mac salad only at the Como Café.
URL:https://goldranchdayton.com/event/smoked-bbq-brisket-sandwich/
CATEGORIES:Dining
ATTACH;FMTTYPE=image/jpeg:https://goldranchdayton.com/wp-content/uploads/2023/05/2023-MAY-SMOKED-BRISKET-600X402.jpg
END:VEVENT
BEGIN:VEVENT
DTSTART;TZID=America/Los_Angeles:20230501T110000
DTEND;TZID=America/Los_Angeles:20230501T200000
DTSTAMP:20260424T121605
CREATED:20230501T175937Z
LAST-MODIFIED:20230501T175957Z
UID:20278-1682938800-1682971200@goldranchdayton.com
SUMMARY:Brownie Sundae
DESCRIPTION:Get a mouthwatering Brownie sundae any day of the week with lunch or dinner for only $5.99!
URL:https://goldranchdayton.com/event/brownie-sundae/
CATEGORIES:Dining
ATTACH;FMTTYPE=image/jpeg:https://goldranchdayton.com/wp-content/uploads/2023/05/2023-MAY-BROWNIE-SUNDAE-600x402-1.jpg
END:VEVENT
BEGIN:VEVENT
DTSTART;TZID=America/Los_Angeles:20230501T110000
DTEND;TZID=America/Los_Angeles:20230501T200000
DTSTAMP:20260424T121605
CREATED:20230501T175812Z
LAST-MODIFIED:20230501T180015Z
UID:20275-1682938800-1682971200@goldranchdayton.com
SUMMARY:Smoked BBQ Brisket Sandwich
DESCRIPTION:Get it while it’s hot! A hot delicious smoked brisket sandwich with house BBQ sauce\, cheddar cheese\, red onion\, and pickles\, served with mac salad only at the Como Café.
URL:https://goldranchdayton.com/event/smoked-bbq-brisket-sandwich/
CATEGORIES:Dining
ATTACH;FMTTYPE=image/jpeg:https://goldranchdayton.com/wp-content/uploads/2023/05/2023-MAY-SMOKED-BRISKET-600X402.jpg
END:VEVENT
BEGIN:VEVENT
DTSTART;TZID=America/Los_Angeles:20230501T110000
DTEND;TZID=America/Los_Angeles:20230501T200000
DTSTAMP:20260424T121605
CREATED:20230501T175937Z
LAST-MODIFIED:20230501T175957Z
UID:20278-1682938800-1682971200@goldranchdayton.com
SUMMARY:Brownie Sundae
DESCRIPTION:Get a mouthwatering Brownie sundae any day of the week with lunch or dinner for only $5.99!
URL:https://goldranchdayton.com/event/brownie-sundae/
CATEGORIES:Dining
ATTACH;FMTTYPE=image/jpeg:https://goldranchdayton.com/wp-content/uploads/2023/05/2023-MAY-BROWNIE-SUNDAE-600x402-1.jpg
END:VEVENT
BEGIN:VEVENT
DTSTART;TZID=America/Los_Angeles:20230501T110000
DTEND;TZID=America/Los_Angeles:20230501T200000
DTSTAMP:20260424T121605
CREATED:20230501T175812Z
LAST-MODIFIED:20230501T180015Z
UID:20275-1682938800-1682971200@goldranchdayton.com
SUMMARY:Smoked BBQ Brisket Sandwich
DESCRIPTION:Get it while it’s hot! A hot delicious smoked brisket sandwich with house BBQ sauce\, cheddar cheese\, red onion\, and pickles\, served with mac salad only at the Como Café.
URL:https://goldranchdayton.com/event/smoked-bbq-brisket-sandwich/
CATEGORIES:Dining
ATTACH;FMTTYPE=image/jpeg:https://goldranchdayton.com/wp-content/uploads/2023/05/2023-MAY-SMOKED-BRISKET-600X402.jpg
END:VEVENT
BEGIN:VEVENT
DTSTART;TZID=America/Los_Angeles:20230501T110000
DTEND;TZID=America/Los_Angeles:20230501T200000
DTSTAMP:20260424T121605
CREATED:20230501T175937Z
LAST-MODIFIED:20230501T175957Z
UID:20278-1682938800-1682971200@goldranchdayton.com
SUMMARY:Brownie Sundae
DESCRIPTION:Get a mouthwatering Brownie sundae any day of the week with lunch or dinner for only $5.99!
URL:https://goldranchdayton.com/event/brownie-sundae/
CATEGORIES:Dining
ATTACH;FMTTYPE=image/jpeg:https://goldranchdayton.com/wp-content/uploads/2023/05/2023-MAY-BROWNIE-SUNDAE-600x402-1.jpg
END:VEVENT
BEGIN:VEVENT
DTSTART;TZID=America/Los_Angeles:20230501T110000
DTEND;TZID=America/Los_Angeles:20230501T200000
DTSTAMP:20260424T121605
CREATED:20230501T175812Z
LAST-MODIFIED:20230501T180015Z
UID:20275-1682938800-1682971200@goldranchdayton.com
SUMMARY:Smoked BBQ Brisket Sandwich
DESCRIPTION:Get it while it’s hot! A hot delicious smoked brisket sandwich with house BBQ sauce\, cheddar cheese\, red onion\, and pickles\, served with mac salad only at the Como Café.
URL:https://goldranchdayton.com/event/smoked-bbq-brisket-sandwich/
CATEGORIES:Dining
ATTACH;FMTTYPE=image/jpeg:https://goldranchdayton.com/wp-content/uploads/2023/05/2023-MAY-SMOKED-BRISKET-600X402.jpg
END:VEVENT
BEGIN:VEVENT
DTSTART;TZID=America/Los_Angeles:20230501T110000
DTEND;TZID=America/Los_Angeles:20230501T200000
DTSTAMP:20260424T121605
CREATED:20230501T175937Z
LAST-MODIFIED:20230501T175957Z
UID:20278-1682938800-1682971200@goldranchdayton.com
SUMMARY:Brownie Sundae
DESCRIPTION:Get a mouthwatering Brownie sundae any day of the week with lunch or dinner for only $5.99!
URL:https://goldranchdayton.com/event/brownie-sundae/
CATEGORIES:Dining
ATTACH;FMTTYPE=image/jpeg:https://goldranchdayton.com/wp-content/uploads/2023/05/2023-MAY-BROWNIE-SUNDAE-600x402-1.jpg
END:VEVENT
BEGIN:VEVENT
DTSTART;TZID=America/Los_Angeles:20230501T110000
DTEND;TZID=America/Los_Angeles:20230501T200000
DTSTAMP:20260424T121605
CREATED:20230501T175812Z
LAST-MODIFIED:20230501T180015Z
UID:20275-1682938800-1682971200@goldranchdayton.com
SUMMARY:Smoked BBQ Brisket Sandwich
DESCRIPTION:Get it while it’s hot! A hot delicious smoked brisket sandwich with house BBQ sauce\, cheddar cheese\, red onion\, and pickles\, served with mac salad only at the Como Café.
URL:https://goldranchdayton.com/event/smoked-bbq-brisket-sandwich/
CATEGORIES:Dining
ATTACH;FMTTYPE=image/jpeg:https://goldranchdayton.com/wp-content/uploads/2023/05/2023-MAY-SMOKED-BRISKET-600X402.jpg
END:VEVENT
BEGIN:VEVENT
DTSTART;TZID=America/Los_Angeles:20230501T110000
DTEND;TZID=America/Los_Angeles:20230501T200000
DTSTAMP:20260424T121605
CREATED:20230501T175937Z
LAST-MODIFIED:20230501T175957Z
UID:20278-1682938800-1682971200@goldranchdayton.com
SUMMARY:Brownie Sundae
DESCRIPTION:Get a mouthwatering Brownie sundae any day of the week with lunch or dinner for only $5.99!
URL:https://goldranchdayton.com/event/brownie-sundae/
CATEGORIES:Dining
ATTACH;FMTTYPE=image/jpeg:https://goldranchdayton.com/wp-content/uploads/2023/05/2023-MAY-BROWNIE-SUNDAE-600x402-1.jpg
END:VEVENT
BEGIN:VEVENT
DTSTART;TZID=America/Los_Angeles:20230501T110000
DTEND;TZID=America/Los_Angeles:20230501T200000
DTSTAMP:20260424T121605
CREATED:20230501T175812Z
LAST-MODIFIED:20230501T180015Z
UID:20275-1682938800-1682971200@goldranchdayton.com
SUMMARY:Smoked BBQ Brisket Sandwich
DESCRIPTION:Get it while it’s hot! A hot delicious smoked brisket sandwich with house BBQ sauce\, cheddar cheese\, red onion\, and pickles\, served with mac salad only at the Como Café.
URL:https://goldranchdayton.com/event/smoked-bbq-brisket-sandwich/
CATEGORIES:Dining
ATTACH;FMTTYPE=image/jpeg:https://goldranchdayton.com/wp-content/uploads/2023/05/2023-MAY-SMOKED-BRISKET-600X402.jpg
END:VEVENT
BEGIN:VEVENT
DTSTART;TZID=America/Los_Angeles:20230501T110000
DTEND;TZID=America/Los_Angeles:20230501T200000
DTSTAMP:20260424T121605
CREATED:20230501T175937Z
LAST-MODIFIED:20230501T175957Z
UID:20278-1682938800-1682971200@goldranchdayton.com
SUMMARY:Brownie Sundae
DESCRIPTION:Get a mouthwatering Brownie sundae any day of the week with lunch or dinner for only $5.99!
URL:https://goldranchdayton.com/event/brownie-sundae/
CATEGORIES:Dining
ATTACH;FMTTYPE=image/jpeg:https://goldranchdayton.com/wp-content/uploads/2023/05/2023-MAY-BROWNIE-SUNDAE-600x402-1.jpg
END:VEVENT
BEGIN:VEVENT
DTSTART;TZID=America/Los_Angeles:20230501T110000
DTEND;TZID=America/Los_Angeles:20230501T200000
DTSTAMP:20260424T121605
CREATED:20230501T175812Z
LAST-MODIFIED:20230501T180015Z
UID:20275-1682938800-1682971200@goldranchdayton.com
SUMMARY:Smoked BBQ Brisket Sandwich
DESCRIPTION:Get it while it’s hot! A hot delicious smoked brisket sandwich with house BBQ sauce\, cheddar cheese\, red onion\, and pickles\, served with mac salad only at the Como Café.
URL:https://goldranchdayton.com/event/smoked-bbq-brisket-sandwich/
CATEGORIES:Dining
ATTACH;FMTTYPE=image/jpeg:https://goldranchdayton.com/wp-content/uploads/2023/05/2023-MAY-SMOKED-BRISKET-600X402.jpg
END:VEVENT
BEGIN:VEVENT
DTSTART;TZID=America/Los_Angeles:20230501T110000
DTEND;TZID=America/Los_Angeles:20230501T200000
DTSTAMP:20260424T121605
CREATED:20230501T175937Z
LAST-MODIFIED:20230501T175957Z
UID:20278-1682938800-1682971200@goldranchdayton.com
SUMMARY:Brownie Sundae
DESCRIPTION:Get a mouthwatering Brownie sundae any day of the week with lunch or dinner for only $5.99!
URL:https://goldranchdayton.com/event/brownie-sundae/
CATEGORIES:Dining
ATTACH;FMTTYPE=image/jpeg:https://goldranchdayton.com/wp-content/uploads/2023/05/2023-MAY-BROWNIE-SUNDAE-600x402-1.jpg
END:VEVENT
BEGIN:VEVENT
DTSTART;TZID=America/Los_Angeles:20230303T140000
DTEND;TZID=America/Los_Angeles:20230303T210000
DTSTAMP:20260424T121605
CREATED:20230301T040337Z
LAST-MODIFIED:20240301T204040Z
UID:20200-1677852000-1677877200@goldranchdayton.com
SUMMARY:Prime Rib
DESCRIPTION:Every Friday\, try a delicious\, juicy\, cooked to your liking PRIME RIB DINNER. Served with Chef’s vegetables and your choice of potato. All for $15.99 and only at the Como Café.
URL:https://goldranchdayton.com/event/prime-rib-4/
CATEGORIES:Dining,Featured
ATTACH;FMTTYPE=image/jpeg:https://goldranchdayton.com/wp-content/uploads/2021/08/2021-SEPT-GRD-PRIME-RIB-600X402.jpg
END:VEVENT
BEGIN:VEVENT
DTSTART;TZID=America/Los_Angeles:20230501T110000
DTEND;TZID=America/Los_Angeles:20230501T200000
DTSTAMP:20260424T121605
CREATED:20230501T175812Z
LAST-MODIFIED:20230501T180015Z
UID:20275-1682938800-1682971200@goldranchdayton.com
SUMMARY:Smoked BBQ Brisket Sandwich
DESCRIPTION:Get it while it’s hot! A hot delicious smoked brisket sandwich with house BBQ sauce\, cheddar cheese\, red onion\, and pickles\, served with mac salad only at the Como Café.
URL:https://goldranchdayton.com/event/smoked-bbq-brisket-sandwich/
CATEGORIES:Dining
ATTACH;FMTTYPE=image/jpeg:https://goldranchdayton.com/wp-content/uploads/2023/05/2023-MAY-SMOKED-BRISKET-600X402.jpg
END:VEVENT
BEGIN:VEVENT
DTSTART;TZID=America/Los_Angeles:20230501T110000
DTEND;TZID=America/Los_Angeles:20230501T200000
DTSTAMP:20260424T121605
CREATED:20230501T175937Z
LAST-MODIFIED:20230501T175957Z
UID:20278-1682938800-1682971200@goldranchdayton.com
SUMMARY:Brownie Sundae
DESCRIPTION:Get a mouthwatering Brownie sundae any day of the week with lunch or dinner for only $5.99!
URL:https://goldranchdayton.com/event/brownie-sundae/
CATEGORIES:Dining
ATTACH;FMTTYPE=image/jpeg:https://goldranchdayton.com/wp-content/uploads/2023/05/2023-MAY-BROWNIE-SUNDAE-600x402-1.jpg
END:VEVENT
BEGIN:VEVENT
DTSTART;TZID=America/Los_Angeles:20230501T110000
DTEND;TZID=America/Los_Angeles:20230501T200000
DTSTAMP:20260424T121605
CREATED:20230501T175812Z
LAST-MODIFIED:20230501T180015Z
UID:20275-1682938800-1682971200@goldranchdayton.com
SUMMARY:Smoked BBQ Brisket Sandwich
DESCRIPTION:Get it while it’s hot! A hot delicious smoked brisket sandwich with house BBQ sauce\, cheddar cheese\, red onion\, and pickles\, served with mac salad only at the Como Café.
URL:https://goldranchdayton.com/event/smoked-bbq-brisket-sandwich/
CATEGORIES:Dining
ATTACH;FMTTYPE=image/jpeg:https://goldranchdayton.com/wp-content/uploads/2023/05/2023-MAY-SMOKED-BRISKET-600X402.jpg
END:VEVENT
BEGIN:VEVENT
DTSTART;TZID=America/Los_Angeles:20230501T110000
DTEND;TZID=America/Los_Angeles:20230501T200000
DTSTAMP:20260424T121605
CREATED:20230501T175937Z
LAST-MODIFIED:20230501T175957Z
UID:20278-1682938800-1682971200@goldranchdayton.com
SUMMARY:Brownie Sundae
DESCRIPTION:Get a mouthwatering Brownie sundae any day of the week with lunch or dinner for only $5.99!
URL:https://goldranchdayton.com/event/brownie-sundae/
CATEGORIES:Dining
ATTACH;FMTTYPE=image/jpeg:https://goldranchdayton.com/wp-content/uploads/2023/05/2023-MAY-BROWNIE-SUNDAE-600x402-1.jpg
END:VEVENT
END:VCALENDAR