BEGIN:VCALENDAR
VERSION:2.0
PRODID:-//Gold Ranch Casino Dayton - ECPv6.15.18//NONSGML v1.0//EN
CALSCALE:GREGORIAN
METHOD:PUBLISH
X-ORIGINAL-URL:https://goldranchdayton.com
X-WR-CALDESC:Events for Gold Ranch Casino Dayton
REFRESH-INTERVAL;VALUE=DURATION:PT1H
X-Robots-Tag:noindex
X-PUBLISHED-TTL:PT1H
BEGIN:VTIMEZONE
TZID:America/Los_Angeles
BEGIN:DAYLIGHT
TZOFFSETFROM:-0800
TZOFFSETTO:-0700
TZNAME:PDT
DTSTART:20200308T100000
END:DAYLIGHT
BEGIN:STANDARD
TZOFFSETFROM:-0700
TZOFFSETTO:-0800
TZNAME:PST
DTSTART:20201101T090000
END:STANDARD
BEGIN:DAYLIGHT
TZOFFSETFROM:-0800
TZOFFSETTO:-0700
TZNAME:PDT
DTSTART:20210314T100000
END:DAYLIGHT
BEGIN:STANDARD
TZOFFSETFROM:-0700
TZOFFSETTO:-0800
TZNAME:PST
DTSTART:20211107T090000
END:STANDARD
BEGIN:DAYLIGHT
TZOFFSETFROM:-0800
TZOFFSETTO:-0700
TZNAME:PDT
DTSTART:20220313T100000
END:DAYLIGHT
BEGIN:STANDARD
TZOFFSETFROM:-0700
TZOFFSETTO:-0800
TZNAME:PST
DTSTART:20221106T090000
END:STANDARD
BEGIN:DAYLIGHT
TZOFFSETFROM:-0800
TZOFFSETTO:-0700
TZNAME:PDT
DTSTART:20230312T100000
END:DAYLIGHT
BEGIN:STANDARD
TZOFFSETFROM:-0700
TZOFFSETTO:-0800
TZNAME:PST
DTSTART:20231105T090000
END:STANDARD
END:VTIMEZONE
BEGIN:VEVENT
DTSTART;TZID=America/Los_Angeles:20210903T140000
DTEND;TZID=America/Los_Angeles:20210903T210000
DTSTAMP:20260425T053904
CREATED:20210827T192805Z
LAST-MODIFIED:20220930T211214Z
UID:16210-1630677600-1630702800@goldranchdayton.com
SUMMARY:Friday Dinner Special
DESCRIPTION:Fridays from 2pm to close. Prime Rib Dinner served with Chef’s vegetables and your choice of potato. $15.99
URL:https://goldranchdayton.com/event/prime-rib-dinner/
CATEGORIES:Dining,Featured
ATTACH;FMTTYPE=image/jpeg:https://goldranchdayton.com/wp-content/uploads/2021/08/2021-SEPT-GRD-PRIME-RIB-600X402.jpg
END:VEVENT
BEGIN:VEVENT
DTSTART;TZID=America/Los_Angeles:20220604T140000
DTEND;TZID=America/Los_Angeles:20220604T210000
DTSTAMP:20260425T053904
CREATED:20220601T234851Z
LAST-MODIFIED:20220701T172333Z
UID:17944-1654351200-1654376400@goldranchdayton.com
SUMMARY:Summer BBQ Platter
DESCRIPTION:Summer barbecues are the best. Now on Saturdays\, we will do the grilling for you. Enjoy a barbecue platter of chicken\, corn\, baked beans\, and potato salad for just $14.99 from 2pm to close. Sounds delish!
URL:https://goldranchdayton.com/event/summer-bbq-platter/
CATEGORIES:Dining,Featured
ATTACH;FMTTYPE=image/jpeg:https://goldranchdayton.com/wp-content/uploads/2022/06/2022-GRD-SUMMER-BBQ-PLATTER-600x402-1.jpg
END:VEVENT
BEGIN:VEVENT
DTSTART;TZID=America/Los_Angeles:20210903T140000
DTEND;TZID=America/Los_Angeles:20210903T210000
DTSTAMP:20260425T053904
CREATED:20210827T192805Z
LAST-MODIFIED:20220930T211214Z
UID:16210-1630677600-1630702800@goldranchdayton.com
SUMMARY:Friday Dinner Special
DESCRIPTION:Fridays from 2pm to close. Prime Rib Dinner served with Chef’s vegetables and your choice of potato. $15.99
URL:https://goldranchdayton.com/event/prime-rib-dinner/
CATEGORIES:Dining,Featured
ATTACH;FMTTYPE=image/jpeg:https://goldranchdayton.com/wp-content/uploads/2021/08/2021-SEPT-GRD-PRIME-RIB-600X402.jpg
END:VEVENT
BEGIN:VEVENT
DTSTART;TZID=America/Los_Angeles:20220604T140000
DTEND;TZID=America/Los_Angeles:20220604T210000
DTSTAMP:20260425T053904
CREATED:20220601T234851Z
LAST-MODIFIED:20220701T172333Z
UID:17944-1654351200-1654376400@goldranchdayton.com
SUMMARY:Summer BBQ Platter
DESCRIPTION:Summer barbecues are the best. Now on Saturdays\, we will do the grilling for you. Enjoy a barbecue platter of chicken\, corn\, baked beans\, and potato salad for just $14.99 from 2pm to close. Sounds delish!
URL:https://goldranchdayton.com/event/summer-bbq-platter/
CATEGORIES:Dining,Featured
ATTACH;FMTTYPE=image/jpeg:https://goldranchdayton.com/wp-content/uploads/2022/06/2022-GRD-SUMMER-BBQ-PLATTER-600x402-1.jpg
END:VEVENT
BEGIN:VEVENT
DTSTART;TZID=America/Los_Angeles:20210903T140000
DTEND;TZID=America/Los_Angeles:20210903T210000
DTSTAMP:20260425T053904
CREATED:20210827T192805Z
LAST-MODIFIED:20220930T211214Z
UID:16210-1630677600-1630702800@goldranchdayton.com
SUMMARY:Friday Dinner Special
DESCRIPTION:Fridays from 2pm to close. Prime Rib Dinner served with Chef’s vegetables and your choice of potato. $15.99
URL:https://goldranchdayton.com/event/prime-rib-dinner/
CATEGORIES:Dining,Featured
ATTACH;FMTTYPE=image/jpeg:https://goldranchdayton.com/wp-content/uploads/2021/08/2021-SEPT-GRD-PRIME-RIB-600X402.jpg
END:VEVENT
BEGIN:VEVENT
DTSTART;TZID=America/Los_Angeles:20220604T140000
DTEND;TZID=America/Los_Angeles:20220604T210000
DTSTAMP:20260425T053904
CREATED:20220601T234851Z
LAST-MODIFIED:20220701T172333Z
UID:17944-1654351200-1654376400@goldranchdayton.com
SUMMARY:Summer BBQ Platter
DESCRIPTION:Summer barbecues are the best. Now on Saturdays\, we will do the grilling for you. Enjoy a barbecue platter of chicken\, corn\, baked beans\, and potato salad for just $14.99 from 2pm to close. Sounds delish!
URL:https://goldranchdayton.com/event/summer-bbq-platter/
CATEGORIES:Dining,Featured
ATTACH;FMTTYPE=image/jpeg:https://goldranchdayton.com/wp-content/uploads/2022/06/2022-GRD-SUMMER-BBQ-PLATTER-600x402-1.jpg
END:VEVENT
BEGIN:VEVENT
DTSTART;TZID=America/Los_Angeles:20220619T110000
DTEND;TZID=America/Los_Angeles:20220619T210000
DTSTAMP:20260425T053904
CREATED:20220601T234646Z
LAST-MODIFIED:20220601T234924Z
UID:17941-1655636400-1655672400@goldranchdayton.com
SUMMARY:Father's Day BBQ Pulled Pork Sandwich
DESCRIPTION:On Father’s Day\, treat you and your dad to our BBQ pulled pork sandwich piled high with cole slaw and topped with crispy onions served with French fries for only $11.99.
URL:https://goldranchdayton.com/event/fathers-day-bbq-pulled-pork-sandwich/
CATEGORIES:Dining,Featured
ATTACH;FMTTYPE=image/jpeg:https://goldranchdayton.com/wp-content/uploads/2022/06/2022-JUN-GRD-DADS-DAY-FOOD-600x402-1.jpg
END:VEVENT
BEGIN:VEVENT
DTSTART;TZID=America/Los_Angeles:20210903T140000
DTEND;TZID=America/Los_Angeles:20210903T210000
DTSTAMP:20260425T053904
CREATED:20210827T192805Z
LAST-MODIFIED:20220930T211214Z
UID:16210-1630677600-1630702800@goldranchdayton.com
SUMMARY:Friday Dinner Special
DESCRIPTION:Fridays from 2pm to close. Prime Rib Dinner served with Chef’s vegetables and your choice of potato. $15.99
URL:https://goldranchdayton.com/event/prime-rib-dinner/
CATEGORIES:Dining,Featured
ATTACH;FMTTYPE=image/jpeg:https://goldranchdayton.com/wp-content/uploads/2021/08/2021-SEPT-GRD-PRIME-RIB-600X402.jpg
END:VEVENT
BEGIN:VEVENT
DTSTART;TZID=America/Los_Angeles:20220604T140000
DTEND;TZID=America/Los_Angeles:20220604T210000
DTSTAMP:20260425T053904
CREATED:20220601T234851Z
LAST-MODIFIED:20220701T172333Z
UID:17944-1654351200-1654376400@goldranchdayton.com
SUMMARY:Summer BBQ Platter
DESCRIPTION:Summer barbecues are the best. Now on Saturdays\, we will do the grilling for you. Enjoy a barbecue platter of chicken\, corn\, baked beans\, and potato salad for just $14.99 from 2pm to close. Sounds delish!
URL:https://goldranchdayton.com/event/summer-bbq-platter/
CATEGORIES:Dining,Featured
ATTACH;FMTTYPE=image/jpeg:https://goldranchdayton.com/wp-content/uploads/2022/06/2022-GRD-SUMMER-BBQ-PLATTER-600x402-1.jpg
END:VEVENT
END:VCALENDAR