BEGIN:VCALENDAR
VERSION:2.0
PRODID:-//Gold Ranch Casino Dayton - ECPv6.15.18//NONSGML v1.0//EN
CALSCALE:GREGORIAN
METHOD:PUBLISH
X-ORIGINAL-URL:https://goldranchdayton.com
X-WR-CALDESC:Events for Gold Ranch Casino Dayton
REFRESH-INTERVAL;VALUE=DURATION:PT1H
X-Robots-Tag:noindex
X-PUBLISHED-TTL:PT1H
BEGIN:VTIMEZONE
TZID:America/Los_Angeles
BEGIN:DAYLIGHT
TZOFFSETFROM:-0800
TZOFFSETTO:-0700
TZNAME:PDT
DTSTART:20200308T100000
END:DAYLIGHT
BEGIN:STANDARD
TZOFFSETFROM:-0700
TZOFFSETTO:-0800
TZNAME:PST
DTSTART:20201101T090000
END:STANDARD
BEGIN:DAYLIGHT
TZOFFSETFROM:-0800
TZOFFSETTO:-0700
TZNAME:PDT
DTSTART:20210314T100000
END:DAYLIGHT
BEGIN:STANDARD
TZOFFSETFROM:-0700
TZOFFSETTO:-0800
TZNAME:PST
DTSTART:20211107T090000
END:STANDARD
BEGIN:DAYLIGHT
TZOFFSETFROM:-0800
TZOFFSETTO:-0700
TZNAME:PDT
DTSTART:20220313T100000
END:DAYLIGHT
BEGIN:STANDARD
TZOFFSETFROM:-0700
TZOFFSETTO:-0800
TZNAME:PST
DTSTART:20221106T090000
END:STANDARD
BEGIN:DAYLIGHT
TZOFFSETFROM:-0800
TZOFFSETTO:-0700
TZNAME:PDT
DTSTART:20230312T100000
END:DAYLIGHT
BEGIN:STANDARD
TZOFFSETFROM:-0700
TZOFFSETTO:-0800
TZNAME:PST
DTSTART:20231105T090000
END:STANDARD
END:VTIMEZONE
BEGIN:VEVENT
DTSTART;TZID=America/Los_Angeles:20210903T140000
DTEND;TZID=America/Los_Angeles:20210903T210000
DTSTAMP:20260425T073810
CREATED:20210827T192805Z
LAST-MODIFIED:20220930T211214Z
UID:16210-1630677600-1630702800@goldranchdayton.com
SUMMARY:Friday Dinner Special
DESCRIPTION:Fridays from 2pm to close. Prime Rib Dinner served with Chef’s vegetables and your choice of potato. $15.99
URL:https://goldranchdayton.com/event/prime-rib-dinner/
CATEGORIES:Dining,Featured
ATTACH;FMTTYPE=image/jpeg:https://goldranchdayton.com/wp-content/uploads/2021/08/2021-SEPT-GRD-PRIME-RIB-600X402.jpg
END:VEVENT
BEGIN:VEVENT
DTSTART;TZID=America/Los_Angeles:20220402T140000
DTEND;TZID=America/Los_Angeles:20220402T210000
DTSTAMP:20260425T073810
CREATED:20220330T162858Z
LAST-MODIFIED:20220330T163211Z
UID:17616-1648908000-1648933200@goldranchdayton.com
SUMMARY:Manicotti
DESCRIPTION:Saturdays\, 2pm to Close.  Enjoy some cheese stuffed manicotti with red sauce.  Served with your choice of soup or salad and garlic bread.  All for $13.99.
URL:https://goldranchdayton.com/event/17616/
CATEGORIES:Dining,Featured
ATTACH;FMTTYPE=image/jpeg:https://goldranchdayton.com/wp-content/uploads/2022/03/2022-APR-GRD-MANICOTTI-600x402-1.jpg
END:VEVENT
BEGIN:VEVENT
DTSTART;TZID=America/Los_Angeles:20220508T080000
DTEND;TZID=America/Los_Angeles:20220508T140000
DTSTAMP:20260425T073810
CREATED:20220430T044639Z
LAST-MODIFIED:20220507T195612Z
UID:17674-1651996800-1652018400@goldranchdayton.com
SUMMARY:Mother's Day Breakfast Special
DESCRIPTION:
URL:https://goldranchdayton.com/event/mothers-day-breakfast-special/
CATEGORIES:Dining,Featured
ATTACH;FMTTYPE=image/jpeg:https://goldranchdayton.com/wp-content/uploads/2022/04/2022-MAY-GRD-MOMS-DAY-FOOD-600x402-1.jpg
END:VEVENT
BEGIN:VEVENT
DTSTART;TZID=America/Los_Angeles:20210903T140000
DTEND;TZID=America/Los_Angeles:20210903T210000
DTSTAMP:20260425T073810
CREATED:20210827T192805Z
LAST-MODIFIED:20220930T211214Z
UID:16210-1630677600-1630702800@goldranchdayton.com
SUMMARY:Friday Dinner Special
DESCRIPTION:Fridays from 2pm to close. Prime Rib Dinner served with Chef’s vegetables and your choice of potato. $15.99
URL:https://goldranchdayton.com/event/prime-rib-dinner/
CATEGORIES:Dining,Featured
ATTACH;FMTTYPE=image/jpeg:https://goldranchdayton.com/wp-content/uploads/2021/08/2021-SEPT-GRD-PRIME-RIB-600X402.jpg
END:VEVENT
BEGIN:VEVENT
DTSTART;TZID=America/Los_Angeles:20220402T140000
DTEND;TZID=America/Los_Angeles:20220402T210000
DTSTAMP:20260425T073810
CREATED:20220330T162858Z
LAST-MODIFIED:20220330T163211Z
UID:17616-1648908000-1648933200@goldranchdayton.com
SUMMARY:Manicotti
DESCRIPTION:Saturdays\, 2pm to Close.  Enjoy some cheese stuffed manicotti with red sauce.  Served with your choice of soup or salad and garlic bread.  All for $13.99.
URL:https://goldranchdayton.com/event/17616/
CATEGORIES:Dining,Featured
ATTACH;FMTTYPE=image/jpeg:https://goldranchdayton.com/wp-content/uploads/2022/03/2022-APR-GRD-MANICOTTI-600x402-1.jpg
END:VEVENT
BEGIN:VEVENT
DTSTART;TZID=America/Los_Angeles:20210903T140000
DTEND;TZID=America/Los_Angeles:20210903T210000
DTSTAMP:20260425T073810
CREATED:20210827T192805Z
LAST-MODIFIED:20220930T211214Z
UID:16210-1630677600-1630702800@goldranchdayton.com
SUMMARY:Friday Dinner Special
DESCRIPTION:Fridays from 2pm to close. Prime Rib Dinner served with Chef’s vegetables and your choice of potato. $15.99
URL:https://goldranchdayton.com/event/prime-rib-dinner/
CATEGORIES:Dining,Featured
ATTACH;FMTTYPE=image/jpeg:https://goldranchdayton.com/wp-content/uploads/2021/08/2021-SEPT-GRD-PRIME-RIB-600X402.jpg
END:VEVENT
BEGIN:VEVENT
DTSTART;TZID=America/Los_Angeles:20220402T140000
DTEND;TZID=America/Los_Angeles:20220402T210000
DTSTAMP:20260425T073810
CREATED:20220330T162858Z
LAST-MODIFIED:20220330T163211Z
UID:17616-1648908000-1648933200@goldranchdayton.com
SUMMARY:Manicotti
DESCRIPTION:Saturdays\, 2pm to Close.  Enjoy some cheese stuffed manicotti with red sauce.  Served with your choice of soup or salad and garlic bread.  All for $13.99.
URL:https://goldranchdayton.com/event/17616/
CATEGORIES:Dining,Featured
ATTACH;FMTTYPE=image/jpeg:https://goldranchdayton.com/wp-content/uploads/2022/03/2022-APR-GRD-MANICOTTI-600x402-1.jpg
END:VEVENT
BEGIN:VEVENT
DTSTART;TZID=America/Los_Angeles:20210903T140000
DTEND;TZID=America/Los_Angeles:20210903T210000
DTSTAMP:20260425T073810
CREATED:20210827T192805Z
LAST-MODIFIED:20220930T211214Z
UID:16210-1630677600-1630702800@goldranchdayton.com
SUMMARY:Friday Dinner Special
DESCRIPTION:Fridays from 2pm to close. Prime Rib Dinner served with Chef’s vegetables and your choice of potato. $15.99
URL:https://goldranchdayton.com/event/prime-rib-dinner/
CATEGORIES:Dining,Featured
ATTACH;FMTTYPE=image/jpeg:https://goldranchdayton.com/wp-content/uploads/2021/08/2021-SEPT-GRD-PRIME-RIB-600X402.jpg
END:VEVENT
BEGIN:VEVENT
DTSTART;TZID=America/Los_Angeles:20220528T110000
DTEND;TZID=America/Los_Angeles:20220528T210000
DTSTAMP:20260425T073810
CREATED:20220430T044938Z
LAST-MODIFIED:20220430T050321Z
UID:17676-1653735600-1653771600@goldranchdayton.com
SUMMARY:Memorial Weekend Western Burger
DESCRIPTION:
URL:https://goldranchdayton.com/event/memorial-weekend-western-burger/
CATEGORIES:Dining,Featured
ATTACH;FMTTYPE=image/jpeg:https://goldranchdayton.com/wp-content/uploads/2022/04/2022-MAY-GRD-MEMORIAL-DAY-FOOD-600x402-1.jpg
END:VEVENT
BEGIN:VEVENT
DTSTART;TZID=America/Los_Angeles:20220528T110000
DTEND;TZID=America/Los_Angeles:20220528T210000
DTSTAMP:20260425T073810
CREATED:20220430T044938Z
LAST-MODIFIED:20220430T050321Z
UID:17676-1653735600-1653771600@goldranchdayton.com
SUMMARY:Memorial Weekend Western Burger
DESCRIPTION:
URL:https://goldranchdayton.com/event/memorial-weekend-western-burger/
CATEGORIES:Dining,Featured
ATTACH;FMTTYPE=image/jpeg:https://goldranchdayton.com/wp-content/uploads/2022/04/2022-MAY-GRD-MEMORIAL-DAY-FOOD-600x402-1.jpg
END:VEVENT
BEGIN:VEVENT
DTSTART;TZID=America/Los_Angeles:20220528T110000
DTEND;TZID=America/Los_Angeles:20220528T210000
DTSTAMP:20260425T073810
CREATED:20220430T044938Z
LAST-MODIFIED:20220430T050321Z
UID:17676-1653735600-1653771600@goldranchdayton.com
SUMMARY:Memorial Weekend Western Burger
DESCRIPTION:
URL:https://goldranchdayton.com/event/memorial-weekend-western-burger/
CATEGORIES:Dining,Featured
ATTACH;FMTTYPE=image/jpeg:https://goldranchdayton.com/wp-content/uploads/2022/04/2022-MAY-GRD-MEMORIAL-DAY-FOOD-600x402-1.jpg
END:VEVENT
END:VCALENDAR