BEGIN:VCALENDAR
VERSION:2.0
PRODID:-//Gold Ranch Casino Dayton - ECPv6.15.18//NONSGML v1.0//EN
CALSCALE:GREGORIAN
METHOD:PUBLISH
X-WR-CALNAME:Gold Ranch Casino Dayton
X-ORIGINAL-URL:https://goldranchdayton.com
X-WR-CALDESC:Events for Gold Ranch Casino Dayton
REFRESH-INTERVAL;VALUE=DURATION:PT1H
X-Robots-Tag:noindex
X-PUBLISHED-TTL:PT1H
BEGIN:VTIMEZONE
TZID:America/Los_Angeles
BEGIN:DAYLIGHT
TZOFFSETFROM:-0800
TZOFFSETTO:-0700
TZNAME:PDT
DTSTART:20200308T100000
END:DAYLIGHT
BEGIN:STANDARD
TZOFFSETFROM:-0700
TZOFFSETTO:-0800
TZNAME:PST
DTSTART:20201101T090000
END:STANDARD
BEGIN:DAYLIGHT
TZOFFSETFROM:-0800
TZOFFSETTO:-0700
TZNAME:PDT
DTSTART:20210314T100000
END:DAYLIGHT
BEGIN:STANDARD
TZOFFSETFROM:-0700
TZOFFSETTO:-0800
TZNAME:PST
DTSTART:20211107T090000
END:STANDARD
BEGIN:DAYLIGHT
TZOFFSETFROM:-0800
TZOFFSETTO:-0700
TZNAME:PDT
DTSTART:20220313T100000
END:DAYLIGHT
BEGIN:STANDARD
TZOFFSETFROM:-0700
TZOFFSETTO:-0800
TZNAME:PST
DTSTART:20221106T090000
END:STANDARD
END:VTIMEZONE
BEGIN:VEVENT
DTSTART;TZID=America/Los_Angeles:20210703T110000
DTEND;TZID=America/Los_Angeles:20210703T210000
DTSTAMP:20260425T182113
CREATED:20210625T201914Z
LAST-MODIFIED:20210625T201914Z
UID:15954-1625310000-1625346000@goldranchdayton.com
SUMMARY:Western Roast Beef Sandwich
DESCRIPTION:Gold Ranch guests- Did you know we are having a 4th of July celebration and we want you to come. We’re going to be serving a Western roast beef sandwich served on a bun for only $8.99! The drinks are already chilled so all we need is you to get this party started!
URL:https://goldranchdayton.com/event/western-roast-beef-sandwich/
CATEGORIES:Dining,Featured
ATTACH;FMTTYPE=image/png:https://goldranchdayton.com/wp-content/uploads/2021/06/2021JUL-GRD-ROAST-BEEF-600x402-1.png
END:VEVENT
BEGIN:VEVENT
DTSTART;TZID=America/Los_Angeles:20210703T110000
DTEND;TZID=America/Los_Angeles:20210703T210000
DTSTAMP:20260425T182113
CREATED:20210625T201914Z
LAST-MODIFIED:20210625T201914Z
UID:15954-1625310000-1625346000@goldranchdayton.com
SUMMARY:Western Roast Beef Sandwich
DESCRIPTION:Gold Ranch guests- Did you know we are having a 4th of July celebration and we want you to come. We’re going to be serving a Western roast beef sandwich served on a bun for only $8.99! The drinks are already chilled so all we need is you to get this party started!
URL:https://goldranchdayton.com/event/western-roast-beef-sandwich/
CATEGORIES:Dining,Featured
ATTACH;FMTTYPE=image/png:https://goldranchdayton.com/wp-content/uploads/2021/06/2021JUL-GRD-ROAST-BEEF-600x402-1.png
END:VEVENT
END:VCALENDAR