BEGIN:VCALENDAR
VERSION:2.0
PRODID:-//Gold Ranch Casino Dayton - ECPv6.15.18//NONSGML v1.0//EN
CALSCALE:GREGORIAN
METHOD:PUBLISH
X-ORIGINAL-URL:https://goldranchdayton.com
X-WR-CALDESC:Events for Gold Ranch Casino Dayton
REFRESH-INTERVAL;VALUE=DURATION:PT1H
X-Robots-Tag:noindex
X-PUBLISHED-TTL:PT1H
BEGIN:VTIMEZONE
TZID:America/Los_Angeles
BEGIN:DAYLIGHT
TZOFFSETFROM:-0800
TZOFFSETTO:-0700
TZNAME:PDT
DTSTART:20200308T100000
END:DAYLIGHT
BEGIN:STANDARD
TZOFFSETFROM:-0700
TZOFFSETTO:-0800
TZNAME:PST
DTSTART:20201101T090000
END:STANDARD
BEGIN:DAYLIGHT
TZOFFSETFROM:-0800
TZOFFSETTO:-0700
TZNAME:PDT
DTSTART:20210314T100000
END:DAYLIGHT
BEGIN:STANDARD
TZOFFSETFROM:-0700
TZOFFSETTO:-0800
TZNAME:PST
DTSTART:20211107T090000
END:STANDARD
BEGIN:DAYLIGHT
TZOFFSETFROM:-0800
TZOFFSETTO:-0700
TZNAME:PDT
DTSTART:20220313T100000
END:DAYLIGHT
BEGIN:STANDARD
TZOFFSETFROM:-0700
TZOFFSETTO:-0800
TZNAME:PST
DTSTART:20221106T090000
END:STANDARD
END:VTIMEZONE
BEGIN:VEVENT
DTSTART;TZID=America/Los_Angeles:20210509T080000
DTEND;TZID=America/Los_Angeles:20210509T150000
DTSTAMP:20260425T212100
CREATED:20210501T230127Z
LAST-MODIFIED:20210505T233227Z
UID:15423-1620547200-1620572400@goldranchdayton.com
SUMMARY:Mother's Day Eggs Benedict
DESCRIPTION:Calling all Mom’s .. okay\, Dad’s too! On Mother’s Day\, May 9th\, join us for a special breakfast of Eggs Benedict for only $7.99 from 8am to 3pm.
URL:https://goldranchdayton.com/event/mothers-day-eggs-benedict/
CATEGORIES:Dining,Featured
ATTACH;FMTTYPE=image/jpeg:https://goldranchdayton.com/wp-content/uploads/2021/05/2021-MAY-GRD-MOTHERS-DAY-FOOD-600x402-1.jpg
END:VEVENT
BEGIN:VEVENT
DTSTART;TZID=America/Los_Angeles:20210529T110000
DTEND;TZID=America/Los_Angeles:20210529T210000
DTSTAMP:20260425T212100
CREATED:20210501T230334Z
LAST-MODIFIED:20210501T230334Z
UID:15425-1622286000-1622322000@goldranchdayton.com
SUMMARY:Bourbon Bacon Burger
DESCRIPTION:May 29-31 $7.99 Bourbon Bacon Burger with fries. Add a draft beer for $2! \n 
URL:https://goldranchdayton.com/event/bourbon-bacon-burger/
CATEGORIES:Dining,Featured
ATTACH;FMTTYPE=image/jpeg:https://goldranchdayton.com/wp-content/uploads/2021/05/2021-MAY-GRD-BOURBON-BACON-600x402-1.jpg
END:VEVENT
BEGIN:VEVENT
DTSTART;TZID=America/Los_Angeles:20210529T110000
DTEND;TZID=America/Los_Angeles:20210529T210000
DTSTAMP:20260425T212100
CREATED:20210501T230334Z
LAST-MODIFIED:20210501T230334Z
UID:15425-1622286000-1622322000@goldranchdayton.com
SUMMARY:Bourbon Bacon Burger
DESCRIPTION:May 29-31 $7.99 Bourbon Bacon Burger with fries. Add a draft beer for $2! \n 
URL:https://goldranchdayton.com/event/bourbon-bacon-burger/
CATEGORIES:Dining,Featured
ATTACH;FMTTYPE=image/jpeg:https://goldranchdayton.com/wp-content/uploads/2021/05/2021-MAY-GRD-BOURBON-BACON-600x402-1.jpg
END:VEVENT
BEGIN:VEVENT
DTSTART;TZID=America/Los_Angeles:20210529T110000
DTEND;TZID=America/Los_Angeles:20210529T210000
DTSTAMP:20260425T212100
CREATED:20210501T230334Z
LAST-MODIFIED:20210501T230334Z
UID:15425-1622286000-1622322000@goldranchdayton.com
SUMMARY:Bourbon Bacon Burger
DESCRIPTION:May 29-31 $7.99 Bourbon Bacon Burger with fries. Add a draft beer for $2! \n 
URL:https://goldranchdayton.com/event/bourbon-bacon-burger/
CATEGORIES:Dining,Featured
ATTACH;FMTTYPE=image/jpeg:https://goldranchdayton.com/wp-content/uploads/2021/05/2021-MAY-GRD-BOURBON-BACON-600x402-1.jpg
END:VEVENT
END:VCALENDAR